BEGIN:VCALENDAR
VERSION:2.0
PRODID:-//VMBA - ECPv6.15.17.1//NONSGML v1.0//EN
CALSCALE:GREGORIAN
METHOD:PUBLISH
X-WR-CALNAME:VMBA
X-ORIGINAL-URL:https://vmba.org
X-WR-CALDESC:Events for VMBA
REFRESH-INTERVAL;VALUE=DURATION:PT1H
X-Robots-Tag:noindex
X-PUBLISHED-TTL:PT1H
BEGIN:VTIMEZONE
TZID:America/New_York
BEGIN:DAYLIGHT
TZOFFSETFROM:-0500
TZOFFSETTO:-0400
TZNAME:EDT
DTSTART:20250309T070000
END:DAYLIGHT
BEGIN:STANDARD
TZOFFSETFROM:-0400
TZOFFSETTO:-0500
TZNAME:EST
DTSTART:20251102T060000
END:STANDARD
BEGIN:DAYLIGHT
TZOFFSETFROM:-0500
TZOFFSETTO:-0400
TZNAME:EDT
DTSTART:20260308T070000
END:DAYLIGHT
BEGIN:STANDARD
TZOFFSETFROM:-0400
TZOFFSETTO:-0500
TZNAME:EST
DTSTART:20261101T060000
END:STANDARD
BEGIN:DAYLIGHT
TZOFFSETFROM:-0500
TZOFFSETTO:-0400
TZNAME:EDT
DTSTART:20270314T070000
END:DAYLIGHT
BEGIN:STANDARD
TZOFFSETFROM:-0400
TZOFFSETTO:-0500
TZNAME:EST
DTSTART:20271107T060000
END:STANDARD
END:VTIMEZONE
BEGIN:VEVENT
DTSTART;TZID=America/New_York:20260421T173000
DTEND;TZID=America/New_York:20260421T203000
DTSTAMP:20260420T083721
CREATED:20260410T131534Z
LAST-MODIFIED:20260410T131534Z
UID:156362-1776792600-1776803400@vmba.org
SUMMARY:FOTW 25 Year Anniversary Kickoff Party
DESCRIPTION:We are hosting our kickoff party on Tuesday April 21st 5:30-8:30pm with our long time partner\, Switchback Brewing in Burlington. \nWe are putting together all sorts of old memorabilia\, maps\, history and stories. We have so much to highlight from the past 25 years and some exciting projects on the horizon to welcome the next 25 years. \nCome join us old friends and make new friends.
URL:https://vmba.org/event/fotw-25-year-anniversary-kickoff-party/
LOCATION:Switchback Brewing Company
CATEGORIES:Festivals/Parties
ATTACH;FMTTYPE=image/png:https://vmba.org/wp-content/uploads/2026/04/2026FOTWSeasonKickOff1-1.png
ORGANIZER;CN="Fellowship Of the Wheel":MAILTO:info@fotwheel.org
END:VEVENT
BEGIN:VEVENT
DTSTART;TZID=America/New_York:20260425T090000
DTEND;TZID=America/New_York:20260425T120000
DTSTAMP:20260420T083721
CREATED:20260410T181622Z
LAST-MODIFIED:20260410T181622Z
UID:156414-1777107600-1777118400@vmba.org
SUMMARY:WAMBA - Mt Peg Pre Season Work
DESCRIPTION:Before we spend our weekends shredding loam\, let’s spend some time building and benching it! We need a hearty crew to join us in Knox Meadow as we do some work on the trails on the south side of the network – we’ll be benching and berming to finalize some adaptive-ready upgrades. \nNo experience or RSVP necessary. You supply the muscle\, we’ll supply the tools! The more volunteers we get\, the more we’ll accomplish and the faster we’ll get done. \nHope to see you there!
URL:https://vmba.org/event/wamba-mt-peg-pre-season-work/
LOCATION:Mt. Peg
END:VEVENT
BEGIN:VEVENT
DTSTART;TZID=America/New_York:20260426T090000
DTEND;TZID=America/New_York:20260426T160000
DTSTAMP:20260420T083721
CREATED:20260401T182904Z
LAST-MODIFIED:20260401T182904Z
UID:156101-1777194000-1777219200@vmba.org
SUMMARY:BRMBC Trail Day
DESCRIPTION:
URL:https://vmba.org/event/brmbc-trail-day-11/
END:VEVENT
BEGIN:VEVENT
DTSTART;TZID=America/New_York:20260426T150000
DTEND;TZID=America/New_York:20260426T210000
DTSTAMP:20260420T083721
CREATED:20260410T181743Z
LAST-MODIFIED:20260410T181743Z
UID:156416-1777215600-1777237200@vmba.org
SUMMARY:WAMBA MTB Season Celebration
DESCRIPTION:Our partners at Ranch Camp are hosting an ‘unofficial’ launch of MTB Season! RC and WAMBA will host a group ride and then head back to the restaurant for some food\, fun\, and libations. Lawson’s will be on site to share some of their FINEST beverages! \nMore to come on this free community event\, but keep your calendar clear. \n\n\n\n\n\n\n\n\nView Event →
URL:https://vmba.org/event/wamba-mtb-season-celebration/
LOCATION:Ranch Camp Woodstock\, 431 Woodstock Rd\, Woodstock\, VT\, 05091\, United States
END:VEVENT
BEGIN:VEVENT
DTSTART;TZID=America/New_York:20260428T160000
DTEND;TZID=America/New_York:20260428T200000
DTSTAMP:20260420T083721
CREATED:20260401T182512Z
LAST-MODIFIED:20260401T182512Z
UID:156096-1777392000-1777406400@vmba.org
SUMMARY:2026 Bike & Gear Repair Series
DESCRIPTION:Join some of Burlington’s favorite organizations at Zero Gravity for a fun\, FREE\, hands-on\, community powered Bike & Gear Repair Series on the following dates: \n\nTuesday\, April 28th from 4-8pm\nWednesday\, May 20th from 4-8pm\nThursday\, June 18th from 4-8pm\n\n\nGot a bike that needs some love? A jacket with a battle scar? A pack that’s held together by hope and one good strap… We’re here to help you fix it! \nIn a world that’s quick to throw things away\, choosing to repair is a small act with a real impact. Every stitch\, patch\, and tune-up keeps good gear out of the landfill and removes it from the endless cycle of replacement. Rather than extracting additional resources to make something new\, let’s focus on extracting as much life as possible from what we already have! \nSo\, clear your schedule\, round up your broken stuff\, and meet us at Zero Gravity on Tuesday\, April 28th\, Wednesday\, May 20th\, and Thursday\, June 18th!
URL:https://vmba.org/event/2026-bike-gear-repair-series/
LOCATION:Zero Gravity\, 716 Pine St\, Burlington\, VT\, 05401\, United States
END:VEVENT
BEGIN:VEVENT
DTSTART;TZID=America/New_York:20260428T183000
DTEND;TZID=America/New_York:20260428T200000
DTSTAMP:20260420T083721
CREATED:20260410T190312Z
LAST-MODIFIED:20260410T190312Z
UID:156436-1777401000-1777406400@vmba.org
SUMMARY:Best Day Ever Screening & Discussion - Woodstock
DESCRIPTION:🚲Best Day Ever follows adaptive mountain bikers Greg Durso and Allie Bianchi as they tackle the daily challenges of disability — and find joy\, connection\, and belonging in Vermont’s mountain biking community. The film documents the completion of the Driving Range\, now a fully adaptive trail network in Richmond. Set in the Green Mountains\, this is a story of grit\, independence\, and what’s possible when community and creativity come together. \n🌎This award winning documentary is being honored at festivals around the world – and it’s made right here in Vermont. Come see this powerful film in its home state and chat with filmmaker Berne Broudy. \n📽️Click here to watch a preview of the film. \n🙏This film tour is made possible with support from Vermont Adaptive Ski & Sports\, Local QRamp dealer VT Marine\, and Craftsbury Outdoor Center. \n  \n💰Ticket sales support Vermont Public and VMBA’s funding of adaptive riding in Vermont.
URL:https://vmba.org/event/best-day-ever-screening-discussion-woodstock/
LOCATION:Billings Farm\, 69 Old River Road\, Woodstock\, VT\, 05091\, United States
END:VEVENT
BEGIN:VEVENT
DTSTART;TZID=America/New_York:20260429T173000
DTEND;TZID=America/New_York:20260429T193000
DTSTAMP:20260420T083721
CREATED:20260410T190917Z
LAST-MODIFIED:20260410T190917Z
UID:156442-1777483800-1777491000@vmba.org
SUMMARY:NATS - Spring Kickoff
DESCRIPTION:
URL:https://vmba.org/event/nats-spring-kickoff/
LOCATION:Lost Maple Brewing\, Manchester
END:VEVENT
BEGIN:VEVENT
DTSTART;TZID=America/New_York:20260429T180000
DTEND;TZID=America/New_York:20260429T200000
DTSTAMP:20260420T083721
CREATED:20260410T183453Z
LAST-MODIFIED:20260410T183453Z
UID:156428-1777485600-1777492800@vmba.org
SUMMARY:STP - Season Kick-Off Party
DESCRIPTION:Join us on April 29th at The Alchemist Brewery to celebrate the start of warm-weather riding season! Make sure you have your STP membership prior to the event\, or stop over and see our friends from VMBA to grab your membership for access to complimentary beer from our gracious hosts! \nGrab a new season of STP schwag and don’t forget to enter to win in our raffle! We’ll make some amazing prizes you DON’T want to miss!
URL:https://vmba.org/event/stp-season-kick-off-party/
LOCATION:The Alchemist\, 100 Cottage Club Road\, Stowe\, VT\, 05672\, United States
END:VEVENT
END:VCALENDAR