BEGIN:VCALENDAR
VERSION:2.0
PRODID:-//VMBA - ECPv6.15.17.1//NONSGML v1.0//EN
CALSCALE:GREGORIAN
METHOD:PUBLISH
X-ORIGINAL-URL:https://vmba.org
X-WR-CALDESC:Events for VMBA
REFRESH-INTERVAL;VALUE=DURATION:PT1H
X-Robots-Tag:noindex
X-PUBLISHED-TTL:PT1H
BEGIN:VTIMEZONE
TZID:America/New_York
BEGIN:DAYLIGHT
TZOFFSETFROM:-0500
TZOFFSETTO:-0400
TZNAME:EDT
DTSTART:20230312T070000
END:DAYLIGHT
BEGIN:STANDARD
TZOFFSETFROM:-0400
TZOFFSETTO:-0500
TZNAME:EST
DTSTART:20231105T060000
END:STANDARD
BEGIN:DAYLIGHT
TZOFFSETFROM:-0500
TZOFFSETTO:-0400
TZNAME:EDT
DTSTART:20240310T070000
END:DAYLIGHT
BEGIN:STANDARD
TZOFFSETFROM:-0400
TZOFFSETTO:-0500
TZNAME:EST
DTSTART:20241103T060000
END:STANDARD
BEGIN:DAYLIGHT
TZOFFSETFROM:-0500
TZOFFSETTO:-0400
TZNAME:EDT
DTSTART:20250309T070000
END:DAYLIGHT
BEGIN:STANDARD
TZOFFSETFROM:-0400
TZOFFSETTO:-0500
TZNAME:EST
DTSTART:20251102T060000
END:STANDARD
END:VTIMEZONE
BEGIN:VEVENT
DTSTART;TZID=America/New_York:20241107T180000
DTEND;TZID=America/New_York:20241107T220000
DTSTAMP:20260419T131955
CREATED:20241031T135914Z
LAST-MODIFIED:20241031T135914Z
UID:144460-1731002400-1731016800@vmba.org
SUMMARY:Vermont Backcountry Forum
DESCRIPTION:VMBA Chapter Ridgeline Outdoor Collective is also a Chapter of Catamount Trail Association. \nJoin Ridgeline for the 11th Annual Vermont Backcountry Forum and Screening of Winter Wildlands Alliance Backcountry Film Festival. \nThis year\, in collaboration with the Catamount Trail Association\, we are excited to\nhost a FREE screening of the Winter Wildlands Alliance Backcountry Film Festival! \nWe’ll be kicking things off with a potluck\, beverages available from Red Clover Ale Co.\,\nand displays from various chapters\, partners\, and vendors in the BC community.\nThe WWA Film Screening will be split into 2 reels with our Raffle Drawing sandwiched in between! \n\n  \n6:00PM – DOORS OPEN\, RED CLOVER ALE CO.\, POTLUCK\, EXHIBITS\n7:00PM – WINTER WILDLANDS BACKCOUNTRY FILM SCREENING (REEL 1)\n8:00PM – INTERMISSION\, RAFFLE DRAWING\n8:45PM – WINTER WILDLANDS BACKCOUNTRY FILM SCREENING (REEL 2)
URL:https://vmba.org/event/vermont-backcountry-forum/
LOCATION:Pierce Hall Community Center\, Rochester\, Vermont
END:VEVENT
BEGIN:VEVENT
DTSTART;TZID=America/New_York:20241107T180000
DTEND;TZID=America/New_York:20241107T220000
DTSTAMP:20260419T131955
CREATED:20241101T134604Z
LAST-MODIFIED:20241101T134604Z
UID:144465-1731002400-1731016800@vmba.org
SUMMARY:Vermont Backcountry Forum
DESCRIPTION:Ridgeline Outdoor Collective 11th Annual Backcountry Forum featuring FREE showing of Winter Wildlands Alliance Film Festival\, potluck dinner\, beverages available from Red Clover Ale\, vendor and partner displays\, AND HUGE RAFFLE
URL:https://vmba.org/event/vermont-backcountry-forum-2/
LOCATION:Pierce Hall Community Center\, Rochester\, Vermont
CATEGORIES:Festivals/Parties
ATTACH;FMTTYPE=image/jpeg:https://vmba.org/wp-content/uploads/2024/11/2024_BC-Forum-Poster_WEB.jpg
END:VEVENT
BEGIN:VEVENT
DTSTART;TZID=America/New_York:20241108T200000
DTEND;TZID=America/New_York:20241108T230000
DTSTAMP:20260419T131955
CREATED:20241011T150254Z
LAST-MODIFIED:20241011T150254Z
UID:144387-1731096000-1731106800@vmba.org
SUMMARY:Green Mountain Showdown: Vermont’s bike culture film fest & variety show
DESCRIPTION:Mountain Bike Vermont presents the 12th Annual Green Mountain Showdown – Vermont’s bike culture film fest & variety show. \nMountain Bike Vermont (MTBVT.com) has announced its 12th annual Green Mountain Showdown event will be held Friday\, November 8th\, 2024\, at Spruce Peak Performing Arts Center in Stowe\, Vermont. Presented by Julbo and Zero Gravity\, the Green Mountain Showdown event will showcase locally produced MTB video shorts\, slideshows\, and spoken word pieces dedicated to all facets of mountain bike culture. Think Vermont farm to table… only trail to the big screen! \nThe GMS is a fundraiser with proceeds donated to the Vermont Mountain Bike Association (VMBA) via their trail grant program. New this year\, partial proceeds from the showdown will also be reserved and donated as Showdown Scholarships to VT media producers and riders in support of future MTB film projects! \n“Our goal is to elevate Vermont’s status as the heart of mountain biking in the Eastern US\,” says MTBVT founder Ryan Thibault. “The Showdown is a chance to celebrate our State’s love of cycling through the media makers\, filmers and riding talent. \nFor more information about Green Mountain Showdown\, contact Ryan Thibault: ryan@mtbvt.com \n\n  \nMountain Bike Vermont (MTBVT.com) is an online journal\, events promoter\, apparel company\, and rolling party starter. MTBVT’s dual initiative is documenting and promoting the Green Mountain State’s burgeoning cycling community. Visit MTBVT.com for info on our annual event series\, shop our online store\, and peruse new and archived articles. #MTBVT
URL:https://vmba.org/event/green-mountain-showdown-vermonts-bike-culture-film-fest-variety-show/
LOCATION:spruce peak\, 112 Hourglass Dr\, Stowe\, VT\, 05672\, United States
CATEGORIES:Festivals/Parties
ATTACH;FMTTYPE=image/jpeg:https://vmba.org/wp-content/uploads/2024/10/IMG_6232-scaled.jpeg
END:VEVENT
BEGIN:VEVENT
DTSTART;TZID=America/New_York:20241121T180000
DTEND;TZID=America/New_York:20241121T200000
DTSTAMP:20260419T131955
CREATED:20241106T163132Z
LAST-MODIFIED:20241106T163132Z
UID:144541-1732212000-1732219200@vmba.org
SUMMARY:Stowe Trails Partnership Annual Meeting
DESCRIPTION:Every year we host our Annual Meeting to let you know what we’ve been up to during the past year\, and what we have on deck for the coming 12 months. It’s the perfect opportunity to get into the nitty-gritty details about our organization\, how we operate\, our trail-building process\, and more. \nWhere: We are extremely grateful to Trapp Family Lodge for letting us use their space at the Bierhall for this event! \nWhen: Thursday\, November 21 from 6:00pm – 8:00pm \nThe plan for the evening: \n6:00pm: Social half-hour in the Bierhall\n6:30pm: Presentation about 2024 and what’s coming up in 2025\n7:15pm: More social time if you want it! \nWe will provide snacks for the event\, and hope to see you there!
URL:https://vmba.org/event/stowe-trails-partnership-annual-meeting-2/
LOCATION:von Trapp Brewinr Bierhall\, 1333 Luce Hill Rd\, Stowe\, Vermont\, 05672
CATEGORIES:Chapter Meetings
END:VEVENT
END:VCALENDAR