BEGIN:VCALENDAR
VERSION:2.0
PRODID:-//VMBA - ECPv6.15.17.1//NONSGML v1.0//EN
CALSCALE:GREGORIAN
METHOD:PUBLISH
X-ORIGINAL-URL:https://vmba.org
X-WR-CALDESC:Events for VMBA
REFRESH-INTERVAL;VALUE=DURATION:PT1H
X-Robots-Tag:noindex
X-PUBLISHED-TTL:PT1H
BEGIN:VTIMEZONE
TZID:America/New_York
BEGIN:DAYLIGHT
TZOFFSETFROM:-0500
TZOFFSETTO:-0400
TZNAME:EDT
DTSTART:20230312T070000
END:DAYLIGHT
BEGIN:STANDARD
TZOFFSETFROM:-0400
TZOFFSETTO:-0500
TZNAME:EST
DTSTART:20231105T060000
END:STANDARD
BEGIN:DAYLIGHT
TZOFFSETFROM:-0500
TZOFFSETTO:-0400
TZNAME:EDT
DTSTART:20240310T070000
END:DAYLIGHT
BEGIN:STANDARD
TZOFFSETFROM:-0400
TZOFFSETTO:-0500
TZNAME:EST
DTSTART:20241103T060000
END:STANDARD
BEGIN:DAYLIGHT
TZOFFSETFROM:-0500
TZOFFSETTO:-0400
TZNAME:EDT
DTSTART:20250309T070000
END:DAYLIGHT
BEGIN:STANDARD
TZOFFSETFROM:-0400
TZOFFSETTO:-0500
TZNAME:EST
DTSTART:20251102T060000
END:STANDARD
END:VTIMEZONE
BEGIN:VEVENT
DTSTART;TZID=America/New_York:20240802T180000
DTEND;TZID=America/New_York:20240802T200000
DTSTAMP:20260419T174839
CREATED:20240724T200245Z
LAST-MODIFIED:20240724T202309Z
UID:133919-1722621600-1722628800@vmba.org
SUMMARY:VMBA's Annual Fund Kick-Off Event
DESCRIPTION:Vermont Mountain Bike Association\, the state-wide mountain bike advocacy organization\, is excited to kick off our Annual Fund Fundraiser with you at Burlington Beer Company on Friday\, August 2nd! \nVMBA relies on funding from the mountain bike community to ensure we see a sustainable and resilient future for mountain biking in our brave little state. \nTo kick off this fundraiser\, we’re inviting you to join us at Burlington Beer Company for an evening to share what VMBA is working on\, revel in the successes of our amazing community\, celebrate with our new collab beer\, Trail Build Pilsner with BBCO\, and a silent auction featuring prizes from: \n\nConcept2\nThule\nMavic\nUpstate Elevator Supply Co.\nBivo x VMBA\nRim Saver\nCabot\nVelocio Apparel\nFive Ten\nSilky Saw\nVallée Bras Du Nord and Quebec De Velo Montagne\nand more!\n\nEntry is free\, though we appreciate any donation you want to make with your ticket\, just don’t forget to save some money to bid on the amazing prizes we have in our silent auction!
URL:https://vmba.org/event/vmbas-annual-fund-kick-off-event/
LOCATION:Burlington Beer Company\, 180 Flynn Ave\, Burlington\, VT\, 05401\, United States
CATEGORIES:Festivals/Parties
ATTACH;FMTTYPE=image/png:https://vmba.org/wp-content/uploads/2024/07/Annual-Fund-Kick-Off-Party.png
ORGANIZER;CN="Vermont Mountain Bike Association":MAILTO:Joe@vmba.org
END:VEVENT
BEGIN:VEVENT
DTSTART;VALUE=DATE:20240803
DTEND;VALUE=DATE:20240805
DTSTAMP:20260419T174839
CREATED:20240607T154621Z
LAST-MODIFIED:20240607T154621Z
UID:115693-1722643200-1722815999@vmba.org
SUMMARY:Highland MTB - Offsite Wildflower Inn
DESCRIPTION:CLINIC LOCATION: WILDFLOWER INN (KINGDOM TRAILS\, LYNDON\, VT)\nOur flagship clinic location is the Wildflower Inn in Lyndon\, VT\, located within the Kingdom Trails network. This picturesque property has a beautiful teaching space with world-class singletrack just a quick pedal away. You can take what you learn in our clinics and immediately apply it to your trail riding. This will make your new skills and techniques stick\, and help you see firsthand the transformation in your riding abilities. \n \nThe Saturday morning session will cover Pumping\, Cornering\, and Drops. Saturday afternoon is Intro to and Intermediate Jumping. The Jumping session will be repeated twice on Sunday. Enroll in the session(s) that best match your interests and schedule. \nThis camp/clinic is hosted on the Kingdom Trails (KT) network To participate\, you must purchase a KT Membership valid for the period that you plan to access the trails\, and sign the KT Waiver. We are grateful to the 105 landowners that allow KT trails on their properties so that we can offer these programs for you! \nBOOK ONLINE TODAY
URL:https://vmba.org/event/highland-mtb-offsite-wildflower-inn-2-2/
LOCATION:Wildflower Inn\, 2059 Darling Hill Rd.\, Lyndonville\, 05851\, United States
CATEGORIES:Clinics and Workshops
END:VEVENT
BEGIN:VEVENT
DTSTART;TZID=America/New_York:20240806T173000
DTEND;TZID=America/New_York:20240806T193000
DTSTAMP:20260419T174839
CREATED:20240523T153455Z
LAST-MODIFIED:20240523T153455Z
UID:109661-1722965400-1722972600@vmba.org
SUMMARY:RMT- Group Ride
DESCRIPTION:TBD\, check out https://www.richmondmountaintrails.org/events for more info.
URL:https://vmba.org/event/rmt-group-ride/
LOCATION:VT
CATEGORIES:Group Rides / Races
END:VEVENT
BEGIN:VEVENT
DTSTART;TZID=America/New_York:20240807T173000
DTEND;TZID=America/New_York:20240807T193000
DTSTAMP:20260419T174839
CREATED:20240604T173502Z
LAST-MODIFIED:20240614T195410Z
UID:114926-1723051800-1723059000@vmba.org
SUMMARY:FOTW Trail Clinic
DESCRIPTION:Make sure to check out  FOTWheel.Org and Fellowship of the Wheel Instagram for up to date info on the dig day and location. \nEmail Info@FOTwheel.org with any questions.
URL:https://vmba.org/event/fotw-dig-day-2-2-2-2-2/
LOCATION:VT
CATEGORIES:Trail Days
ORGANIZER;CN="Fellowship Of the Wheel":MAILTO:info@fotwheel.org
END:VEVENT
BEGIN:VEVENT
DTSTART;TZID=America/New_York:20240810T100000
DTEND;TZID=America/New_York:20240810T170000
DTSTAMP:20260419T174839
CREATED:20240418T122623Z
LAST-MODIFIED:20240418T122623Z
UID:98951-1723284000-1723309200@vmba.org
SUMMARY:BRMBC Tour De Valley Prep Trail Day
DESCRIPTION:
URL:https://vmba.org/event/brmbc-tour-de-valley-prep-trail-day/
LOCATION:VT
CATEGORIES:Trail Days
END:VEVENT
BEGIN:VEVENT
DTSTART;TZID=America/New_York:20240813T170000
DTEND;TZID=America/New_York:20240813T200000
DTSTAMP:20260419T174839
CREATED:20240809T204142Z
LAST-MODIFIED:20240809T204142Z
UID:139331-1723568400-1723579200@vmba.org
SUMMARY:FOTW- Enduro @ Sleepy Hollow
DESCRIPTION:Join Fellowship of the Wheel at Sleepy Hollow Ski and Bike Center for a round of fun and casual racing! This Enduro-style event is meant to be a friendly and supportive atmosphere to encourage new riders and experienced riders alike to come outside and play. The open class event allows you to go at your own pace and will feature 2 timed stages. Prizes and schwag will be tossed out for the most spirited and fun-having competitors\, so whether you come through the finish line with a sigh of relief for completing your first-ever enduro or mashing the pedals to improve your times\, we have tokens of our appreciation for your participation! \nThis is the last event of a 5 race series. \nRace course will be as follows: \nTransfer up Tatooine to X-Wing to Wookie to Princess Leia \nStage 1: Princess Leia to Balance Beam to Yoda \nTransfer up Yoda to Bishop Ski Trail to Skywalker to Wookie to Rogue 1 \nStage 2: Rogue 1 (starting at the second summit) to Darth Vader \nTransfer back on Darth Vader to X-Wing to Tatooine \nThis course is slightly longer and more technical to close out the 2024 race calendar! 5 total miles with 900ft of ascending. \nFellowship Members entry fee of $18. \nNon-Members entry fee of $23 \nON-SITE REGISTRATION WILL BE AVAILABLE! Riders can register starting at 4:30 PM and end by 6:15 PM. Racing will begin at 5:30 PM and end by 7:30 PM \nRefunds will be available if the event is postponed or canceled due to weather. \nAll proceeds from tickets go directly towards supporting your trails! \nFellowship of the Wheel is a non-profit that advocates for mountain biking and maintains 100+ miles of public multi-use trails in Chittenden County\, Vermont. We work with private and municipal landowners to create responsibly built\, sustainable trails for the greater community to enjoy their surrounding environment through recreation. \nReach out to info@fotwheel.org with questions.
URL:https://vmba.org/event/fotw-enduro-sleepy-hollow/
LOCATION:Sleepy Hollow Inn\, Ski and Bike Center
CATEGORIES:Group Outing,Group Rides / Races
ORGANIZER;CN="Fellowship Of the Wheel":MAILTO:info@fotwheel.org
END:VEVENT
BEGIN:VEVENT
DTSTART;TZID=America/New_York:20240815T173000
DTEND;TZID=America/New_York:20240815T200000
DTSTAMP:20260419T174839
CREATED:20240604T165758Z
LAST-MODIFIED:20240604T165758Z
UID:114836-1723743000-1723752000@vmba.org
SUMMARY:FOTW Women's Group Ride (TBD - Location)
DESCRIPTION:Stay Tuned for more details about this Women’s ride. \nFellowship of the Wheel is a non-profit that advocates for mountain biking and maintains 100+ miles of public multi-use trails in Chittenden County\, Vermont. We work with private and municipal landowners to create responsibly built\, sustainable trails for the greater community to enjoy their surrounding environment through recreation. \nReach out to info@fotwheel.org with questions.
URL:https://vmba.org/event/fotw-womens-group-ride-tbd-location/
LOCATION:VT
CATEGORIES:Group Rides / Races
ORGANIZER;CN="Fellowship Of the Wheel":MAILTO:info@fotwheel.org
END:VEVENT
BEGIN:VEVENT
DTSTART;TZID=America/New_York:20240815T173000
DTEND;TZID=America/New_York:20240815T203000
DTSTAMP:20260419T174839
CREATED:20240418T144745Z
LAST-MODIFIED:20240418T144745Z
UID:99013-1723743000-1723753800@vmba.org
SUMMARY:FOTW Women's Ride - TBD
DESCRIPTION:FOTW is hosting their 4th stop of the Women’s ride at their network. Check back for the location and more details.
URL:https://vmba.org/event/fotw-womens-ride-tbd/
LOCATION:VT
CATEGORIES:Festivals/Parties,Group Rides / Races
ORGANIZER;CN="Fellowship Of the Wheel":MAILTO:info@fotwheel.org
END:VEVENT
BEGIN:VEVENT
DTSTART;TZID=America/New_York:20240817T080000
DTEND;TZID=America/New_York:20240817T170000
DTSTAMP:20260419T174839
CREATED:20240418T122708Z
LAST-MODIFIED:20240418T122708Z
UID:98952-1723881600-1723914000@vmba.org
SUMMARY:BRMBC Tour de Valley
DESCRIPTION:
URL:https://vmba.org/event/brmbc-tour-de-valley/
LOCATION:VT
CATEGORIES:Festivals/Parties
END:VEVENT
BEGIN:VEVENT
DTSTART;TZID=America/New_York:20240817T090000
DTEND;TZID=America/New_York:20240817T120000
DTSTAMP:20260419T174839
CREATED:20240604T173646Z
LAST-MODIFIED:20240614T195423Z
UID:114928-1723885200-1723896000@vmba.org
SUMMARY:FOTW Trail Clinic
DESCRIPTION:Make sure to check out  FOTWheel.Org and Fellowship of the Wheel Instagram for up to date info on the dig day and location. \nEmail Info@FOTwheel.org with any questions.
URL:https://vmba.org/event/fotw-dig-day-2-2-2-2-2-2-2/
LOCATION:VT
CATEGORIES:Trail Days
ORGANIZER;CN="Fellowship Of the Wheel":MAILTO:info@fotwheel.org
END:VEVENT
BEGIN:VEVENT
DTSTART;TZID=America/New_York:20240817T100000
DTEND;TZID=America/New_York:20240817T160000
DTSTAMP:20260419T174839
CREATED:20240403T165823Z
LAST-MODIFIED:20240807T162934Z
UID:95706-1723888800-1723910400@vmba.org
SUMMARY:VMBA Days Bolton Valley
DESCRIPTION:Whether you are new to downhill riding or downhill riding is your cup of tea\, we’re inviting you and your riding partners to join us! We’ll have rides aimed at beginner folks to party laps to close out our day with Ranch Camp. Make sure you stick around for some aprés\, and stay for some amazing raffle prizes from VMBA’s partners! \nOur third stop is right in VMBA’s backyard\, Bolton Valley Resort. Bolton Valley is home to some east coast tech\, flow and jump trails galore\, just about any type of terrain your heart can desire! \nWe’ll be joined by a few of our Community Builders: Vermont Adaptive Ski and Sports for guided rides and adaptive MTB demos\, and Unlikely Riders who will be hosting rides. Don’t forget to swing by and say hi to some of our Chapters from the Route 2 corridor: \n\nRMT\nWATA\nFOTW\nSTP\n\nProceeds from VMBA’s Raffle at Bolton Valley will go to support Unlikely Riders! \nMake sure to sign up HERE! \nSign Up HERE for Unlikely Riders rides. \nRides \nNew to Downhill riding: This ride is designed for folks that are new lift service mtb riding or are just getting into it. VMBA ambassadors will show your around a new resort and build up confidence. \n\nMeet at 10:45 am at VMBA Tent\nRide Leaves – 11 am\nDuration: 1 to 1.5 hours \nQty tickets: 10\nTrail Styles: Beginner to intermediate base on group ability\n\nExplore The Resort: This ride is designed for someone has a few seasons riding DH and wants to explore a new mountain or see new ways to the resort. You’ll have VMBA Ambassadors tow you around on their favorites trails.  \n\nMeet at 12:45 pm at VMBA Tent\nRide Leaves – 1 pm\nDuration: 1.5  hours\nQty tickets: 10\nTrail Styles: Intermediate and advanced base on group; ability\n\n  \nTimeline:  \n\n10 am – Lifts Spin and VMBA Days area open\n10:45 am – Meet up for New to Dh rides\n11 am – New to DH rides leave\n12:45 pm – Meet up for Explore The Resort rides\n1 pm – The Resort rides leave\n2:30 pm – Meet up for Ranch Camp party lap\n2:40 pm – Ranch Camp party lap leaves\n3 pm – Fiddelhead apre party \n3:30 pm – Raffle drawing \n\nRaffle Partners: \n\nFiddlehead (Cooler)\nCabot (Gift Card)\nMisspent Summers (Magazine Collection)\nThule (Round Trip Duffle Bag)\nVermont Smoke and Cure (Meat Sticks)\nUpstate Elevator Supply (CBD pack)\nOff-Shore Greens (package)\nDiety (Rottating Items)\nPNW (Rottating Items)\n5/10 (Shoes of your choice)\nBiivo (VMBA Bottle)\nKryptonite (Gorund Anchor and chain)\nPOC (Knee Pads)\nMotorEx (Cleaning Kit)\nResort Prize Pack\n\n  \n \n 
URL:https://vmba.org/event/vmba-days-bolton-valley/
LOCATION:Bolton Valley Resort\, Bolton\, 05477
CATEGORIES:Festivals/Parties,Group Rides / Races
ATTACH;FMTTYPE=image/png:https://vmba.org/wp-content/uploads/2024/04/FIDDLEHEAD_VMBADAYS_SOCIALSQUARE.png
ORGANIZER;CN="VMBA":MAILTO:Joe@vmba.org
END:VEVENT
BEGIN:VEVENT
DTSTART;TZID=America/New_York:20240819T170000
DTEND;TZID=America/New_York:20240819T193000
DTSTAMP:20260419T174839
CREATED:20240604T172130Z
LAST-MODIFIED:20240604T172130Z
UID:114913-1724086800-1724095800@vmba.org
SUMMARY:Fellowship of the Wheel Enduro at Sleepy Hollow
DESCRIPTION:Join Fellowship of the Wheel at Sleepy Hollow Ski and Bike Center for a round of fun and casual racing! This Enduro-style event is meant to be a friendly and supportive atmosphere to encourage new riders and experienced riders alike to come outside and play. The open class event allows you to go at your own pace and will feature 2 timed stages. Prizes and schwag will be tossed out for the most spirited and fun-having competitors\, so whether you come through the finish line with a sigh of relief for completing your first-ever enduro or mashing the pedals to improve your times\, we have tokens of our appreciation for your participation! \nThis is the last event of a 5 race series. \nFellowship Members entry fee of $18. \nNon-Members entry fee of $23 \nON-SITE REGISTRATION WILL BE AVAILABLE! Riders can register starting at 4:30 PM and end by 6:15 PM. Racing will begin at 5:30 PM and end by 7:30 PM \nRefunds will be available if the event is postponed or canceled due to weather. \nAll proceeds from tickets go directly towards supporting your trails! \nFellowship of the Wheel is a non-profit that advocates for mountain biking and maintains 100+ miles of public multi-use trails in Chittenden County\, Vermont. We work with private and municipal landowners to create responsibly built\, sustainable trails for the greater community to enjoy their surrounding environment through recreation. \nReach out to info@fotwheel.org with questions.
URL:https://vmba.org/event/fellowship-of-the-wheel-enduro-at-sleepy-hollow-2/
LOCATION:Sleepy Hollow Inn\, Ski and Bike Center
ORGANIZER;CN="Fellowship Of the Wheel":MAILTO:info@fotwheel.org
END:VEVENT
BEGIN:VEVENT
DTSTART;TZID=America/New_York:20240820T173000
DTEND;TZID=America/New_York:20240820T193000
DTSTAMP:20260419T174839
CREATED:20240523T153550Z
LAST-MODIFIED:20240523T153550Z
UID:109662-1724175000-1724182200@vmba.org
SUMMARY:RMT- Women's/Gender Expansive Group Ride
DESCRIPTION:Save the Date! https://www.richmondmountaintrails.org/events
URL:https://vmba.org/event/rmt-womens-gender-expansive-group-ride-3/
LOCATION:VT
CATEGORIES:Group Rides / Races
END:VEVENT
BEGIN:VEVENT
DTSTART;TZID=America/New_York:20240821T173000
DTEND;TZID=America/New_York:20240821T193000
DTSTAMP:20260419T174839
CREATED:20240809T192023Z
LAST-MODIFIED:20240809T192023Z
UID:139286-1724261400-1724268600@vmba.org
SUMMARY:Coed Group Ride at Saxon Hill
DESCRIPTION:Fellowship of the Wheel is hosting a coed group mountain bike ride. This ride is for everyone! Saxon Hill is the home to terrain for all ages\, abilities and skill levels. Join members of our board and staff who will guide rides throughout the network. \nYou must bring a working mountain bike and helmet as there are no demos or rentals available at this event. This ride is a “no-drop” ride meaning it will be a social pace and meet up at various intersections. Groups will break out by ride length and terrain difficulty. Please arrive at the Thompson Dr parking area by 5:30pm with plans to hit the trail shortly after!
URL:https://vmba.org/event/coed-group-ride-at-saxon-hill/
LOCATION:Saxon Hill Trailhead\, 75 Thompson Drive\, Essex\, VT\, 05452\, United States
CATEGORIES:Group Rides / Races
ATTACH;FMTTYPE=image/jpeg:https://vmba.org/wp-content/uploads/2024/08/2023_Grassroots-Enduro_AJ5A5618.jpg
ORGANIZER;CN="Fellowship Of the Wheel":MAILTO:info@fotwheel.org
END:VEVENT
BEGIN:VEVENT
DTSTART;TZID=America/New_York:20240825T073000
DTEND;TZID=America/New_York:20240825T160000
DTSTAMP:20260419T174839
CREATED:20240417T193603Z
LAST-MODIFIED:20240417T193603Z
UID:98816-1724571000-1724601600@vmba.org
SUMMARY:Northeast Delta Dental Race To the Top of Vermont
DESCRIPTION:Every August the Race To The Top Of Vermont draws hikers\, bikers\, and runners from across the U.S. and Canada to climb Mt. Mansfield. Our course ascends the historic Mansfield Toll Road\, is 4.3 miles in length\, and has 2\,564 feet of up. Race To The Top Of Vermont is an event for everyone. That doesn’t mean it’s going to be easy. It’s not. This course will challenge you\, but you will succeed with enough determination and a little grit. And we hope that along the way you will find inspiration in your success\, and the success of all of those around you. The Race To The Top Of Vermont is a great challenge\, but ultimately it supports the Catamount Trail Association and all of the good work they do. This event is their largest fundraiser of the year. So\, while you’re out there challenging yourself\, know that 100% of the money raised at this event goes to support backcountry skiing and riding here in Vermont! Find out more on the event website. RTTTOVT.com
URL:https://vmba.org/event/northeast-delta-dental-race-to-the-top-of-vermont/
LOCATION:VT
CATEGORIES:Festivals/Parties,Group Rides / Races
END:VEVENT
BEGIN:VEVENT
DTSTART;TZID=America/New_York:20240825T100000
DTEND;TZID=America/New_York:20240825T160000
DTSTAMP:20260419T174839
CREATED:20240403T170001Z
LAST-MODIFIED:20240822T194640Z
UID:95707-1724580000-1724601600@vmba.org
SUMMARY:VMBA Days - Killington
DESCRIPTION:Whether you are new to downhill riding or downhill riding is your cup of tea\, we’re inviting you and your riding partners to join us! We’ll have rides aimed at beginner folks to party laps to close out our day with Ranch Camp. Make sure you stick around for some aprés\, and stay for some amazing raffle prizes from VMBA’s partners! \nOur fourth stop is landing at the Beast of The East; Killington Resort. With three lifts spinning\, and seemingly endless miles of trail\, Killington offers something for every rider. We’ll be joined by Vermont Adaptive Ski and Sports for guided rides and adaptive MTB demos. As well as rides with Unlikely Riders. Don’t forget to swing by and say hi to the local Chapter\, KMBC! \nKMBC and Killington will be hosting a free timed race down Rabbit Hole (11 am – 2 pm)\, so if you have a need for speed\, this is the ticket for you! \nProceeds from VMBA’s Raffle will go to support Vermont Adaptive Ski and Sports! \nMake sure to book your spot HERE! \nSign Up HERE for Unlikely Riders rides. \nRides \nNew to Downhill riding: This ride is designed for folks that are new lift service MTB riding or are just getting into it. VMBA ambassadors will show you around a new resort and build up confidence. \n\nMeet at 10:45 am at VMBA Tent\nRide Leaves – 11 am\nDuration: 1 to 1.5 hours \nQty tickets: 10\nTrail Styles: Beginner to intermediate based on group ability.\n\n  \nExplore The Resort: This ride is designed for someone who has a few seasons of riding DH and wants to explore a new mountain or see new ways to get to the resort. You’ll have VMBA Ambassadors tow you around on their favorite trails.  \n\nMeet at 12:45 pm at VMBA Tent\nRide Leaves – 1 pm\nDuration: 1.5  hours\nQty tickets: 10\nTrail Styles: Intermediate and advanced based on group; ability\n\n  \n  \nTimeline:  \n\n10 am – Lifts Spin and VMBA Days area open\n10:45 am – Meet up for New to Dh rides\n11 am – New to DH rides leave\n11am – Timing starts on Lower Rabbit Hole\n11am – Black Magic Party Laps with Alex Showerman – Women and Non-Binary\n12:45 pm – Meet up for Explore The Resort rides\n1 pm – The Resort rides leave\n2 pm – Race timing ends on Lower Rabbit Hole\n2:30 pm – Meet up for Ranch Camp party lap\n2:40 pm – Ranch Camp party lap leaves\n3 pm – Fiddelhead apre party \n3:30 pm – Raffle drawing \n\nRaffle Partners: \n\nFiddlehead (Cooler)\nCabot (Gift Card)\nMisspent Summers (Magazine Collection)\nThule (Round Trip Duffle Bag)\nVermont Smoke and Cure (Meat Sticks)\nUpstate Elevator Supply (CBD pack)\nOff-Shore Greens (package)\nDiety (Rottating Items)\nPNW (Rottating Items)\n5/10 (Shoes of your choice)\nBiivo (VMBA Bottle)\nKryptonite (Gorund Anchor and chain)\nPOC (Knee Pads)\nMotorEx (Cleaning Kit)\nKillington Resort Prize Pack\n\n 
URL:https://vmba.org/event/vmba-days-killington/
LOCATION:Killington Resort
CATEGORIES:Festivals/Parties,Group Rides / Races
ATTACH;FMTTYPE=image/png:https://vmba.org/wp-content/uploads/2024/04/FIDDLEHEAD_VMBADAYS_SOCIALSQUARE.png
ORGANIZER;CN="VMBA":MAILTO:Joe@vmba.org
END:VEVENT
END:VCALENDAR