BEGIN:VCALENDAR
VERSION:2.0
PRODID:-//VMBA - ECPv6.15.17.1//NONSGML v1.0//EN
CALSCALE:GREGORIAN
METHOD:PUBLISH
X-ORIGINAL-URL:https://vmba.org
X-WR-CALDESC:Events for VMBA
REFRESH-INTERVAL;VALUE=DURATION:PT1H
X-Robots-Tag:noindex
X-PUBLISHED-TTL:PT1H
BEGIN:VTIMEZONE
TZID:America/New_York
BEGIN:DAYLIGHT
TZOFFSETFROM:-0500
TZOFFSETTO:-0400
TZNAME:EDT
DTSTART:20220313T070000
END:DAYLIGHT
BEGIN:STANDARD
TZOFFSETFROM:-0400
TZOFFSETTO:-0500
TZNAME:EST
DTSTART:20221106T060000
END:STANDARD
BEGIN:DAYLIGHT
TZOFFSETFROM:-0500
TZOFFSETTO:-0400
TZNAME:EDT
DTSTART:20230312T070000
END:DAYLIGHT
BEGIN:STANDARD
TZOFFSETFROM:-0400
TZOFFSETTO:-0500
TZNAME:EST
DTSTART:20231105T060000
END:STANDARD
BEGIN:DAYLIGHT
TZOFFSETFROM:-0500
TZOFFSETTO:-0400
TZNAME:EDT
DTSTART:20240310T070000
END:DAYLIGHT
BEGIN:STANDARD
TZOFFSETFROM:-0400
TZOFFSETTO:-0500
TZNAME:EST
DTSTART:20241103T060000
END:STANDARD
END:VTIMEZONE
BEGIN:VEVENT
DTSTART;TZID=America/New_York:20231102T174500
DTEND;TZID=America/New_York:20231102T184500
DTSTAMP:20260420T082139
CREATED:20231006T155012Z
LAST-MODIFIED:20231006T155012Z
UID:79832-1698947100-1698950700@vmba.org
SUMMARY:WAMBA Group Ride - Mt Peg
DESCRIPTION:All WAMBA members are invited to our weekly MTB group ride. We’ll ride on Thursday nights and alternate weeks between Mt. Peg and the Aqueduct. For Peg nights\, we will meet at the Knox Meadow parking lot and Aqueduct rides will depart from the parking area on Cox District Road. Rides leave at 5:45 p.m. sharp. \nPlease bring adequate headlights!
URL:https://vmba.org/event/wamba-group-ride-aqueduct-2-2/
LOCATION:Mt. Peg
CATEGORIES:Group Rides / Races
END:VEVENT
BEGIN:VEVENT
DTSTART;TZID=America/New_York:20231115T170000
DTEND;TZID=America/New_York:20231115T200000
DTSTAMP:20260420T082139
CREATED:20231109T160039Z
LAST-MODIFIED:20231109T160039Z
UID:83909-1700067600-1700078400@vmba.org
SUMMARY:ACBC movie\, tacos\, and beer night
DESCRIPTION:Come down to the Marquis Theater on November 15th. ACBC will be hosting a movie night. Tacos will be for sale from Marquis Southwest Grill and each VMBA member will receive 1 beer on ACBC (bring your VMBA card or your App). Celebrate the end of the season.\n\nMovies: Accomplice from TGR & a short film from Myles Trainner’s Hit List
URL:https://vmba.org/event/acbc-movie-tacos-and-beer-night/
LOCATION:Middlebury Marquis Theatre\, 65 Main Street\, Middlebury\, VT\, 05753\, United States
END:VEVENT
END:VCALENDAR