BEGIN:VCALENDAR
VERSION:2.0
PRODID:-//VMBA - ECPv6.15.17.1//NONSGML v1.0//EN
CALSCALE:GREGORIAN
METHOD:PUBLISH
X-WR-CALNAME:VMBA
X-ORIGINAL-URL:https://vmba.org
X-WR-CALDESC:Events for VMBA
REFRESH-INTERVAL;VALUE=DURATION:PT1H
X-Robots-Tag:noindex
X-PUBLISHED-TTL:PT1H
BEGIN:VTIMEZONE
TZID:America/New_York
BEGIN:DAYLIGHT
TZOFFSETFROM:-0500
TZOFFSETTO:-0400
TZNAME:EDT
DTSTART:20220313T070000
END:DAYLIGHT
BEGIN:STANDARD
TZOFFSETFROM:-0400
TZOFFSETTO:-0500
TZNAME:EST
DTSTART:20221106T060000
END:STANDARD
BEGIN:DAYLIGHT
TZOFFSETFROM:-0500
TZOFFSETTO:-0400
TZNAME:EDT
DTSTART:20230312T070000
END:DAYLIGHT
BEGIN:STANDARD
TZOFFSETFROM:-0400
TZOFFSETTO:-0500
TZNAME:EST
DTSTART:20231105T060000
END:STANDARD
BEGIN:DAYLIGHT
TZOFFSETFROM:-0500
TZOFFSETTO:-0400
TZNAME:EDT
DTSTART:20240310T070000
END:DAYLIGHT
BEGIN:STANDARD
TZOFFSETFROM:-0400
TZOFFSETTO:-0500
TZNAME:EST
DTSTART:20241103T060000
END:STANDARD
END:VTIMEZONE
BEGIN:VEVENT
DTSTART;TZID=America/New_York:20230301T180000
DTEND;TZID=America/New_York:20230301T193000
DTSTAMP:20260420T205734
CREATED:20230120T182823Z
LAST-MODIFIED:20230120T182823Z
UID:44369-1677693600-1677699000@vmba.org
SUMMARY:Fat Bike Wednesdays at Catamount Outdoor
DESCRIPTION:Join us every Wednesday evening this winter at Catamount for Guided Fat Bike Rides!\nGrab your fat bike and headlamp and met us at the Hub (near the parking lot) at 6:00pm. Tires will hit the trails at 6:15pm! \nDon’t have a bike? Our rental Hub has you covered (bike rentals are first come first serve and a credit card is required to be held while you’re on trail)! Please arrive ~20 minutes early if renting a bike. \nRides will be approximately 1.5 hours and are beginner friendly. Want some extra instruction before the ride? Check out our lesson options! \nAn Annual or Day Membership is required to access the trails. If purchasing memberships on site\, please arrive 5-10 minutes early. \n2023 Ride Dates \n\nJanuary 11\, 18\, 25\nFeb 1\, 8\, 15\, 22\,\nMarch 1\, 8\, 15\, 22\, 29\n\nAll rides are conditions dependent
URL:https://vmba.org/event/fat-bike-wednesdays-at-catamount-outdoor-2-2-2-2-2/
LOCATION:Catamount Outdoor Center\, Williston\, VT
CATEGORIES:Group Rides / Races
ORGANIZER;CN="Catamount Outdoor Family Center":MAILTO:thehub@catamountoutdoor.org
END:VEVENT
BEGIN:VEVENT
DTSTART;TZID=America/New_York:20230304T070000
DTEND;TZID=America/New_York:20230304T150000
DTSTAMP:20260420T205734
CREATED:20230120T185546Z
LAST-MODIFIED:20230120T185546Z
UID:44389-1677913200-1677942000@vmba.org
SUMMARY:Vertical Challenge at Smuggler's Notch Resort
DESCRIPTION:The Vertical Challenge is a series of free\, casual ski and snowboard races held at the best ski resorts throughout the Northeast each winter season. In addition to the races\, attendees enjoy a festival atmosphere\, featuring fun snowy activities for all ages and special giveaways.\n\nOur secret ingredient? Our crew has as much fun at the events as you do. We make it a priority to create an environment where EVERY participant and family member is welcomed\, accepted\, and supported.\n\nREGISTER NOW:\nbit.ly/VCsmuggs2023
URL:https://vmba.org/event/vertical-challenge-at-smugglers-notch-resort/
LOCATION:Smugglers Notch Resort
CATEGORIES:Festivals/Parties,Group Rides / Races
ORGANIZER;CN="Smuggler's Notch Resort":MAILTO:smuggs@smuggs.com
END:VEVENT
BEGIN:VEVENT
DTSTART;TZID=America/New_York:20230304T080000
DTEND;TZID=America/New_York:20230305T160000
DTSTAMP:20260420T205734
CREATED:20230120T184305Z
LAST-MODIFIED:20230120T184305Z
UID:44387-1677916800-1678032000@vmba.org
SUMMARY:New England BKL Festival - Craftsbury Outdoor Center
DESCRIPTION:Enjoy the North Woods in Winter\nThe Center is excited to host NENSA’s 2023 New England Bill Koch League Festival. Find all kinds of detailed information here on NENSA’s website. \nThe New England Bill Koch Youth Ski League (NEBKYSL) Festival is the marquee event of the New England Nordic Ski Association Bill Koch Youth Ski League. This league has the mission to introduce young people to the sport of cross country skiing with its social\, fitness and competitive opportunities. This fun youth festival will feature racing\, as well as a wide range of non-competitive winter activities. Skiers of all ability levels from kindergarten up to 8th grade are welcome! \nThe theme of the 2023 Festival is “The North Woods in Winter.” Our goal is to expose the New England ski community to what a working forest landscape looks like in the wintertime. We all enjoy skiing in the woods in winter\, but the forest offers so many other resources and opportunities. Festival participants will be able to learn firsthand about making maple syrup\, forestry and silviculture\, winter camping and survival skills\, and more. We will also have laser biathlon demos from the U.S. Biathlon Association\, a skills park\, and [hopefully] dozens of open KMs of skiing.
URL:https://vmba.org/event/new-england-bkl-festival-craftsbury-outdoor-center/
LOCATION:Craftsbury Outdoor Center\, Craftsbury\, VT
CATEGORIES:Festivals/Parties
END:VEVENT
BEGIN:VEVENT
DTSTART;TZID=America/New_York:20230304T100000
DTEND;TZID=America/New_York:20230304T160000
DTSTAMP:20260420T205734
CREATED:20230210T144610Z
LAST-MODIFIED:20230210T144610Z
UID:44844-1677924000-1677945600@vmba.org
SUMMARY:Fat Tire Tracks in the NEK
DESCRIPTION:Guided rides on 2 of the smaller yet well-groomed trail systems in the NEK. \n10:00 am at the Jay Community Recreational Center \n1:30 at the Memphremagog Trails \nPost ride social time at Kingdom Brewery \n\n$30 day of registration\, and includes a ticket for a pint at Kingdom Brewery.
URL:https://vmba.org/event/fat-tire-tracks-in-the-nek/
LOCATION:Memphremagog Trails\, 3892 Darling Hill Rd\, Newport\, VT
CATEGORIES:Group Rides / Races
END:VEVENT
BEGIN:VEVENT
DTSTART;TZID=America/New_York:20230304T190000
DTEND;TZID=America/New_York:20230304T210000
DTSTAMP:20260420T205734
CREATED:20230202T142205Z
LAST-MODIFIED:20230202T142205Z
UID:44668-1677956400-1677963600@vmba.org
SUMMARY:Full moon snowshoe and fat bike series at Millstone Trails
DESCRIPTION:Join Millstone Trails Association February 4th and March 4th at 7pm for their full moon snowshoe hike or fat bike ride! They’ll lead a group snowshoe hike and a group fat bike ride on both nights\, followed by a fire\, s’mores\, and hot cocoa at the trailhead!\n\nChoose which mode of traversing through the forest with the gnomes you prefer (or the weather and conditions are most amenable to).\n\nAll abilities levels are encouraged to come out and ride or snowshoe! Kids too!\n\nPlease send a little RSVP at their facebook page so they can be sure to bring enough s’mores and hot cocoa for you all (and enough to keep the gnomes happy).
URL:https://vmba.org/event/full-moon-snowshoe-and-fat-bike-series-at-millstone-trails-2/
LOCATION:Millstone Trails\, 44 Brook Street\, Websterville\, Vermont\, 05678
CATEGORIES:Group Rides / Races
END:VEVENT
BEGIN:VEVENT
DTSTART;TZID=America/New_York:20230308T180000
DTEND;TZID=America/New_York:20230308T193000
DTSTAMP:20260420T205734
CREATED:20230120T182849Z
LAST-MODIFIED:20230120T182849Z
UID:44371-1678298400-1678303800@vmba.org
SUMMARY:Fat Bike Wednesdays at Catamount Outdoor
DESCRIPTION:Join us every Wednesday evening this winter at Catamount for Guided Fat Bike Rides!\nGrab your fat bike and headlamp and met us at the Hub (near the parking lot) at 6:00pm. Tires will hit the trails at 6:15pm! \nDon’t have a bike? Our rental Hub has you covered (bike rentals are first come first serve and a credit card is required to be held while you’re on trail)! Please arrive ~20 minutes early if renting a bike. \nRides will be approximately 1.5 hours and are beginner friendly. Want some extra instruction before the ride? Check out our lesson options! \nAn Annual or Day Membership is required to access the trails. If purchasing memberships on site\, please arrive 5-10 minutes early. \n2023 Ride Dates \n\nJanuary 11\, 18\, 25\nFeb 1\, 8\, 15\, 22\,\nMarch 1\, 8\, 15\, 22\, 29\n\nAll rides are conditions dependent
URL:https://vmba.org/event/fat-bike-wednesdays-at-catamount-outdoor-2-2-2-2-2-2/
LOCATION:Catamount Outdoor Center\, Williston\, VT
CATEGORIES:Group Rides / Races
ORGANIZER;CN="Catamount Outdoor Family Center":MAILTO:thehub@catamountoutdoor.org
END:VEVENT
BEGIN:VEVENT
DTSTART;TZID=America/New_York:20230311T093000
DTEND;TZID=America/New_York:20230311T170000
DTSTAMP:20260420T205734
CREATED:20230310T140806Z
LAST-MODIFIED:20230310T140806Z
UID:45373-1678527000-1678554000@vmba.org
SUMMARY:2023 Winter Carnival at Grafton Trails
DESCRIPTION:Join Winter Carnival for a day filled with outdoor fun and adventure! Go on a sleigh ride\, sled\, ski\, or snowshoe…enjoy Grafton Trails and Outdoor center and contests! Sledding will take place from 10-12\, and they ask all participants to bring or make their own sled! The outside fire will be ablaze for everyone to enjoy smores and warmth! Sugar on snow donated by Plummers sugar house to kick off and celebrate a successful sugaring season in VT. Food will be available from Jamaican Jewelz!\n\n$10 admission all day\, which includes a trail pass and smores!\nRental equipment(based on availability) for $5.00!\n2022-23 Season Pass Holders and The Ski Vermont Reciprocal Program complementary trail pass will also be honored for event admission.
URL:https://vmba.org/event/2023-winter-carnival-at-grafton-trails/
LOCATION:Grafton Trails & Outdoor Center\, 783 Townshed Rd\, Grafton\, VT\, 05146
CATEGORIES:Festivals/Parties
END:VEVENT
BEGIN:VEVENT
DTSTART;TZID=America/New_York:20230315T180000
DTEND;TZID=America/New_York:20230315T193000
DTSTAMP:20260420T205734
CREATED:20230120T182912Z
LAST-MODIFIED:20230120T182912Z
UID:44373-1678903200-1678908600@vmba.org
SUMMARY:Fat Bike Wednesdays at Catamount Outdoor
DESCRIPTION:Join us every Wednesday evening this winter at Catamount for Guided Fat Bike Rides!\nGrab your fat bike and headlamp and met us at the Hub (near the parking lot) at 6:00pm. Tires will hit the trails at 6:15pm! \nDon’t have a bike? Our rental Hub has you covered (bike rentals are first come first serve and a credit card is required to be held while you’re on trail)! Please arrive ~20 minutes early if renting a bike. \nRides will be approximately 1.5 hours and are beginner friendly. Want some extra instruction before the ride? Check out our lesson options! \nAn Annual or Day Membership is required to access the trails. If purchasing memberships on site\, please arrive 5-10 minutes early. \n2023 Ride Dates \n\nJanuary 11\, 18\, 25\nFeb 1\, 8\, 15\, 22\,\nMarch 1\, 8\, 15\, 22\, 29\n\nAll rides are conditions dependent
URL:https://vmba.org/event/fat-bike-wednesdays-at-catamount-outdoor-2-2-2-2-2-2-2/
LOCATION:Catamount Outdoor Center\, Williston\, VT
CATEGORIES:Group Rides / Races
ORGANIZER;CN="Catamount Outdoor Family Center":MAILTO:thehub@catamountoutdoor.org
END:VEVENT
BEGIN:VEVENT
DTSTART;TZID=America/New_York:20230315T180000
DTEND;TZID=America/New_York:20230315T200000
DTSTAMP:20260420T205734
CREATED:20230310T141449Z
LAST-MODIFIED:20230310T141449Z
UID:45377-1678903200-1678910400@vmba.org
SUMMARY:E-Bike Q&A Workshop with Bootlegger Bikes
DESCRIPTION:Join Bootlegger Bikes for our E-bike Q&A Workshop at our St Albans shop\, 82 N. Main St.\nThey’ll cover :\n1. E-bike Categories\n2. E-bike Anatomy\n3. E-bike styles\n4. E-bike Q&A\nThey’ll have on display a wide variety of e-bikes to discuss and help as visual aids through their discussion.
URL:https://vmba.org/event/e-bike-qa-workshop-with-bootlegger-bikes/
LOCATION:Bootlegger Bikes St. Albans\, 82 N. Main St.\, St. Albans\, VT\, United States
CATEGORIES:Workshop
END:VEVENT
BEGIN:VEVENT
DTSTART;TZID=America/New_York:20230318T120000
DTEND;TZID=America/New_York:20230318T160000
DTSTAMP:20260420T205734
CREATED:20230310T135657Z
LAST-MODIFIED:20230310T135657Z
UID:45365-1679140800-1679155200@vmba.org
SUMMARY:Sledding Party at Catamount Outdoor
DESCRIPTION:Sledding Party!\n\nMarch 18 @ 12:00 pm – 4:00 pm\n\n\n\n\n\nGrab your best sled and join them on Sunday\, March 18th from 12:00pm to 4:00pm at the Catamount Sledding Hill to enjoy some great company by a warm fire with S’mores and family-friendly winter activities like a Snow Creature Contests\, Winter Scavenger Hunts\, and of course Sledding!! \n\nNo advanced reservation needed.\nCash donations would be appreciated on the day of the event. Catamount is a 501(c) 3 nonprofit and our EIN # will be listed on their donation bin for your records.\nPlease carpool\, as possible\, and park in one of Catamount’s designated parking areas (No parking is permitted alongside Governor Chittenden Road).
URL:https://vmba.org/event/sledding-party-at-catamount-outdoor-2/
LOCATION:Catamount Outdoor Center\, Williston\, VT
CATEGORIES:Festivals/Parties
ORGANIZER;CN="Catamount Outdoor Family Center":MAILTO:thehub@catamountoutdoor.org
END:VEVENT
BEGIN:VEVENT
DTSTART;TZID=America/New_York:20230319T093000
DTEND;TZID=America/New_York:20230319T120000
DTSTAMP:20260420T205734
CREATED:20230310T142741Z
LAST-MODIFIED:20230310T142741Z
UID:45384-1679218200-1679227200@vmba.org
SUMMARY:Race to the Cabin 5K Ski Race at Trapp Family Lodge
DESCRIPTION:Race to the Cabin 5K Classic Ski Race!\n\n\n\nDate: Sunday 3/19\nStart: 9:30am\nRegister the day of the race starting at 8:15am at the Outdoor Center yurt\n\n\n18 and under – $10 / 19 and older – $15\n\n\nFor more info call:\nLeigh Mallory 802-238-3455
URL:https://vmba.org/event/race-to-the-cabin-5k-ski-race-at-trapp-family-lodge/
LOCATION:Trapp Family Lodge\, Stowe\, Vermont
CATEGORIES:Group Rides / Races
END:VEVENT
BEGIN:VEVENT
DTSTART;TZID=America/New_York:20230322T180000
DTEND;TZID=America/New_York:20230322T193000
DTSTAMP:20260420T205734
CREATED:20230120T182935Z
LAST-MODIFIED:20230120T182935Z
UID:44375-1679508000-1679513400@vmba.org
SUMMARY:Fat Bike Wednesdays at Catamount Outdoor
DESCRIPTION:Join us every Wednesday evening this winter at Catamount for Guided Fat Bike Rides!\nGrab your fat bike and headlamp and met us at the Hub (near the parking lot) at 6:00pm. Tires will hit the trails at 6:15pm! \nDon’t have a bike? Our rental Hub has you covered (bike rentals are first come first serve and a credit card is required to be held while you’re on trail)! Please arrive ~20 minutes early if renting a bike. \nRides will be approximately 1.5 hours and are beginner friendly. Want some extra instruction before the ride? Check out our lesson options! \nAn Annual or Day Membership is required to access the trails. If purchasing memberships on site\, please arrive 5-10 minutes early. \n2023 Ride Dates \n\nJanuary 11\, 18\, 25\nFeb 1\, 8\, 15\, 22\,\nMarch 1\, 8\, 15\, 22\, 29\n\nAll rides are conditions dependent
URL:https://vmba.org/event/fat-bike-wednesdays-at-catamount-outdoor-2-2-2-2-2-2-2-2/
LOCATION:Catamount Outdoor Center\, Williston\, VT
CATEGORIES:Group Rides / Races
ORGANIZER;CN="Catamount Outdoor Family Center":MAILTO:thehub@catamountoutdoor.org
END:VEVENT
BEGIN:VEVENT
DTSTART;TZID=America/New_York:20230323T180000
DTEND;TZID=America/New_York:20230323T200000
DTSTAMP:20260420T205734
CREATED:20230201T171822Z
LAST-MODIFIED:20230315T174352Z
UID:44615-1679594400-1679601600@vmba.org
SUMMARY:VMBA Virtual Annual Meeting
DESCRIPTION:We’re excited to announce our virtual annual meeting to recap the 2022/2023 season! Join us on Thursday\, March 23\, at 6 pm as we share some of the highlights and lessons learned from this past year\, and preview some exciting things coming this season. We’ll also talk about our new 5-year Strategic Plan\, which lays out seven major trails\, advocacy\, community\, and organizational goals for the years ahead. We’re excited to bring everyone together and start talking bikes and trails!  \nZoom details below: \nYou are invited to a Zoom webinar.\nWhen: Mar 23\, 2023 06:00 PM Eastern Time (US and Canada)\nTopic: VMBA Annual Meeting \nPlease click the link below to join the webinar: \nhttps://us06web.zoom.us/j/83811647212  \nOr One tap mobile :\nUS: +13092053325\,\,83811647212# or +13126266799\,\,83811647212#\nOr Telephone:\nDial(for higher quality\, dial a number based on your current location):\nUS: +1 309 205 3325 or +1 312 626 6799 or +1 646 931 3860 or +1 929 436 2866 or +1 301 715 8592 or +1 305 224 1968 or +1 386 347 5053 or +1 507 473 4847 or +1 564 217 2000 or +1 669 444 9171 or +1 669 900 6833 or +1 689 278 1000 or +1 719 359 4580 or +1 253 205 0468 or +1 253 215 8782 or +1 346 248 7799 or +1 360 209 5623\nWebinar ID: 838 1164 7212\nInternational numbers available: https://us06web.zoom.us/u/kh7snIgKW \n 
URL:https://vmba.org/event/vmba-virtual-annual-meeting/
LOCATION:zoom
CATEGORIES:Festivals/Parties
ORGANIZER;CN="Vermont Mountain Bike Association":MAILTO:Joe@vmba.org
END:VEVENT
BEGIN:VEVENT
DTSTART;TZID=America/New_York:20230329T180000
DTEND;TZID=America/New_York:20230329T193000
DTSTAMP:20260420T205734
CREATED:20230120T182958Z
LAST-MODIFIED:20230120T182958Z
UID:44377-1680112800-1680118200@vmba.org
SUMMARY:Fat Bike Wednesdays at Catamount Outdoor
DESCRIPTION:Join us every Wednesday evening this winter at Catamount for Guided Fat Bike Rides!\nGrab your fat bike and headlamp and met us at the Hub (near the parking lot) at 6:00pm. Tires will hit the trails at 6:15pm! \nDon’t have a bike? Our rental Hub has you covered (bike rentals are first come first serve and a credit card is required to be held while you’re on trail)! Please arrive ~20 minutes early if renting a bike. \nRides will be approximately 1.5 hours and are beginner friendly. Want some extra instruction before the ride? Check out our lesson options! \nAn Annual or Day Membership is required to access the trails. If purchasing memberships on site\, please arrive 5-10 minutes early. \n2023 Ride Dates \n\nJanuary 11\, 18\, 25\nFeb 1\, 8\, 15\, 22\,\nMarch 1\, 8\, 15\, 22\, 29\n\nAll rides are conditions dependent
URL:https://vmba.org/event/fat-bike-wednesdays-at-catamount-outdoor-2-2-2-2-2-2-2-2-2/
LOCATION:Catamount Outdoor Center\, Williston\, VT
CATEGORIES:Group Rides / Races
ORGANIZER;CN="Catamount Outdoor Family Center":MAILTO:thehub@catamountoutdoor.org
END:VEVENT
END:VCALENDAR