BEGIN:VCALENDAR
VERSION:2.0
PRODID:-//VMBA - ECPv6.15.17.1//NONSGML v1.0//EN
CALSCALE:GREGORIAN
METHOD:PUBLISH
X-WR-CALNAME:VMBA
X-ORIGINAL-URL:https://vmba.org
X-WR-CALDESC:Events for VMBA
REFRESH-INTERVAL;VALUE=DURATION:PT1H
X-Robots-Tag:noindex
X-PUBLISHED-TTL:PT1H
BEGIN:VTIMEZONE
TZID:America/New_York
BEGIN:DAYLIGHT
TZOFFSETFROM:-0500
TZOFFSETTO:-0400
TZNAME:EDT
DTSTART:20210314T070000
END:DAYLIGHT
BEGIN:STANDARD
TZOFFSETFROM:-0400
TZOFFSETTO:-0500
TZNAME:EST
DTSTART:20211107T060000
END:STANDARD
BEGIN:DAYLIGHT
TZOFFSETFROM:-0500
TZOFFSETTO:-0400
TZNAME:EDT
DTSTART:20220313T070000
END:DAYLIGHT
BEGIN:STANDARD
TZOFFSETFROM:-0400
TZOFFSETTO:-0500
TZNAME:EST
DTSTART:20221106T060000
END:STANDARD
BEGIN:DAYLIGHT
TZOFFSETFROM:-0500
TZOFFSETTO:-0400
TZNAME:EDT
DTSTART:20230312T070000
END:DAYLIGHT
BEGIN:STANDARD
TZOFFSETFROM:-0400
TZOFFSETTO:-0500
TZNAME:EST
DTSTART:20231105T060000
END:STANDARD
END:VTIMEZONE
BEGIN:VEVENT
DTSTART;TZID=America/New_York:20220409T090000
DTEND;TZID=America/New_York:20220409T120000
DTSTAMP:20260421T132347
CREATED:20220324T145508Z
LAST-MODIFIED:20220324T145508Z
UID:35614-1649494800-1649505600@vmba.org
SUMMARY:Spring Clean Up Volunteer Work Day
DESCRIPTION:Come pitch in and help Slate Valley Trails finish cleaning up the trails so we can open for the season. Volunteers will be assigned an area to work. No experience necessary. Work involved: Raking\, moving sticks and debris\, lopping\, leaf blowing\, etc.\n\nBring: Water and gloves. Wear long pants and appropriate footwear. Bring a rake\, snippers or loppers if you have them (not required. Tick spray advised.\nPizza will be served around noon.\n\nAddress:131 Town Farm Rd\, Poultney\, VT 05764-9285\n\nQuestions? info@slatevalleytrails.org
URL:https://vmba.org/event/spring-clean-up-volunteer-work-day/
LOCATION:VT
END:VEVENT
BEGIN:VEVENT
DTSTART;TZID=America/New_York:20220416T080000
DTEND;TZID=America/New_York:20220416T170000
DTSTAMP:20260421T132347
CREATED:20220214T170715Z
LAST-MODIFIED:20220214T170715Z
UID:34634-1650096000-1650128400@vmba.org
SUMMARY:BRMBC Trail Day
DESCRIPTION:Come out and help BRMBC get the trails back into shape for the 2022 season. Please visit the BRMBC website/social channels for more details.
URL:https://vmba.org/event/brmbc-trail-day-2/
LOCATION:VT
END:VEVENT
BEGIN:VEVENT
DTSTART;TZID=America/New_York:20220416T083000
DTEND;TZID=America/New_York:20220416T120000
DTSTAMP:20260421T132347
CREATED:20220323T142904Z
LAST-MODIFIED:20220323T142904Z
UID:35559-1650097800-1650110400@vmba.org
SUMMARY:Trail Workday - Middlebury - ACBC
DESCRIPTION:We’ll work on basic trail maintenance projects including removing downed trees\, drainage\, armoring\, raking\, and lopping. Please bring\ngloves and your favorite trail maintenance tools.
URL:https://vmba.org/event/trail-workday-middlebury-acbc/
LOCATION:Battell Woods\, Seminary Street Ex.\, Middlebury\, VT\, 05753\, United States
CATEGORIES:Trail Days
END:VEVENT
BEGIN:VEVENT
DTSTART;TZID=America/New_York:20220419T190000
DTEND;TZID=America/New_York:20220419T200000
DTSTAMP:20260421T132347
CREATED:20220323T143619Z
LAST-MODIFIED:20220323T143619Z
UID:35518-1650394800-1650398400@vmba.org
SUMMARY:ACBC Monthly Club Meeting
DESCRIPTION:Addison County Bike Club meets monthly on the third Tuesday of the month. Learn how the club provides stewardship for riding trails in Middlebury\, Bristol\, Vergennes\, and Moosalamoo National Recreation Area. Meetings typically last 1 hour.
URL:https://vmba.org/event/acbc-monthly-club-meeting/
LOCATION:Frog Hollow Bikes\, Middlebury\, VT
CATEGORIES:Chapter Meetings
ATTACH;FMTTYPE=image/png:https://vmba.org/wp-content/uploads/2022/03/clubmtg.png
END:VEVENT
BEGIN:VEVENT
DTSTART;TZID=America/New_York:20220420T170000
DTEND;TZID=America/New_York:20220420T190000
DTSTAMP:20260421T132347
CREATED:20220316T192425Z
LAST-MODIFIED:20220316T192425Z
UID:35310-1650474000-1650481200@vmba.org
SUMMARY:Stowe Trail Partnership Kick-Off Party
DESCRIPTION:Come down to the Talta Lodge to kick off the season in style. STP will be chatting about events and trail plans for this summer. Make sure to not miss out.   VMBA will be there selling memberships on the spot if you haven’t gotten yours yet. \n 
URL:https://vmba.org/event/stowe-trail-partnership-kick-off-party/
LOCATION:Talta Lodge\, 3343 Mountain Rd.\, Stowe\, VT\, 05672\, United States
END:VEVENT
BEGIN:VEVENT
DTSTART;TZID=America/New_York:20220420T183000
DTEND;TZID=America/New_York:20220420T203000
DTSTAMP:20260421T132347
CREATED:20220217T181417Z
LAST-MODIFIED:20220217T181417Z
UID:34686-1650479400-1650486600@vmba.org
SUMMARY:Ridgeline Outdoor Collective Monthly Meeting - April
DESCRIPTION:Please check the Ridgeline Outdoor Collective website for more details.
URL:https://vmba.org/event/rochester-after-school-bike-club-2-2-2/
LOCATION:VT
END:VEVENT
END:VCALENDAR