BEGIN:VCALENDAR
VERSION:2.0
PRODID:-//VMBA - ECPv6.15.17.1//NONSGML v1.0//EN
CALSCALE:GREGORIAN
METHOD:PUBLISH
X-ORIGINAL-URL:https://vmba.org
X-WR-CALDESC:Events for VMBA
REFRESH-INTERVAL;VALUE=DURATION:PT1H
X-Robots-Tag:noindex
X-PUBLISHED-TTL:PT1H
BEGIN:VTIMEZONE
TZID:America/New_York
BEGIN:DAYLIGHT
TZOFFSETFROM:-0500
TZOFFSETTO:-0400
TZNAME:EDT
DTSTART:20210314T070000
END:DAYLIGHT
BEGIN:STANDARD
TZOFFSETFROM:-0400
TZOFFSETTO:-0500
TZNAME:EST
DTSTART:20211107T060000
END:STANDARD
BEGIN:DAYLIGHT
TZOFFSETFROM:-0500
TZOFFSETTO:-0400
TZNAME:EDT
DTSTART:20220313T070000
END:DAYLIGHT
BEGIN:STANDARD
TZOFFSETFROM:-0400
TZOFFSETTO:-0500
TZNAME:EST
DTSTART:20221106T060000
END:STANDARD
BEGIN:DAYLIGHT
TZOFFSETFROM:-0500
TZOFFSETTO:-0400
TZNAME:EDT
DTSTART:20230312T070000
END:DAYLIGHT
BEGIN:STANDARD
TZOFFSETFROM:-0400
TZOFFSETTO:-0500
TZNAME:EST
DTSTART:20231105T060000
END:STANDARD
END:VTIMEZONE
BEGIN:VEVENT
DTSTART;TZID=America/New_York:20220301T160000
DTEND;TZID=America/New_York:20220301T183000
DTSTAMP:20260421T145400
CREATED:20220225T143442Z
LAST-MODIFIED:20220225T143442Z
UID:34762-1646150400-1646159400@vmba.org
SUMMARY:Pride Eats and Ride
DESCRIPTION:Come out and eat burritos and ride! \nPride Rides is joining the Pride Center of Vermont at Ranch Camp for a day of eats\, treats\, and a fat bike meet! \nPride Eats is a fundraising event for the Pride Center of Vermont and a percentage of the food sales from the event will go to supporting them and all the great programming they offer here in VT for LGBTQIA people. The full event for Pride seats goes from 11AM to 8PM and Pride Rides will be there from 4PM to 7PM. \nPride rides will have a table/tent with information about Pride Rides and we’ll also have the fat bike fleet available for folks to take out for a spin on Cady Hill Trails. We will lead a couple of group rides between 4pm and 7pm! \nBring lights if you would like to ride post 5:30pm\, some extra lights will be available for folks who don’t have them.
URL:https://vmba.org/event/pride-eats-and-ride/
LOCATION:Ranch Camp\, 311 Mtn Road\, Stowe\, VT
CATEGORIES:Festivals/Parties
ATTACH;FMTTYPE=image/jpeg:https://vmba.org/wp-content/uploads/2022/02/66D1420C-88AF-458D-BD08-7DFE5253C7DD.jpeg
END:VEVENT
BEGIN:VEVENT
DTSTART;TZID=America/New_York:20220312T080000
DTEND;TZID=America/New_York:20220312T160000
DTSTAMP:20260421T145400
CREATED:20220214T155432Z
LAST-MODIFIED:20220214T155432Z
UID:34630-1647072000-1647100800@vmba.org
SUMMARY:Jay Peak Winter Pedal Fest
DESCRIPTION:Join us on Tramside on Saturday\, March 12th for the first of a year-round events series geared towards all-things mountain biking. \nWinter Pedal Fest includes: \n\nAn on-mountain (lower mountain) timed downhill fat bike race for adults and kids; Bushwacker is the preferred trail.\nGroup rides out on our Nordic terrain during the afternoon.\nGear Raffle with some great items from Thule\, REI\, Outdoor Gear Exchange\, and more.\n\nThe Race:  Bikers will climb lower Ullr’s Dream to Deer Run to access the start of the course (top of Buswhwacker). Bikers will then descend Bushwacker (any route down the trail with one finish area) for the fastest time. Best of 2 runs with 1st\, 2nd\, and 3rd place per age category; Male 15+\, Female 15+\, Junior Male and Junior Female; ages 4-14. \nAnticipated Schedule:  \n\nRegistration/Bib Assignment @ Tramside Cafeteria 8:00 – 9:00 AM\nMandatory Safety Meeting @ Aroma Patio  9:00 AM\nCourse Inspection:  9:15 – 10:15 AM\n1st Run (starting with juniors): 10:30 AM\nAwards Ceremony/ Bib Raffle @ Aroma Patio following race.\nGroup Rides starting after the end of the race\, approx. Noon.\n\nCost to race: $20 (includes race registration & gear raffle entry)  \nRegister HERE
URL:https://vmba.org/event/jay-peak-winter-pedal-fest/
LOCATION:Jay Peak Resort\, 830 Jay Peak Rd.\, Jay\, VT\, 05859\, United States
END:VEVENT
BEGIN:VEVENT
DTSTART;TZID=America/New_York:20220312T090000
DTEND;TZID=America/New_York:20220312T150000
DTSTAMP:20260421T145400
CREATED:20220217T151303Z
LAST-MODIFIED:20220217T151303Z
UID:34666-1647075600-1647097200@vmba.org
SUMMARY:ROC - Brandon Gap Tour
DESCRIPTION:Brandon Gap Backcountry Ski Snowboard Tour (Rochester)Intermediate/Advanced Skiers and Boarders – Saturday\, March 12th\nTelemark/AT Skis or Splitboard – with skins. Helmets required.\nCome and experience the ski zones at the USFS Brandon Gap Winter Recreation Area. Spend the day traveling through the glades with plenty of great climbs and descents. We will try to cover several of the zones during the day. Plan on about 6 hours in the forest. Bring lunch\, plenty to drink and weather appropriate clothing. Be prepared to spend the day. Limited to 10 participants.\nContact Karl Fjeld\, karlfjld6@gmail.com
URL:https://vmba.org/event/roc-brandon-gap-tour/
LOCATION:VT
END:VEVENT
BEGIN:VEVENT
DTSTART;TZID=America/New_York:20220312T163000
DTEND;TZID=America/New_York:20220312T203000
DTSTAMP:20260421T145400
CREATED:20220307T150432Z
LAST-MODIFIED:20220307T150432Z
UID:34951-1647102600-1647117000@vmba.org
SUMMARY:Fat Biking Viking
DESCRIPTION:Join Northshire Area Trail Systems (NATS)\, a VMBA chapter\, and NEMBA for an afternoon & evening of fat biking at Viking Nordic Center in Londonderry\, Vermont. \nThere will be time for a ride before the sun sets\, then we’ll enjoy a meal and socialize around the fire at the warming hut\, before heading back out for a night ride.\nViking Nordic Center has over 26km of groomed trails\, which include a 3km lighted loop for evening fun! Bring a headlamp and explore more of the trails.\nTickets are $25/adult and $15/youth (16 & under)\nThese include:\n– Trail Pass (4:30pm to 8:30pm)\n– Tomato Soup with Roll\n– Dessert (Cookie or Smore Kit)\n– Hot/Cold Beverage \nFor those without a fat bike\, Viking has cross country skis and snow shoes available for rent for $8. Unfortunately fat bike rentals are not available. \nBeer will be available for a donation to NATS/NEMBA. \nPlease purchase tickets in advance so Viking knows how much homemade soup & cookies to prepare. \nLocation: Viking Nordic Center – Located at 615 Little Pond Road Londonderry\, VT \nTickets \nFacebook
URL:https://vmba.org/event/fat-biking-viking/
LOCATION:Viking Nordic Center\, 615 Little Pond Road\, Londonderry\, 05148\, United States
END:VEVENT
BEGIN:VEVENT
DTSTART;TZID=America/New_York:20220313T100000
DTEND;TZID=America/New_York:20220313T130000
DTSTAMP:20260421T145400
CREATED:20220225T143413Z
LAST-MODIFIED:20220225T175521Z
UID:34760-1647165600-1647176400@vmba.org
SUMMARY:Pride Ride at Millstone Trails
DESCRIPTION:Come out and ride with Pride Rides At Millstone Trails! Sunday March 13th at 10AM. Meet us at the brook st parking lot in Websterville. \nWe’ll ride for approx 2 hours of beginner friendly terrain. The ride route is designed to provide the option to be broken up or cut short for folks not up to riding the full route. \nIf you have any questions about the event or fat biking in general\, drop us as email or a DM/PM on our socials! \nFat bikes available for folks who don’t have one\, please email prideridesvt@gmail.com to reserve a bike in advance. \nWe’ll be joined by some of the Millstone board and trail crew who are available to answer questions about the trails!
URL:https://vmba.org/event/pride-ride-at-millstone-trails/
LOCATION:Millstone Trails\, 44 Brook Street\, Websterville\, Vermont\, 05678
CATEGORIES:Group Rides / Races
ATTACH;FMTTYPE=image/png:https://vmba.org/wp-content/uploads/2022/02/6D637DFE-7848-4C16-96D4-FC2886C43B19.png
END:VEVENT
BEGIN:VEVENT
DTSTART;TZID=America/New_York:20220316T183000
DTEND;TZID=America/New_York:20220316T203000
DTSTAMP:20260421T145400
CREATED:20220217T161105Z
LAST-MODIFIED:20220217T161105Z
UID:34684-1647455400-1647462600@vmba.org
SUMMARY:Ridgeline Outdoor Collective Monthly Meeting - March
DESCRIPTION:Please check the Ridgeline Outdoor Collective website for more details.
URL:https://vmba.org/event/rochester-after-school-bike-club-2-2/
LOCATION:VT
END:VEVENT
BEGIN:VEVENT
DTSTART;TZID=America/New_York:20220324T180000
DTEND;TZID=America/New_York:20220324T200000
DTSTAMP:20260421T145400
CREATED:20220106T192501Z
LAST-MODIFIED:20220321T213621Z
UID:34139-1648144800-1648152000@vmba.org
SUMMARY:VMBA Annual Meeting
DESCRIPTION:We’re excited to announce our virtual annual meeting to recap the 2021/2022 season! Please find the details to join our virtual meeting below. Check out our 2021/22 Annual Report Blog and join us on Thursday as we dive a little deeper into the highlights and lessons learned from this past year. We’re excited to bring everyone together and start talking bikes and trails. \n  \n  \nJoin Zoom Meeting Details: \nhttps://us06web.zoom.us/j/88411682522?pwd=Rk1OdmpNQllBbUdQejFRRzdWYlRWUT09 \nMeeting ID: 884 1168 2522\nPasscode: 972452\nOne tap mobile\n+13126266799\,\,88411682522#\,\,\,\,*972452# US (Chicago)\n+19294362866\,\,88411682522#\,\,\,\,*972452# US (New York) \nDial by your location\n+1 312 626 6799 US (Chicago)\n+1 929 436 2866 US (New York)\n+1 301 715 8592 US (Washington DC)\n+1 346 248 7799 US (Houston)\n+1 669 900 6833 US (San Jose)\n+1 253 215 8782 US (Tacoma)\nMeeting ID: 884 1168 2522\nPasscode: 972452\nFind your local number: https://us06web.zoom.us/u/kDpD3edud \nJoin by Skype for Business\nhttps://us06web.zoom.us/skype/88411682522
URL:https://vmba.org/event/vmba-annual-meeting-2/
LOCATION:VT
END:VEVENT
BEGIN:VEVENT
DTSTART;TZID=America/New_York:20220331T173000
DTEND;TZID=America/New_York:20220331T193000
DTSTAMP:20260421T145400
CREATED:20220323T170820Z
LAST-MODIFIED:20220328T151837Z
UID:35590-1648747800-1648755000@vmba.org
SUMMARY:WATA Kick Off Party
DESCRIPTION:To get yourself psyched for the season\, come to the 2022 Kickoff Party & Membership in Waterbury! There’ll be beverages (thanks to our good friends at the VT Beer Shepherd)\, WATA schwag\, a chance to catch up with friends\, an opportunity to renew your WATA membership (or join for the first time)\, and share your comments and questions with the WATA Board.\nWe’ve got some exciting things in the works for 2022 and are excited to share our progress in 2021 and what’s to come.\nWATA couldn’t exist without your awesome support – from your membership dollars and participating in our riding events throughout the season to coming out on trail days when you’d rather be riding. We sincerely thank you and look forward to kicking off another great season of fun on the trails.\nYour membership directly fuels more of what you love. As always\, there are great perks of joining WATA–check out this year’s membership benefits. Can’t make the party? Join or renew now – just go to this link: https://www.waterburytrails.com/membership
URL:https://vmba.org/event/wata-kick-off-party-2/
LOCATION:Zenbarn\, Waterbury\, Vermont
END:VEVENT
END:VCALENDAR