BEGIN:VCALENDAR
VERSION:2.0
PRODID:-//VMBA - ECPv6.15.17.1//NONSGML v1.0//EN
CALSCALE:GREGORIAN
METHOD:PUBLISH
X-ORIGINAL-URL:https://vmba.org
X-WR-CALDESC:Events for VMBA
REFRESH-INTERVAL;VALUE=DURATION:PT1H
X-Robots-Tag:noindex
X-PUBLISHED-TTL:PT1H
BEGIN:VTIMEZONE
TZID:America/New_York
BEGIN:DAYLIGHT
TZOFFSETFROM:-0500
TZOFFSETTO:-0400
TZNAME:EDT
DTSTART:20200308T070000
END:DAYLIGHT
BEGIN:STANDARD
TZOFFSETFROM:-0400
TZOFFSETTO:-0500
TZNAME:EST
DTSTART:20201101T060000
END:STANDARD
BEGIN:DAYLIGHT
TZOFFSETFROM:-0500
TZOFFSETTO:-0400
TZNAME:EDT
DTSTART:20210314T070000
END:DAYLIGHT
BEGIN:STANDARD
TZOFFSETFROM:-0400
TZOFFSETTO:-0500
TZNAME:EST
DTSTART:20211107T060000
END:STANDARD
BEGIN:DAYLIGHT
TZOFFSETFROM:-0500
TZOFFSETTO:-0400
TZNAME:EDT
DTSTART:20220313T070000
END:DAYLIGHT
BEGIN:STANDARD
TZOFFSETFROM:-0400
TZOFFSETTO:-0500
TZNAME:EST
DTSTART:20221106T060000
END:STANDARD
END:VTIMEZONE
BEGIN:VEVENT
DTSTART;TZID=America/New_York:20211214T080000
DTEND;TZID=America/New_York:20211214T170000
DTSTAMP:20260421T192727
CREATED:20210812T004018Z
LAST-MODIFIED:20210812T004018Z
UID:31634-1639468800-1639501200@vmba.org
SUMMARY:ACBC Club Meeting December
DESCRIPTION:Join us the 2nd Tuesday of every month for our monthly club meetings. These meetings are open to the public and are a great way to learn more about upcoming events and projects happening in Addison County.\nWe will do our best to bullet upcoming month topics in advance.\nThese meetings will be in front of Frog Hollow Bikes in Cannon Park. We will be following CDC guidelines.
URL:https://vmba.org/event/acbc-club-meeting-december/
LOCATION:VT
END:VEVENT
END:VCALENDAR