BEGIN:VCALENDAR
VERSION:2.0
PRODID:-//VMBA - ECPv6.15.17.1//NONSGML v1.0//EN
CALSCALE:GREGORIAN
METHOD:PUBLISH
X-ORIGINAL-URL:https://vmba.org
X-WR-CALDESC:Events for VMBA
REFRESH-INTERVAL;VALUE=DURATION:PT1H
X-Robots-Tag:noindex
X-PUBLISHED-TTL:PT1H
BEGIN:VTIMEZONE
TZID:America/New_York
BEGIN:DAYLIGHT
TZOFFSETFROM:-0500
TZOFFSETTO:-0400
TZNAME:EDT
DTSTART:20200308T070000
END:DAYLIGHT
BEGIN:STANDARD
TZOFFSETFROM:-0400
TZOFFSETTO:-0500
TZNAME:EST
DTSTART:20201101T060000
END:STANDARD
BEGIN:DAYLIGHT
TZOFFSETFROM:-0500
TZOFFSETTO:-0400
TZNAME:EDT
DTSTART:20210314T070000
END:DAYLIGHT
BEGIN:STANDARD
TZOFFSETFROM:-0400
TZOFFSETTO:-0500
TZNAME:EST
DTSTART:20211107T060000
END:STANDARD
BEGIN:DAYLIGHT
TZOFFSETFROM:-0500
TZOFFSETTO:-0400
TZNAME:EDT
DTSTART:20220313T070000
END:DAYLIGHT
BEGIN:STANDARD
TZOFFSETFROM:-0400
TZOFFSETTO:-0500
TZNAME:EST
DTSTART:20221106T060000
END:STANDARD
END:VTIMEZONE
BEGIN:VEVENT
DTSTART;TZID=America/New_York:20211002T100000
DTEND;TZID=America/New_York:20211002T170000
DTSTAMP:20260421T221301
CREATED:20210804T185034Z
LAST-MODIFIED:20210804T185235Z
UID:31488-1633168800-1633194000@vmba.org
SUMMARY:Vermont Youth Cycling League\, Mount Peg Trails\, Woodstock
DESCRIPTION:Third of four races in our fall youth mountain biking series for riders in Grades 5-12. Independent racers and teams are welcome. Please visit vtyouthcycling.org for more details about the league\, membership and race registration.
URL:https://vmba.org/event/vermont-youth-cycling-league-mount-peg-trails-woodstock/
LOCATION:VT
END:VEVENT
BEGIN:VEVENT
DTSTART;TZID=America/New_York:20211009T080000
DTEND;TZID=America/New_York:20211009T120000
DTSTAMP:20260421T221301
CREATED:20210812T003320Z
LAST-MODIFIED:20210812T003320Z
UID:31629-1633766400-1633780800@vmba.org
SUMMARY:ACBC Trail Work Days 10/9
DESCRIPTION:Join us the 2nd Saturday of every month for Trail Work Days. We will be working at various trails across Addison County. If there’s certain areas of interest that you’d like to work on\, or need attention please let us know.
URL:https://vmba.org/event/acbc-trail-work-days-10-9/
LOCATION:VT
END:VEVENT
BEGIN:VEVENT
DTSTART;TZID=America/New_York:20211010T100000
DTEND;TZID=America/New_York:20211010T170000
DTSTAMP:20260421T221301
CREATED:20211004T193041Z
LAST-MODIFIED:20211004T193041Z
UID:33360-1633860000-1633885200@vmba.org
SUMMARY:Pride Rides VT Downhill Day at Killington
DESCRIPTION:Join Pride Rides VT at Killington Mountain Bike Park for a day of lift serve mountain biking!\nWe’ll start the day with a couple of options for lessons. One on one lessons with Killington’s instructors for beginner or new to Downhill riders or a group lesson for more intermediate riders looking for some tips on how to up their skill level while sending down the hill!\nSpecial pricing is available for all attendees with flexible packages to include any or all of: an all day lift ticket\, a lesson\, and a downhill rental bike/gear.\nPride Rides has funding available for LBGTQIA+ folks who would like to join\, but feel that a portion or all of the cost of riding with us for the day would be a barrier. Please reach out if you would like us to cover all or some of your entry costs!\nReach out to us via Email: prideridesvt @ gmail.com\nfor more info\, for the sign up form\, and to RSVP for the day. Advanced RSVP/sign up will be necessary for the special Pride Rides day of downhill pricing.\nIf you are a VMBA member and haven’t used your downhill ticket yet\, this could be a great time! If you aren’t yet a VMBA member\, check them out! Not only is it a great way to support your local MTB chapter and trail crew\, but you also get a lot of sweet benefits(including a few free downhill lift tickets!) for the cost of membership.\nWe’ll plan to be there for first chair and until the last one spins for the day. Stay all day or just join us for a few hours!\nFood and drinks are available for sale at the lodge\, but we will also be providing a good supply of seltzer and water at our designated base lodge\, aka Kris’s car in the main lot (look for the Pride Rides banner!)\nIf you have any questions/ reservations about downhill riding\, feel free to reach out and we can chat about if this would be a fun/ exciting mountain bike experience for you!
URL:https://vmba.org/event/pride-rides-vt-downhill-day-at-killington/
LOCATION:Killington Resort
CATEGORIES:Group Rides / Races
ATTACH;FMTTYPE=image/png:https://vmba.org/wp-content/uploads/2021/09/inbound14887120954773138232-1.png
END:VEVENT
BEGIN:VEVENT
DTSTART;TZID=America/New_York:20211012T173000
DTEND;TZID=America/New_York:20211012T200000
DTSTAMP:20260421T221301
CREATED:20210420T152318Z
LAST-MODIFIED:20210513T183509Z
UID:28296-1634059800-1634068800@vmba.org
SUMMARY:Trail Nights
DESCRIPTION:Meet at Perry Hill in the parking lot unless you hear otherwise. We supply the tools and the game plan. Just bring anything you think you need for working out in the woods. It’s better to have more than want more. For a short list of suggestions\, scroll down a little further. All abilities welcome! Fo’ Realz’! Anyone can show! \nTrail night stuff you might want to bring:\nHydration\nClothes you don’t mind getting a beating and appropriate for the weather\nBug Dope\nBackpack to carry personal items\nGloves\nYour favorite tool\nOptional- one prepared joke to tell people\nA dog
URL:https://vmba.org/event/trail-nights-2/
LOCATION:VT
CATEGORIES:Trail Days
END:VEVENT
BEGIN:VEVENT
DTSTART;TZID=America/New_York:20211012T190000
DTEND;TZID=America/New_York:20211012T200000
DTSTAMP:20260421T221301
CREATED:20210812T003754Z
LAST-MODIFIED:20210812T003754Z
UID:31632-1634065200-1634068800@vmba.org
SUMMARY:ACBC October Club Meeting
DESCRIPTION:Join us the 2nd Tuesday of every month for our monthly club meetings. These meetings are open to the public and are a great way to learn more about upcoming events and projects happening in Addison County.\nWe will do our best to bullet upcoming month topics in advance.\nThese meetings will be in front of Frog Hollow Bikes in Cannon Park. We will be following CDC guidelines.
URL:https://vmba.org/event/acbc-october-club-meeting/
LOCATION:VT
END:VEVENT
BEGIN:VEVENT
DTSTART;TZID=America/New_York:20211016T100000
DTEND;TZID=America/New_York:20211016T170000
DTSTAMP:20260421T221301
CREATED:20210804T185820Z
LAST-MODIFIED:20210804T185820Z
UID:31489-1634378400-1634403600@vmba.org
SUMMARY:Vermont Youth Cycling League\, Cochran's\, Richmond
DESCRIPTION:Last of four races in our fall youth mountain biking series for riders in Grades 5-12. Independent racers and teams are welcome. Please visit vtyouthcycling.org for more details about the league\, membership and race registration.
URL:https://vmba.org/event/vermont-youth-cycling-league-cochrans-richmond/
LOCATION:VT
CATEGORIES:Group Rides / Races
END:VEVENT
BEGIN:VEVENT
DTSTART;TZID=America/New_York:20211026T173000
DTEND;TZID=America/New_York:20211026T200000
DTSTAMP:20260421T221301
CREATED:20210420T152356Z
LAST-MODIFIED:20210714T183138Z
UID:28298-1635269400-1635278400@vmba.org
SUMMARY:Trail Nights
DESCRIPTION:Meet at Perry Hill in the parking lot unless you hear otherwise. We supply the tools and the game plan. Just bring anything you think you need for working out in the woods. It’s better to have more than want more. For a short list of suggestions\, scroll down a little further. All abilities welcome! Fo’ Realz’! Anyone can show! \nTrail night stuff you might want to bring:\nHydration\nClothes you don’t mind getting a beating and appropriate for the weather\nBug Dope\nBackpack to carry personal items\nGloves\nYour favorite tool\nOptional- one prepared joke to tell people\nA dog
URL:https://vmba.org/event/trail-nights/
LOCATION:Perry Hill\, River Rd\, Waterbury\, VT\, 05676
CATEGORIES:Trail Days
ATTACH;FMTTYPE=image/jpeg:https://vmba.org/wp-content/uploads/2021/04/173389736_1747552478782395_4145415989430898128_n.jpg
END:VEVENT
END:VCALENDAR