BEGIN:VCALENDAR
VERSION:2.0
PRODID:-//VMBA - ECPv6.15.17.1//NONSGML v1.0//EN
CALSCALE:GREGORIAN
METHOD:PUBLISH
X-ORIGINAL-URL:https://vmba.org
X-WR-CALDESC:Events for VMBA
REFRESH-INTERVAL;VALUE=DURATION:PT1H
X-Robots-Tag:noindex
X-PUBLISHED-TTL:PT1H
BEGIN:VTIMEZONE
TZID:America/New_York
BEGIN:DAYLIGHT
TZOFFSETFROM:-0500
TZOFFSETTO:-0400
TZNAME:EDT
DTSTART:20220313T070000
END:DAYLIGHT
BEGIN:STANDARD
TZOFFSETFROM:-0400
TZOFFSETTO:-0500
TZNAME:EST
DTSTART:20221106T060000
END:STANDARD
BEGIN:DAYLIGHT
TZOFFSETFROM:-0500
TZOFFSETTO:-0400
TZNAME:EDT
DTSTART:20230312T070000
END:DAYLIGHT
BEGIN:STANDARD
TZOFFSETFROM:-0400
TZOFFSETTO:-0500
TZNAME:EST
DTSTART:20231105T060000
END:STANDARD
BEGIN:DAYLIGHT
TZOFFSETFROM:-0500
TZOFFSETTO:-0400
TZNAME:EDT
DTSTART:20240310T070000
END:DAYLIGHT
BEGIN:STANDARD
TZOFFSETFROM:-0400
TZOFFSETTO:-0500
TZNAME:EST
DTSTART:20241103T060000
END:STANDARD
END:VTIMEZONE
BEGIN:VEVENT
DTSTART;TZID=America/New_York:20230925T180000
DTEND;TZID=America/New_York:20230925T200000
DTSTAMP:20260422T071520
CREATED:20230915T163440Z
LAST-MODIFIED:20230915T163440Z
UID:73955-1695664800-1695672000@vmba.org
SUMMARY:Velomont Trail Open House
DESCRIPTION:The Velomont Trail will be a unique multi-use trail connecting towns\, villages\, and their respective trail systems across the state through an end-to-end\, hut-to-hut experience like nothing else in the country. \nDrop into one of the open house events anytime to learn more about the vision for this project and share your thoughts! Your input will help inform the planning and implementation of the Velomont Trail. \nCan’t make an open house? Take the online survey at velomonttrail.org
URL:https://vmba.org/event/velomont-trail-open-house/
LOCATION:VYCC Monitor Barn\, Richmond\, Vermont
CATEGORIES:Festivals/Parties,Workshop
END:VEVENT
BEGIN:VEVENT
DTSTART;TZID=America/New_York:20230926T180000
DTEND;TZID=America/New_York:20230926T200000
DTSTAMP:20260422T071520
CREATED:20230915T163537Z
LAST-MODIFIED:20230915T163537Z
UID:73958-1695751200-1695758400@vmba.org
SUMMARY:Velomont Trail Open House
DESCRIPTION:The Velomont Trail will be a unique multi-use trail connecting towns\, villages\, and their respective trail systems across the state through an end-to-end\, hut-to-hut experience like nothing else in the country. \nDrop into one of the open house events anytime to learn more about the vision for this project and share your thoughts! Your input will help inform the planning and implementation of the Velomont Trail. \nCan’t make an open house? Take the online survey at velomonttrail.org
URL:https://vmba.org/event/velomont-trail-open-house-2/
LOCATION:Georgetti Park\, Rutland\, Vermont
CATEGORIES:Festivals/Parties,Workshop
END:VEVENT
END:VCALENDAR