BEGIN:VCALENDAR
VERSION:2.0
PRODID:-//VMBA - ECPv6.15.17.1//NONSGML v1.0//EN
CALSCALE:GREGORIAN
METHOD:PUBLISH
X-ORIGINAL-URL:https://vmba.org
X-WR-CALDESC:Events for VMBA
REFRESH-INTERVAL;VALUE=DURATION:PT1H
X-Robots-Tag:noindex
X-PUBLISHED-TTL:PT1H
BEGIN:VTIMEZONE
TZID:America/New_York
BEGIN:DAYLIGHT
TZOFFSETFROM:-0500
TZOFFSETTO:-0400
TZNAME:EDT
DTSTART:20240310T070000
END:DAYLIGHT
BEGIN:STANDARD
TZOFFSETFROM:-0400
TZOFFSETTO:-0500
TZNAME:EST
DTSTART:20241103T060000
END:STANDARD
BEGIN:DAYLIGHT
TZOFFSETFROM:-0500
TZOFFSETTO:-0400
TZNAME:EDT
DTSTART:20250309T070000
END:DAYLIGHT
BEGIN:STANDARD
TZOFFSETFROM:-0400
TZOFFSETTO:-0500
TZNAME:EST
DTSTART:20251102T060000
END:STANDARD
BEGIN:DAYLIGHT
TZOFFSETFROM:-0500
TZOFFSETTO:-0400
TZNAME:EDT
DTSTART:20260308T070000
END:DAYLIGHT
BEGIN:STANDARD
TZOFFSETFROM:-0400
TZOFFSETTO:-0500
TZNAME:EST
DTSTART:20261101T060000
END:STANDARD
END:VTIMEZONE
BEGIN:VEVENT
DTSTART;TZID=America/New_York:20251004T090000
DTEND;TZID=America/New_York:20251004T180000
DTSTAMP:20260420T162237
CREATED:20250812T140337Z
LAST-MODIFIED:20250812T140504Z
UID:152474-1759568400-1759600800@vmba.org
SUMMARY:The 2025 Leaf Blower Fall Classic Mountain Bike Festival
DESCRIPTION:Stowe Trails Partnership is thrilled to present Vermont’s favorite autumn mountain bike tradition: the 14th annual Leaf Blower Fall Classic Mountain Bike Festival! This year’s Leaf Blower will be held on Saturday\, October 4th\, 2025\, and will be hosted at Strawberry Hill Farm. With amazing riding for all ability levels\, awesome vendors\, homegrown food\, local libations\, and live music\, there is no better way to cap off the season than with this one-day community bike bash. \nAs always\, the marquee draw will be the rides\, tackling some of the northeast’s best terrain and affording some of Vermont’s most epic views—whether you love endurance or are new to riding\, we have a singletrack loop for you that’ll pass multiple aid stations and maximize the fun! \nAfter you’ve gotten your fill of single-track\, join us back at Strawberry Hill Farm for a variety of food trucks; some brews and beverages; music\, and a vendor village full of local businesses. Your registration fee covers the rides\, vendor garden\, aid station snacks\, a post-ride beverage\, and a food truck dinner. \nBe sure to register early – we expect the event to sell out. The Leaf Blower is STP’s biggest fundraiser of the year\, so we appreciate your participation! Ticket pricing below\, and don’t forget to add your Leaf Blower shirt to your order. Pre-orders must be purchased by September 20th\, 2025! \n\nActive STP member: $65\nNon-member: $90\n\nEvent Location \nStrawberry Hill Farm\, 300 Meadow Lane\, Stowe\, VT 05672 \nThis is a dog-free event. Please leave your furry friends at home! \nEvent Schedule \nWe’ll see you on Saturday\, October 5th! This is a rain-or-shine event\, but in the event of a total monsoon that would cause ample damage to the trails\, we will refund your ticket. \n\n9:00am: Registration opens\n9:30am – 11:30am: Riders depart\n12:30pm – 5:00pm: Food is served\n4:00pm – 6:00pm: Live music from the Deadbeats!\n\nParking \nDue to limited space\, parking will not be allowed at Strawberry Hill Farm. Please park at the Stowe High School (413 Barrows Road) and ride your bike to Strawberry Hill Farm there (there will be signs on the trail to direct you). A bag check area will be available to store gear and bags while riding! \nMore information on the rides can be found in the images below:
URL:https://vmba.org/event/the-2025-leaf-blower-fall-classic-mountain-bike-festival/
LOCATION:Strawberry Hill Farm\, 300 Meadow Lane\, Stowe\, VT\, 05672\, United States
CATEGORIES:Festivals/Parties,Group Rides / Races
END:VEVENT
BEGIN:VEVENT
DTSTART;TZID=America/New_York:20251012T080000
DTEND;TZID=America/New_York:20251012T150000
DTSTAMP:20260420T162237
CREATED:20250804T162734Z
LAST-MODIFIED:20250804T163926Z
UID:152352-1760256000-1760281200@vmba.org
SUMMARY:VTYC Race #4 Woodstock Mt.Peg - Enduro
DESCRIPTION:More info at Vermont Youth Cyclings Website
URL:https://vmba.org/event/vtyc-race-4-woodstock-mt-peg-enduro/
LOCATION:Mt. Peg
CATEGORIES:Group Rides / Races
END:VEVENT
BEGIN:VEVENT
DTSTART;TZID=America/New_York:20251019T100000
DTEND;TZID=America/New_York:20251019T150000
DTSTAMP:20260420T162237
CREATED:20251015T125625Z
LAST-MODIFIED:20251015T125625Z
UID:153208-1760868000-1760886000@vmba.org
SUMMARY:Pride Ride at Kingdom Trails
DESCRIPTION:10am meet at the KT parking by Mike’s Tiki Bar. \nTwo separate rides with lunch break in the middle! \nFirst ride 10AM-12\nLunch hour\nSecond ride 1-3PM \nBoth rides approximately 2 hours in length- “beginnermediate” ride level due to length and some technicality.
URL:https://vmba.org/event/pride-ride-at-kingdom-trails/
LOCATION:Kingdom Trails
CATEGORIES:Group Rides / Races
ATTACH;FMTTYPE=image/jpeg:https://vmba.org/wp-content/uploads/2025/10/EE5741BE-1AB2-4A72-9E4A-E85ACA4E2F80-1.jpeg
END:VEVENT
END:VCALENDAR