BEGIN:VCALENDAR
VERSION:2.0
PRODID:-//VMBA - ECPv6.15.17.1//NONSGML v1.0//EN
CALSCALE:GREGORIAN
METHOD:PUBLISH
X-WR-CALNAME:VMBA
X-ORIGINAL-URL:https://vmba.org
X-WR-CALDESC:Events for VMBA
REFRESH-INTERVAL;VALUE=DURATION:PT1H
X-Robots-Tag:noindex
X-PUBLISHED-TTL:PT1H
BEGIN:VTIMEZONE
TZID:America/New_York
BEGIN:DAYLIGHT
TZOFFSETFROM:-0500
TZOFFSETTO:-0400
TZNAME:EDT
DTSTART:20240310T070000
END:DAYLIGHT
BEGIN:STANDARD
TZOFFSETFROM:-0400
TZOFFSETTO:-0500
TZNAME:EST
DTSTART:20241103T060000
END:STANDARD
BEGIN:DAYLIGHT
TZOFFSETFROM:-0500
TZOFFSETTO:-0400
TZNAME:EDT
DTSTART:20250309T070000
END:DAYLIGHT
BEGIN:STANDARD
TZOFFSETFROM:-0400
TZOFFSETTO:-0500
TZNAME:EST
DTSTART:20251102T060000
END:STANDARD
BEGIN:DAYLIGHT
TZOFFSETFROM:-0500
TZOFFSETTO:-0400
TZNAME:EDT
DTSTART:20260308T070000
END:DAYLIGHT
BEGIN:STANDARD
TZOFFSETFROM:-0400
TZOFFSETTO:-0500
TZNAME:EST
DTSTART:20261101T060000
END:STANDARD
END:VTIMEZONE
BEGIN:VEVENT
DTSTART;TZID=America/New_York:20250413T100000
DTEND;TZID=America/New_York:20250413T150000
DTSTAMP:20260421T014252
CREATED:20250311T143106Z
LAST-MODIFIED:20250311T143106Z
UID:145946-1744538400-1744556400@vmba.org
SUMMARY:Mad River Triathlon
DESCRIPTION:America’s only four-sport triathlon\, since 1979! \nThe Mad River Triathlon is a four-adventure sports event set in Central Vermont’s picturesque Mad River Valley. The event consists of a six-mile run\, six-mile paddle down the Mad River\, ten-mile bike along gravel and road\, and finally skiing up and down intermediate terrain at Mount Ellen. Participate in a relay team\, as an individual\, or just for certain legs. \nWe are pleased to announce Rob Center as our 2025 Triathlon Speaker\, one of the founders of the original Mad River Triathlon in 1979. Rob will be competing in the event with a team of elite athletes from the eighties. \nMad River Triathlon is a fundraising event for a coalition of four recreation and conservation non-profits. All proceeds support the restoration of the Mad River and the development of sustainable\, inclusive\, and interconnected recreational infrastructure in the Mad River Valley. \nWe are making every effort to create an inclusive event by allowing a wide range of equipment\, offering group raft rides down the river\, allowing you to choose the legs you wish to participate in\, and a broad range of categories and accommodations for adaptive athletes. Additionally\, if you cannot afford the registration fee\, just let us know and we will offer you a reduced registration rate. \nThis is a green event that strives for zero waste\, minimizes its carbon footprint\, and restores the riparian forest along the Mad River on behalf of the participants. \nFor more information and registration\, please visit madriverpath.org/madrivertriathlon.
URL:https://vmba.org/event/mad-river-triathlon-2/
LOCATION:Sugarbush Resort Mt. Ellen
CATEGORIES:Group Rides / Races
ATTACH;FMTTYPE=image/jpeg:https://vmba.org/wp-content/uploads/2025/03/1-269.jpg
END:VEVENT
BEGIN:VEVENT
DTSTART;TZID=America/New_York:20250427T120000
DTEND;TZID=America/New_York:20250427T160000
DTSTAMP:20260421T014252
CREATED:20250402T234757Z
LAST-MODIFIED:20250402T234757Z
UID:146958-1745755200-1745769600@vmba.org
SUMMARY:Ranger Pre Ride - Woodstock
DESCRIPTION:Join us for a Ranger PreRide! In celebration of (and preparation for) the Ranger Gravel-Enduro\, the Ranger crew and Ranch Camp are hosting a laid back social ride to get a little conditioning under our belts. This will be the first of two pre-rides. Let’s bike party\, friends! \nRide routes will be provided in advance we’ll be providing ride leaders to keep participants on course. We’ll also sort ourselves into intermediate and advanced rides so that everyone is accommodated. All rides will be 25+ miles. \nThe ride is capped at 50 people total so please RSVP.
URL:https://vmba.org/event/ranger-pre-ride-woodstock/
LOCATION:Mt. Peg
CATEGORIES:Group Outing,Group Rides / Races
END:VEVENT
END:VCALENDAR