BEGIN:VCALENDAR
VERSION:2.0
PRODID:-//VMBA - ECPv6.15.17.1//NONSGML v1.0//EN
CALSCALE:GREGORIAN
METHOD:PUBLISH
X-WR-CALNAME:VMBA
X-ORIGINAL-URL:https://vmba.org
X-WR-CALDESC:Events for VMBA
REFRESH-INTERVAL;VALUE=DURATION:PT1H
X-Robots-Tag:noindex
X-PUBLISHED-TTL:PT1H
BEGIN:VTIMEZONE
TZID:America/New_York
BEGIN:DAYLIGHT
TZOFFSETFROM:-0500
TZOFFSETTO:-0400
TZNAME:EDT
DTSTART:20220313T070000
END:DAYLIGHT
BEGIN:STANDARD
TZOFFSETFROM:-0400
TZOFFSETTO:-0500
TZNAME:EST
DTSTART:20221106T060000
END:STANDARD
BEGIN:DAYLIGHT
TZOFFSETFROM:-0500
TZOFFSETTO:-0400
TZNAME:EDT
DTSTART:20230312T070000
END:DAYLIGHT
BEGIN:STANDARD
TZOFFSETFROM:-0400
TZOFFSETTO:-0500
TZNAME:EST
DTSTART:20231105T060000
END:STANDARD
BEGIN:DAYLIGHT
TZOFFSETFROM:-0500
TZOFFSETTO:-0400
TZNAME:EDT
DTSTART:20240310T070000
END:DAYLIGHT
BEGIN:STANDARD
TZOFFSETFROM:-0400
TZOFFSETTO:-0500
TZNAME:EST
DTSTART:20241103T060000
END:STANDARD
END:VTIMEZONE
BEGIN:VEVENT
DTSTART;TZID=America/New_York:20230125T180000
DTEND;TZID=America/New_York:20230125T193000
DTSTAMP:20260424T142740
CREATED:20230120T182336Z
LAST-MODIFIED:20230120T182336Z
UID:44354-1674669600-1674675000@vmba.org
SUMMARY:Fat Bike Wednesdays at Catamount Outdoor
DESCRIPTION:Join us every Wednesday evening this winter at Catamount for Guided Fat Bike Rides!\nGrab your fat bike and headlamp and met us at the Hub (near the parking lot) at 6:00pm. Tires will hit the trails at 6:15pm! \nDon’t have a bike? Our rental Hub has you covered (bike rentals are first come first serve and a credit card is required to be held while you’re on trail)! Please arrive ~20 minutes early if renting a bike. \nRides will be approximately 1.5 hours and are beginner friendly. Want some extra instruction before the ride? Check out our lesson options! \nAn Annual or Day Membership is required to access the trails. If purchasing memberships on site\, please arrive 5-10 minutes early. \n2023 Ride Dates \n\nJanuary 11\, 18\, 25\nFeb 1\, 8\, 15\, 22\,\nMarch 1\, 8\, 15\, 22\, 29\n\nAll rides are conditions dependent
URL:https://vmba.org/event/fat-bike-wednesdays-at-catamount-outdoor/
LOCATION:Catamount Outdoor Center\, Williston\, VT
CATEGORIES:Group Rides / Races
ORGANIZER;CN="Catamount Outdoor Family Center":MAILTO:thehub@catamountoutdoor.org
END:VEVENT
BEGIN:VEVENT
DTSTART;TZID=America/New_York:20230126T180000
DTEND;TZID=America/New_York:20230126T200000
DTSTAMP:20260424T142740
CREATED:20230120T200312Z
LAST-MODIFIED:20230120T200312Z
UID:44413-1674756000-1674763200@vmba.org
SUMMARY:Thursday Night Headlamp Ski Tours at Horace Hill
DESCRIPTION:On Thursday nights SoVTA will host a headlamp tour of Horace Hill (weather permitting). They will be leaving from the fire pit behind OMT and returning to OMT for a few post-tour libations. This tour will be hosted by one of the SoVTA board members each week. This tour is open to people on touring skis\, splitboards and snowshoes. They may have extra snowshoes if people need them thanks to CTA. \nThese tours are open to everyone and are no drop. They ask that you can comfortably ski or ride in moderately pitched tree’d terrain. This is not a Ski or Snowboard lesson. These tours are weather dependent\, so please visit their website and Instagram for the most up-to-date information and Required Equipment List. You can also reach them via email at events2022@sovta.org.
URL:https://vmba.org/event/thursday-night-headlamp-ski-tours-at-horace-hill/
LOCATION:Horace Hill
CATEGORIES:Group Rides / Races
ORGANIZER;CN="Southern Vermont Trail Association":MAILTO:events2022@sovta.org
END:VEVENT
BEGIN:VEVENT
DTSTART;TZID=America/New_York:20230128T090000
DTEND;TZID=America/New_York:20230128T170000
DTSTAMP:20260424T142740
CREATED:20230119T180003Z
LAST-MODIFIED:20230119T180003Z
UID:44319-1674896400-1674925200@vmba.org
SUMMARY:ACBC Fat Bike Roundup
DESCRIPTION:ACBC is hosting a great time riding fat bikes at Rikert. Sign up today and join us for the Fat Bike Round Up – Saturday\, January 28th. Fat Bikes\, Adaptive Bikes\, Like-minded riders – fun for all!! Sign up early and sign up often!!! \n  \nSign up HERE.
URL:https://vmba.org/event/acbc-fat-bike-roundup/
LOCATION:Rikert Nordic Center
CATEGORIES:Festivals/Parties,Group Rides / Races
END:VEVENT
BEGIN:VEVENT
DTSTART;TZID=America/New_York:20230129T080000
DTEND;TZID=America/New_York:20230129T170000
DTSTAMP:20260424T142740
CREATED:20230120T195807Z
LAST-MODIFIED:20230120T195807Z
UID:44397-1674979200-1675011600@vmba.org
SUMMARY:Saturday Ski Tours at the Dover Town Forest
DESCRIPTION:Each week SoVTA’s Executive Director Steve Petrik will take a group out and work on the skills new and seasoned users need to be safe and efficient in backcountry touring. This will be an informal\, low-pressure clinic with a focus on fun and enjoying the natural resource that is the Dover Town Forest. The topics will change from week to week depending on the conditions and the skill level of the group. They will try to post the skills that you will be working on the week before\, so you can plan ahead but again these clinics will be tailored to the group and the conditions the day of. These tours are open to everyone and are no drop. They ask that you can comfortably ski or ride in the moderately pitched tree’d terrain. This is not a Ski or Snowboard lesson. These tours are weather dependent\, so please visit their website and Instagram for the most up-to-date information and Required Equipment List. You can also reach them via email at events2022@sovta.org.
URL:https://vmba.org/event/saturday-ski-tours-at-the-dover-town-forest/
LOCATION:Dover Town Forest
CATEGORIES:Group Rides / Races
ORGANIZER;CN="Southern Vermont Trail Association":MAILTO:events2022@sovta.org
END:VEVENT
END:VCALENDAR