BEGIN:VCALENDAR
VERSION:2.0
PRODID:-//VMBA - ECPv6.15.17.1//NONSGML v1.0//EN
CALSCALE:GREGORIAN
METHOD:PUBLISH
X-ORIGINAL-URL:https://vmba.org
X-WR-CALDESC:Events for VMBA
REFRESH-INTERVAL;VALUE=DURATION:PT1H
X-Robots-Tag:noindex
X-PUBLISHED-TTL:PT1H
BEGIN:VTIMEZONE
TZID:America/New_York
BEGIN:DAYLIGHT
TZOFFSETFROM:-0500
TZOFFSETTO:-0400
TZNAME:EDT
DTSTART:20210314T070000
END:DAYLIGHT
BEGIN:STANDARD
TZOFFSETFROM:-0400
TZOFFSETTO:-0500
TZNAME:EST
DTSTART:20211107T060000
END:STANDARD
BEGIN:DAYLIGHT
TZOFFSETFROM:-0500
TZOFFSETTO:-0400
TZNAME:EDT
DTSTART:20220313T070000
END:DAYLIGHT
BEGIN:STANDARD
TZOFFSETFROM:-0400
TZOFFSETTO:-0500
TZNAME:EST
DTSTART:20221106T060000
END:STANDARD
BEGIN:DAYLIGHT
TZOFFSETFROM:-0500
TZOFFSETTO:-0400
TZNAME:EDT
DTSTART:20230312T070000
END:DAYLIGHT
BEGIN:STANDARD
TZOFFSETFROM:-0400
TZOFFSETTO:-0500
TZNAME:EST
DTSTART:20231105T060000
END:STANDARD
END:VTIMEZONE
BEGIN:VEVENT
DTSTART;TZID=America/New_York:20220901T173000
DTEND;TZID=America/New_York:20220901T190000
DTSTAMP:20260424T201355
CREATED:20220627T193428Z
LAST-MODIFIED:20220627T193428Z
UID:40147-1662053400-1662058800@vmba.org
SUMMARY:Women's Ride - ROC
DESCRIPTION:Friendly\, no-drop ride for Women and gender non-binary riders. For more info\, contact: hannahebarden@gmail.com
URL:https://vmba.org/event/womens-ride-roc-2-2-2-2-2-2-2-2-2/
LOCATION:North Reservoir Road\, N Reservoir Road\, Randolph\, VT\, 05060\, United States
CATEGORIES:Group Rides / Races
END:VEVENT
BEGIN:VEVENT
DTSTART;TZID=America/New_York:20220903T100000
DTEND;TZID=America/New_York:20220903T170000
DTSTAMP:20260424T201355
CREATED:20220408T144343Z
LAST-MODIFIED:20220831T162412Z
UID:36611-1662199200-1662224400@vmba.org
SUMMARY:VMBA Day - Bolton Valley
DESCRIPTION:Join us for the 4th and final stop of the VMBA Days series at Bolton Valley! VMBA and Bolton Valley will be leading 2 group rides during the day. The first one will be going out at 12pm then another one rolls out at 2:15pm. \nOutdoor Gear Exchange will be there with their demo fleet\, including a Scor 4060! Take it out for a spin and then enter to win one for yourself in our annual Bike Raffle! No better way to test a bike and then get a chance to win one for only $5 a ticket. \nStop by the VMBA tent to sign up for a group ride\, purchase your VMBA Membership (which includes a FREE DH MTB ticket to Bolton Valley)\, and enter our raffles (yep\, there’s more than one!). Plus\, there are some limited edition VMBA swag only available for purchase at our events. \nBig shout out to 14th Star Brewing and Bolton Valley for also donating a portion of their beer sales during the VMBA Day to our organization. Enjoy a tasty brew and support a great cause! \nStick around and end the day with our day-of raffle drawing at 4pm. We have prizes from Darn Tough\, Cabot Cheese\, VMBA\, and Bolton Valley\, don’t forget to sign up at the VMBA tent. Then at 7pm\, Bolton Valley as their Dog Days at Bolton Valley music series with The Wormdogs taking the stage. Don’t miss your chance to check out this amazing local band! \nWe hope to see you there for this jam-packed day of bikes\, beers\, tunes\, and more! \nTrail Map & Conditions: https://www.boltonvalley.com/summer/mountain-biking/mtb-trails-map/ \n  \nSchedule: \n\nSaturday 9/3\n\n10am – 5pm: VMBA tent will be open and lifts are spinning\n12pm: Group ride with VMBA Ambassadors\nAll Day: 14 Star Brewery fundraiser (drink for a good cause)\n2:15pm: VMBA Ambassador and staff group ride\n4pm: Free Raffle Drawing (must be present to win)\n7pm: The Wormdogs
URL:https://vmba.org/event/vmba-day-bolton-valley/
LOCATION:Bolton Valley Resort\, Bolton\, 05477
CATEGORIES:Festivals/Parties,Group Rides / Races
ATTACH;FMTTYPE=image/jpeg:https://vmba.org/wp-content/uploads/2022/07/2022-30-05_ST_ZG_MemorialDayWeekend_Event-2-1-scaled.jpg
END:VEVENT
BEGIN:VEVENT
DTSTART;TZID=America/New_York:20220905T173000
DTEND;TZID=America/New_York:20220905T193000
DTSTAMP:20260424T201355
CREATED:20220627T190921Z
LAST-MODIFIED:20220627T190921Z
UID:40090-1662399000-1662406200@vmba.org
SUMMARY:Co-Ed Beginner Intermediate Group Ride
DESCRIPTION:Weekly group ride\, co-ed group ride. Intermediate No-drop pace\, option for beginners and multi-level groups depending on attendance. Contact Morgan Easton at morganic802@gmail.com for meeting spot each week and more information
URL:https://vmba.org/event/co-ed-beginner-intermediate-group-ride-2-2-2-2-2-2-2-2-2/
CATEGORIES:Group Rides / Races
END:VEVENT
BEGIN:VEVENT
DTSTART;TZID=America/New_York:20220906T180000
DTEND;TZID=America/New_York:20220906T200000
DTSTAMP:20260424T201355
CREATED:20220627T192309Z
LAST-MODIFIED:20220627T192309Z
UID:40119-1662487200-1662494400@vmba.org
SUMMARY:Advanced Group Mtb Ride - ROC
DESCRIPTION:Advanced paced group ride\, starting at the gear house. Contact Morgan at morganic802@gmail.com or give The Gear House a call for more information.
URL:https://vmba.org/event/advanced-group-mtb-ride-roc-2-2-2-2-2-2-2-2-2-2/
LOCATION:The Gear House\, 16 Pleasant St\, Randolph\, VT\, 05060\, United States
CATEGORIES:Group Rides / Races
END:VEVENT
BEGIN:VEVENT
DTSTART;TZID=America/New_York:20220908T173000
DTEND;TZID=America/New_York:20220908T190000
DTSTAMP:20260424T201355
CREATED:20220627T193502Z
LAST-MODIFIED:20220627T193502Z
UID:40149-1662658200-1662663600@vmba.org
SUMMARY:Women's Ride - ROC
DESCRIPTION:Friendly\, no-drop ride for Women and gender non-binary riders. For more info\, contact: hannahebarden@gmail.com
URL:https://vmba.org/event/womens-ride-roc-2-2-2-2-2-2-2-2-2-2/
LOCATION:North Reservoir Road\, N Reservoir Road\, Randolph\, VT\, 05060\, United States
CATEGORIES:Group Rides / Races
END:VEVENT
BEGIN:VEVENT
DTSTART;TZID=America/New_York:20220910T093000
DTEND;TZID=America/New_York:20220910T200000
DTSTAMP:20260424T201355
CREATED:20220906T180627Z
LAST-MODIFIED:20220906T180627Z
UID:42551-1662802200-1662840000@vmba.org
SUMMARY:Repro Ride
DESCRIPTION:What is the Repro Ride?\n\n\n\n\nWhen we pedal a bike\, whether grinding up a relentless grade or flying down so fast your cheeks ripple\, we are empowered and free to determine the route. We believe that the course of one’s own life should be the same way; empowered and free. \nThat all starts with the fundamental belief that every human being should have autonomy over their body\, to create the life and pedal the path they choose. \nAbout the Organizers\nThe event organizers are a group of friends and enthusiastic riders from Pomfret: Jordana “Jordie” Jusidman\, Leah Skypeck\, and Sarah Lauridsen\, as well as a larger group of local volunteers. \nOn a drive to work last June\, Leah listened to a radio segment about a community activist and the ways she stays motivated during time in this world that seems a bit overwhelming and perhaps a tad depressing. She encouraged listeners to take things that bring us joy\, and turn them into opportunities to make a difference. Wondering how this could apply to Leah and her life and community\, she called up Jordie and pitched the idea of a community bike ride to support an issue that at the moment feels deeply personal as a woman\, healthcare provider\, and mother; reproductive rights. From that phone call on a commute to work\, they created “The Repro Ride.” \nOur Goal/Mission\nOur main objective is to raise awareness and generate support for Vermont’s Reproductive Liberty Amendment\, previously Prop 5\, now a ballot measure in Vermont’s 2022 General Election. If passed\, it would amend Vermont’s constitution to protect every person’s right to make their own reproductive decisions\, like whether and when to become pregnant\, use temporary or permanent birth control\, or seek abortion care. \nThis event will bring the community together to put our bodies in motion as a symbol of empowerment and self-determination. We want to demonstrate bodily autonomy through the freedom that comes from pedaling a bike and foster the conversation about how reproductive freedom is central to the liberty and dignity to determine one’s own life course. Perhaps that mission will feel applicable in some manner next year. If so\, we may try to do this again! \nFor this year\, all proceeds will go directly to the Vermont Reproductive Liberty Ballot Committee\, which is led by Planned Parenthood Vermont Action Fund\, ACLU of Vermont\, Alliance for a Better Vermont\, and the League of Women Voters of Vermont. \n\n\n\n\nEvent Details and Movement Options\nMOVEMENT: While we coined the name “Repro Ride\,” in the spirit of inclusivity the event offers several modalities of movement: biking\, running\, and yoga. \nRides (Participants can choose from one of three bike routes) \nthe Full Monty: a 20-mile mountain bike adventure over single track\, and class IV and dirt roads; including a downhill portion at Saskadena 6. \nthe Grind: a 25-mile gravel ride over class IV and dirt roads\, with plenty of elevation. \nthe Quickie: a 20-mile ride for gravel and mountain bikes over dirt and class IV roads\, follows the outer-loop of The Grind\, but cuts out the final 5-mile inner-loop \nRun:\nAfternoon Delight: 8 mi dirt/class IV road loop. Grab a partner for relay or run it solo! Stretch: \nFor folks who prefer a gentler activity\, join a 1-hour Svaroopa Yoga class. This quiet\, user- friendly yoga releases core tensions from tail to top. This supportive\, “spine centric” practice improves your body\, uplifts your mind and opens you to a deeper knowing of your own Self. \nPARTY ON THE HILL \nJoin us for the after party\, officially kicking off at 3 pm. We will have *Live Music*. Food and beverage will be provided to all participants. Don’t want to ride\, run\, or stretch? Join us for the after-party and donate to a great cause. Please bring your own picnic and chairs. \nSCHEDULE \n9:30 am – 12:15 pm – rolling check-in 10:30 am – the Full Monty start\n12:00 pm – the Grind and the Quickie start 12:30 pm – the Afternoon Delight start 3:00 – 4:00 pm – Stretch \n3:00 – 8:00 pm– Party on the Hill
URL:https://vmba.org/event/repro-ride/
CATEGORIES:Festivals/Parties,Group Rides / Races
END:VEVENT
BEGIN:VEVENT
DTSTART;TZID=America/New_York:20220911T100000
DTEND;TZID=America/New_York:20220911T170000
DTSTAMP:20260424T201355
CREATED:20220831T161057Z
LAST-MODIFIED:20220831T161057Z
UID:41634-1662890400-1662915600@vmba.org
SUMMARY:VTYC - Craftsbury Outdoor Center
DESCRIPTION:Race Categories\n\n\n\n\n5th & 6th grade race – race length will be approximately 3-4 miles – 1 lap \nCat C – novice riders – primarily 7th & 8th graders\, but open to high schoolers; stronger 5th & 6th graders may race up\, same race course as 5th & 6th grade\, approximately 3-4 miles – 1 lap \nCat B- intermediate riders – stronger middle school racers and less experienced high school students; approximately 6-8 miles – 2 laps \nCat A – advanced riders – more experienced high school students; approximately 9-12 miles – 3 laps \nMileages are all estimates\, courses will vary by location\, check each race course map for more details. \nAll gender categories will start and race at the same time. Podiums and scoring are by gender category (girl\, boy\, gender diverse/non-binary). \nPlease choose carefully and race within the same category for the series. If necessary\, one category change is allowed per season with the Race Director’s approval. \n\n\n\n\nStaging\nFirst race TBD. Call-ups for the remaining races will be done based on cumulative points from the 2022 season. \n\n\n\n\nScoring\nSeries Podiums\nWill be held at the last race of the season. Series podiums follow the same categories as the race podiums. \n\n\nBest 3 out of 4 races will count for the individual series points competition \n\n\nThis allows an athlete to miss one race and still challenge for the series \n\n\nIn the event of a tie\, points from the 4th race will be used as a tie breaker \n\n\nTeam points \n\n\nWill be a total of all 4 races \n\n\nFour highest score by individual team members will be counted toward the team score. \n\n\nTeam score must be from at least two gender categories. Gender categories are boy\, girl\, and gender diverse/non-binary. If a team is comprised of just one gender category\, only the top 3 scores will be counted. \n\n\nScoring Points Chart\, click here \n\n\nFirst place receives the maximum points.  This is 500 for the 5/6th grade\, C\, and B categories and 505 for the A category.  Points for each successive place are reduced successively by 10\, 9\, 8\, etc. points until a differential of 3 points is reached between 8th and 9th place.  The 3 point decrease per place continues as needed to the end of the field of riders. \n\n\nIf you change categories\, then 90% of the points of the one race will be transferred for staging and series scoring. \n\n\nVolunteering  \nREGISTRATION \nFall 2022 schedule: \nSunday\, September 11\, XC race @ Craftsbury Outdoor Center\, Craftsbury \nSaturday\, September 17\, XC race @ Kingdom Trails\, East Burke \nSaturday\, October 1\, XC race @ Mount Peg Trails\, Woodstock \nSaturday\, October 15\, Enduro race @ Cochran’s\, Richmond \nPreseason scrimmage happened on Sunday\, May 22\, 2022\nCatamount Outdoor Center\, Williston\, Results linked here
URL:https://vmba.org/event/vtyc-craftsbury-outdoor-center/
CATEGORIES:Group Rides / Races
END:VEVENT
BEGIN:VEVENT
DTSTART;TZID=America/New_York:20220912T173000
DTEND;TZID=America/New_York:20220912T193000
DTSTAMP:20260424T201355
CREATED:20220627T191033Z
LAST-MODIFIED:20220627T191033Z
UID:40092-1663003800-1663011000@vmba.org
SUMMARY:Co-Ed Beginner Intermediate Group Ride
DESCRIPTION:Weekly group ride\, co-ed group ride. Intermediate No-drop pace\, option for beginners and multi-level groups depending on attendance. Contact Morgan Easton at morganic802@gmail.com for meeting spot each week and more information
URL:https://vmba.org/event/co-ed-beginner-intermediate-group-ride-2-2-2-2-2-2-2-2-2-2/
CATEGORIES:Group Rides / Races
END:VEVENT
BEGIN:VEVENT
DTSTART;TZID=America/New_York:20220913T180000
DTEND;TZID=America/New_York:20220913T200000
DTSTAMP:20260424T201355
CREATED:20220627T192401Z
LAST-MODIFIED:20220627T192401Z
UID:40121-1663092000-1663099200@vmba.org
SUMMARY:Advanced Group Mtb Ride - ROC
DESCRIPTION:Advanced paced group ride\, starting at the gear house. Contact Morgan at morganic802@gmail.com or give The Gear House a call for more information.
URL:https://vmba.org/event/advanced-group-mtb-ride-roc-2-2-2-2-2-2-2-2-2-2-2/
LOCATION:The Gear House\, 16 Pleasant St\, Randolph\, VT\, 05060\, United States
CATEGORIES:Group Rides / Races
END:VEVENT
BEGIN:VEVENT
DTSTART;VALUE=DATE:20220915
DTEND;VALUE=DATE:20220919
DTSTAMP:20260424T201355
CREATED:20220712T145435Z
LAST-MODIFIED:20220712T145736Z
UID:40672-1663200000-1663545599@vmba.org
SUMMARY:Fox US Open of Mountain Biking - Killington
DESCRIPTION:The Fox US Open of Mountain Biking has announced the 2022 race festival will be returning to Killington Resort this September 15-18th. The Fox US OPEN originated on the East Coast in 2003 and was last hosted at Killington Resort in 2018. Top professional racers from around the world are anticipated to compete for the $80\,000 prize purse\, with this year’s top male and female of the Open Class Downhill taking home $15\,000 each. In addition to Pro/Open Class events\, the Fox US OPEN offers amateur racing classes in downhill\, enduro and dual slalom. \n“The 2018 US OPEN at Killington was a huge success for athletes and race fans\, so we’re really looking forward to bringing things back to the northeast community” stated Clay Harper\, Co-founder and Event Director of the Fox US OPEN. “It’s part of the culture of the USO that whether you’re racing or coming out to watch\, we want everyone to bring their bike and have a good time! Killington delivers just that. It’s an incredible bike park\, with great lodging and amenities too.” \nThe iconic US OPEN Downhill race remains true to its heritage as an open class event that gives up-and-coming racers the chance to step-up and compete against the pros. The race will once again be the final stop of the US Downhill National Series. As always\, open classes will compete for the cash purse and the amateur classes will be chasing prizes and bragging rights. Young racers will also have their shot in the Next Gen Youth Downhill event\, which offers age categories for intermediate and expert racers under 15 years old and provides kids with a real racing opportunity on a dedicated track. \n“Killington was my favorite US OPEN venue\, so the news that we’re going back there is exciting to me! Killington is a huge mountain with long runs and lots of terrain. The east coast roots make me feel right at home. I can’t wait to see the event take off back in Vermont – It’s on the top of my list this year!” – Neko Mulally\, Professional Downhill Racer\, 2017 and 2018 Fox US OPEN Champion \n“It’s awesome to have The US Open back on the schedule after two years! It’s a prestigious event\, as the competition is high\, and the prize purse is even higher! I have never been to Killington\, but I have heard endless great things about the mountain. I can’t wait to experience it myself and give it my all in the USO downhill to finish off the season! “ – Kailey Skelton\, Professional Downhill Racer\, 2021 US National Champion \nThe 2022 Fox US OPEN will again feature Enduro and Dual Slalom racing. Event organizers plan to return to the roots of Northeast dual slalom with a more traditional track\, so get ready for some loose and rowdy racing. Also\, back by popular demand will be the USO Best Whip\, taking place on a massive set of jumps carved into the base area of the bike park for easy viewing. This invitational competition has become a spectating favorite. \n“Bringing the Fox US Open of Mountain Biking back to Killington Resort is an incredible opportunity for the resort to showcase our commitment to offer year-round adventure through our Bike Park investment\,” says Tait Germon\, Director of Mountain Operations at Killington Resort and Pico Mountain. “However\, this event is more than just a race. You can expect a big mountain bike party for the whole family\, featuring vendors\, live music and races for all levels of riders.” \nBeyond the competition\, the Fox US OPEN has long attracted race fans\, freeriders and families. The vibe is relaxed\, and Killington Bike Park will remain open for non-racers too\, with three separate peaks to ride. Warm days and cool nights make September a great time to visit Vermont. \nCheck the Killington website for the most up-to-date information.
URL:https://vmba.org/event/fox-us-open-of-mountain-biking-killington-mt/
LOCATION:Killington Resort
CATEGORIES:Group Rides / Races
ATTACH;FMTTYPE=image/png:https://vmba.org/wp-content/uploads/2022/07/USOpenLogo.png
END:VEVENT
BEGIN:VEVENT
DTSTART;TZID=America/New_York:20220915T173000
DTEND;TZID=America/New_York:20220915T190000
DTSTAMP:20260424T201355
CREATED:20220627T193535Z
LAST-MODIFIED:20220627T193535Z
UID:40151-1663263000-1663268400@vmba.org
SUMMARY:Women's Ride - ROC
DESCRIPTION:Friendly\, no-drop ride for Women and gender non-binary riders. For more info\, contact: hannahebarden@gmail.com
URL:https://vmba.org/event/womens-ride-roc-2-2-2-2-2-2-2-2-2-2-2/
LOCATION:North Reservoir Road\, N Reservoir Road\, Randolph\, VT\, 05060\, United States
CATEGORIES:Group Rides / Races
END:VEVENT
BEGIN:VEVENT
DTSTART;TZID=America/New_York:20220917T100000
DTEND;TZID=America/New_York:20220917T170000
DTSTAMP:20260424T201355
CREATED:20220831T161241Z
LAST-MODIFIED:20220831T161241Z
UID:41636-1663408800-1663434000@vmba.org
SUMMARY:VTYC - Magill Field @ Kingdom Trails / Burke Mtn Resort
DESCRIPTION:Race Categories\n\n\n\n\n5th & 6th grade race – race length will be approximately 3-4 miles – 1 lap \nCat C – novice riders – primarily 7th & 8th graders\, but open to high schoolers; stronger 5th & 6th graders may race up\, same race course as 5th & 6th grade\, approximately 3-4 miles – 1 lap \nCat B- intermediate riders – stronger middle school racers and less experienced high school students; approximately 6-8 miles – 2 laps \nCat A – advanced riders – more experienced high school students; approximately 9-12 miles – 3 laps \nMileages are all estimates\, courses will vary by location\, check each race course map for more details. \nAll gender categories will start and race at the same time. Podiums and scoring are by gender category (girl\, boy\, gender diverse/non-binary). \nPlease choose carefully and race within the same category for the series. If necessary\, one category change is allowed per season with the Race Director’s approval. \n\n\n\n\nStaging\nFirst race TBD. Call-ups for the remaining races will be done based on cumulative points from the 2022 season. \n\n\n\n\nScoring\nSeries Podiums\nWill be held at the last race of the season. Series podiums follow the same categories as the race podiums. \n\n\nBest 3 out of 4 races will count for the individual series points competition \n\n\nThis allows an athlete to miss one race and still challenge for the series \n\n\nIn the event of a tie\, points from the 4th race will be used as a tie breaker \n\n\nTeam points \n\n\nWill be a total of all 4 races \n\n\nFour highest score by individual team members will be counted toward the team score. \n\n\nTeam score must be from at least two gender categories. Gender categories are boy\, girl\, and gender diverse/non-binary. If a team is comprised of just one gender category\, only the top 3 scores will be counted. \n\n\nScoring Points Chart\, click here \n\n\nFirst place receives the maximum points.  This is 500 for the 5/6th grade\, C\, and B categories and 505 for the A category.  Points for each successive place are reduced successively by 10\, 9\, 8\, etc. points until a differential of 3 points is reached between 8th and 9th place.  The 3 point decrease per place continues as needed to the end of the field of riders. \n\n\nIf you change categories\, then 90% of the points of the one race will be transferred for staging and series scoring. \n\n\nVolunteering  \nREGISTRATION \nFall 2022 schedule: \nSaturday\, September 17\, XC race @ Kingdom Trails\, East Burke \nSaturday\, October 1\, XC race @ Mount Peg Trails\, Woodstock \nSaturday\, October 15\, Enduro race @ Cochran’s\, Richmond \nPreseason scrimmage happened on Sunday\, May 22\, 2022\nCatamount Outdoor Center\, Williston\, Results linked here
URL:https://vmba.org/event/vtyc-craftsbury-outdoor-center-2/
CATEGORIES:Group Rides / Races
END:VEVENT
BEGIN:VEVENT
DTSTART;TZID=America/New_York:20220919T173000
DTEND;TZID=America/New_York:20220919T193000
DTSTAMP:20260424T201355
CREATED:20220627T191110Z
LAST-MODIFIED:20220627T191110Z
UID:40094-1663608600-1663615800@vmba.org
SUMMARY:Co-Ed Beginner Intermediate Group Ride
DESCRIPTION:Weekly group ride\, co-ed group ride. Intermediate No-drop pace\, option for beginners and multi-level groups depending on attendance. Contact Morgan Easton at morganic802@gmail.com for meeting spot each week and more information
URL:https://vmba.org/event/co-ed-beginner-intermediate-group-ride-2-2-2-2-2-2-2-2-2-2-2/
CATEGORIES:Group Rides / Races
END:VEVENT
BEGIN:VEVENT
DTSTART;TZID=America/New_York:20220920T180000
DTEND;TZID=America/New_York:20220920T200000
DTSTAMP:20260424T201355
CREATED:20220627T192502Z
LAST-MODIFIED:20220627T192502Z
UID:40123-1663696800-1663704000@vmba.org
SUMMARY:Advanced Group Mtb Ride - ROC
DESCRIPTION:Advanced paced group ride\, starting at the gear house. Contact Morgan at morganic802@gmail.com or give The Gear House a call for more information.
URL:https://vmba.org/event/advanced-group-mtb-ride-roc-2-2-2-2-2-2-2-2-2-2-2-2/
LOCATION:The Gear House\, 16 Pleasant St\, Randolph\, VT\, 05060\, United States
CATEGORIES:Group Rides / Races
END:VEVENT
BEGIN:VEVENT
DTSTART;TZID=America/New_York:20220922T173000
DTEND;TZID=America/New_York:20220922T190000
DTSTAMP:20260424T201355
CREATED:20220627T193619Z
LAST-MODIFIED:20220627T193619Z
UID:40153-1663867800-1663873200@vmba.org
SUMMARY:Women's Ride - ROC
DESCRIPTION:Friendly\, no-drop ride for Women and gender non-binary riders. For more info\, contact: hannahebarden@gmail.com
URL:https://vmba.org/event/womens-ride-roc-2-2-2-2-2-2-2-2-2-2-2-2/
LOCATION:North Reservoir Road\, N Reservoir Road\, Randolph\, VT\, 05060\, United States
CATEGORIES:Group Rides / Races
END:VEVENT
BEGIN:VEVENT
DTSTART;TZID=America/New_York:20220926T173000
DTEND;TZID=America/New_York:20220926T193000
DTSTAMP:20260424T201355
CREATED:20220627T191144Z
LAST-MODIFIED:20220627T191144Z
UID:40096-1664213400-1664220600@vmba.org
SUMMARY:Co-Ed Beginner Intermediate Group Ride
DESCRIPTION:Weekly group ride\, co-ed group ride. Intermediate No-drop pace\, option for beginners and multi-level groups depending on attendance. Contact Morgan Easton at morganic802@gmail.com for meeting spot each week and more information
URL:https://vmba.org/event/co-ed-beginner-intermediate-group-ride-2-2-2-2-2-2-2-2-2-2-2-2/
CATEGORIES:Group Rides / Races
END:VEVENT
BEGIN:VEVENT
DTSTART;TZID=America/New_York:20220927T180000
DTEND;TZID=America/New_York:20220927T200000
DTSTAMP:20260424T201355
CREATED:20220627T192601Z
LAST-MODIFIED:20220627T192601Z
UID:40125-1664301600-1664308800@vmba.org
SUMMARY:Advanced Group Mtb Ride - ROC
DESCRIPTION:Advanced paced group ride\, starting at the gear house. Contact Morgan at morganic802@gmail.com or give The Gear House a call for more information.
URL:https://vmba.org/event/advanced-group-mtb-ride-roc-2-2-2-2-2-2-2-2-2-2-2-2-2/
LOCATION:The Gear House\, 16 Pleasant St\, Randolph\, VT\, 05060\, United States
CATEGORIES:Group Rides / Races
END:VEVENT
BEGIN:VEVENT
DTSTART;TZID=America/New_York:20220929T173000
DTEND;TZID=America/New_York:20220929T190000
DTSTAMP:20260424T201355
CREATED:20220627T193650Z
LAST-MODIFIED:20220627T193650Z
UID:40155-1664472600-1664478000@vmba.org
SUMMARY:Women's Ride - ROC
DESCRIPTION:Friendly\, no-drop ride for Women and gender non-binary riders. For more info\, contact: hannahebarden@gmail.com
URL:https://vmba.org/event/womens-ride-roc-2-2-2-2-2-2-2-2-2-2-2-2-2/
LOCATION:North Reservoir Road\, N Reservoir Road\, Randolph\, VT\, 05060\, United States
CATEGORIES:Group Rides / Races
END:VEVENT
END:VCALENDAR