BEGIN:VCALENDAR
VERSION:2.0
PRODID:-//VMBA - ECPv6.15.17.1//NONSGML v1.0//EN
CALSCALE:GREGORIAN
METHOD:PUBLISH
X-ORIGINAL-URL:https://vmba.org
X-WR-CALDESC:Events for VMBA
REFRESH-INTERVAL;VALUE=DURATION:PT1H
X-Robots-Tag:noindex
X-PUBLISHED-TTL:PT1H
BEGIN:VTIMEZONE
TZID:America/New_York
BEGIN:DAYLIGHT
TZOFFSETFROM:-0500
TZOFFSETTO:-0400
TZNAME:EDT
DTSTART:20210314T070000
END:DAYLIGHT
BEGIN:STANDARD
TZOFFSETFROM:-0400
TZOFFSETTO:-0500
TZNAME:EST
DTSTART:20211107T060000
END:STANDARD
BEGIN:DAYLIGHT
TZOFFSETFROM:-0500
TZOFFSETTO:-0400
TZNAME:EDT
DTSTART:20220313T070000
END:DAYLIGHT
BEGIN:STANDARD
TZOFFSETFROM:-0400
TZOFFSETTO:-0500
TZNAME:EST
DTSTART:20221106T060000
END:STANDARD
BEGIN:DAYLIGHT
TZOFFSETFROM:-0500
TZOFFSETTO:-0400
TZNAME:EDT
DTSTART:20230312T070000
END:DAYLIGHT
BEGIN:STANDARD
TZOFFSETFROM:-0400
TZOFFSETTO:-0500
TZNAME:EST
DTSTART:20231105T060000
END:STANDARD
END:VTIMEZONE
BEGIN:VEVENT
DTSTART;TZID=America/New_York:20220802T180000
DTEND;TZID=America/New_York:20220802T200000
DTSTAMP:20260424T213956
CREATED:20220627T191932Z
LAST-MODIFIED:20220627T191932Z
UID:40109-1659463200-1659470400@vmba.org
SUMMARY:Advanced Group Mtb Ride - ROC
DESCRIPTION:Advanced paced group ride\, starting at the gear house. Contact Morgan at morganic802@gmail.com or give The Gear House a call for more information.
URL:https://vmba.org/event/advanced-group-mtb-ride-roc-2-2-2-2-2/
LOCATION:The Gear House\, 16 Pleasant St\, Randolph\, VT\, 05060\, United States
CATEGORIES:Group Rides / Races
END:VEVENT
BEGIN:VEVENT
DTSTART;TZID=America/New_York:20220804T173000
DTEND;TZID=America/New_York:20220804T190000
DTSTAMP:20260424T213956
CREATED:20220627T193228Z
LAST-MODIFIED:20220627T193228Z
UID:40139-1659634200-1659639600@vmba.org
SUMMARY:Women's Ride - ROC
DESCRIPTION:Friendly\, no-drop ride for Women and gender non-binary riders. For more info\, contact: hannahebarden@gmail.com
URL:https://vmba.org/event/womens-ride-roc-2-2-2-2-2/
LOCATION:North Reservoir Road\, N Reservoir Road\, Randolph\, VT\, 05060\, United States
CATEGORIES:Group Rides / Races
END:VEVENT
BEGIN:VEVENT
DTSTART;TZID=America/New_York:20220809T180000
DTEND;TZID=America/New_York:20220809T200000
DTSTAMP:20260424T213956
CREATED:20220627T192009Z
LAST-MODIFIED:20220627T192009Z
UID:40111-1660068000-1660075200@vmba.org
SUMMARY:Advanced Group Mtb Ride - ROC
DESCRIPTION:Advanced paced group ride\, starting at the gear house. Contact Morgan at morganic802@gmail.com or give The Gear House a call for more information.
URL:https://vmba.org/event/advanced-group-mtb-ride-roc-2-2-2-2-2-2/
LOCATION:The Gear House\, 16 Pleasant St\, Randolph\, VT\, 05060\, United States
CATEGORIES:Group Rides / Races
END:VEVENT
BEGIN:VEVENT
DTSTART;TZID=America/New_York:20220811T173000
DTEND;TZID=America/New_York:20220811T190000
DTSTAMP:20260424T213956
CREATED:20220627T193259Z
LAST-MODIFIED:20220627T193259Z
UID:40141-1660239000-1660244400@vmba.org
SUMMARY:Women's Ride - ROC
DESCRIPTION:Friendly\, no-drop ride for Women and gender non-binary riders. For more info\, contact: hannahebarden@gmail.com
URL:https://vmba.org/event/womens-ride-roc-2-2-2-2-2-2/
LOCATION:North Reservoir Road\, N Reservoir Road\, Randolph\, VT\, 05060\, United States
CATEGORIES:Group Rides / Races
END:VEVENT
BEGIN:VEVENT
DTSTART;TZID=America/New_York:20220812T130000
DTEND;TZID=America/New_York:20220812T193000
DTSTAMP:20260424T213956
CREATED:20220808T175625Z
LAST-MODIFIED:20220808T192520Z
UID:41202-1660309200-1660332600@vmba.org
SUMMARY:VMBA Group Ride at Kingdom Trails & Lawsons Pub Crawl
DESCRIPTION:We’re excited be hosting a group ride at the Kingdom Trails during the Enduro World Series at Burke Mtn weekend! Start off your mega weekend with VMBA and get to know the trails and meet our ambassadors. \nWe will have 2 of our Ambassadors (Rachel Cohen & Kent McFarland) and Joe Gaynor from the VMBA office showing our favorite trails at The Kingdom Trails. We will be running an Intermediate ride at Moose Haven\, route outlined here. The ride will be heading out at 1pm from the Moose Haven trail head. \nParking Address: 58-120 Community Bldg Rd\, East Haven\, VT 05837 \nPlease email Joe@vmba.org to sign up for this ride by 12pm August 12th. You will also need to file out a wavier for KT\, you can find it HERE\, and a day membership\, found HERE. You do get a one day membership with your VMBA membership.  VMBA membership will be for sale on-site. \nLater in the evening we will be doing a Pub Crawl with Lawsons! The crawl will be starting at 5pm at the Sloshie Shed (5-6pm) Then head to The Orange Rind (6-7pm) and finish off at Mike’s Tiki Bar. During the crawl we will be selling raffle tickets at $5 per ticket. The drawing will be at Mike’s Tiki’s bar at 7:30pm. You must be present to win. \nPrizes from: Burke Mtn Resort\, Cafe Lottie\, Cabot\, Lawsons\, Dakine\, Kingdom Trails\, VMBA\, Darn Tough. \n  \nFull EWS Schedule: https://ews.skiburke.com/schedule
URL:https://vmba.org/event/vmba-group-ride-at-kingdom-trails-lawsons-pub-crawl/
LOCATION:Kingdom Trails
CATEGORIES:Festivals/Parties,Group Rides / Races
END:VEVENT
BEGIN:VEVENT
DTSTART;TZID=America/New_York:20220815T173000
DTEND;TZID=America/New_York:20220815T193000
DTSTAMP:20260424T213956
CREATED:20220627T190720Z
LAST-MODIFIED:20220627T190720Z
UID:40084-1660584600-1660591800@vmba.org
SUMMARY:Co-Ed Beginner Intermediate Group Ride
DESCRIPTION:Weekly group ride\, co-ed group ride. Intermediate No-drop pace\, option for beginners and multi-level groups depending on attendance. Contact Morgan Easton at morganic802@gmail.com for meeting spot each week and more information
URL:https://vmba.org/event/co-ed-beginner-intermediate-group-ride-2-2-2-2-2-2/
CATEGORIES:Group Rides / Races
END:VEVENT
BEGIN:VEVENT
DTSTART;TZID=America/New_York:20220816T180000
DTEND;TZID=America/New_York:20220816T200000
DTSTAMP:20260424T213956
CREATED:20220627T192033Z
LAST-MODIFIED:20220627T192033Z
UID:40113-1660672800-1660680000@vmba.org
SUMMARY:Advanced Group Mtb Ride - ROC
DESCRIPTION:Advanced paced group ride\, starting at the gear house. Contact Morgan at morganic802@gmail.com or give The Gear House a call for more information.
URL:https://vmba.org/event/advanced-group-mtb-ride-roc-2-2-2-2-2-2-2/
LOCATION:The Gear House\, 16 Pleasant St\, Randolph\, VT\, 05060\, United States
CATEGORIES:Group Rides / Races
END:VEVENT
BEGIN:VEVENT
DTSTART;TZID=America/New_York:20220818T173000
DTEND;TZID=America/New_York:20220818T190000
DTSTAMP:20260424T213956
CREATED:20220627T193327Z
LAST-MODIFIED:20220627T193327Z
UID:40143-1660843800-1660849200@vmba.org
SUMMARY:Women's Ride - ROC
DESCRIPTION:Friendly\, no-drop ride for Women and gender non-binary riders. For more info\, contact: hannahebarden@gmail.com
URL:https://vmba.org/event/womens-ride-roc-2-2-2-2-2-2-2/
LOCATION:North Reservoir Road\, N Reservoir Road\, Randolph\, VT\, 05060\, United States
CATEGORIES:Group Rides / Races
END:VEVENT
BEGIN:VEVENT
DTSTART;TZID=America/New_York:20220818T173000
DTEND;TZID=America/New_York:20220818T200000
DTSTAMP:20260424T213956
CREATED:20220804T200804Z
LAST-MODIFIED:20220804T200837Z
UID:41160-1660843800-1660852800@vmba.org
SUMMARY:BIPOC Ride w/ Izzy
DESCRIPTION:Izzy Johnson\, VMBA’s DEI Coordinator\, will be hosting a BIPOC mountain bike ride this coming August 18th at Saxon Hill! This no-drop\, intermediate-level ride will roll out at 6pm\, though we’re encouraging folks to arrive closer to 5:30 to get to know everyone a bit beforehand. Meet at the main Saxon Hill parking lot (https://www.trailforks.com/poi/6124/)\n\n\nThis will be a space where people can have fun and celebrate one another and take up our space in the outdoor world. BIPOC folks are not adequately represented in the mountain bike & outdoor recreation world – help us say “hey we really are out here” and celebrate and encourage more diversity out on the trail! We hope to see you at Saxon!\n\n\n***This is a ride for those who identify as Black\, indigenous\, or as a person of color. Hope to see you out there!
URL:https://vmba.org/event/bipoc-ride-w-izzy/
LOCATION:Saxon Hill
CATEGORIES:Group Rides / Races
END:VEVENT
BEGIN:VEVENT
DTSTART;TZID=America/New_York:20220820T100000
DTEND;TZID=America/New_York:20220820T163000
DTSTAMP:20260424T213956
CREATED:20220408T143952Z
LAST-MODIFIED:20220819T220218Z
UID:36608-1660989600-1661013000@vmba.org
SUMMARY:VMBA Day - Sugarbush
DESCRIPTION:Join us for our second season of VMBA days at our downhill partner resorts. The second stop of series will be at Sugarbush Mountain Resort on August 20th. We’re excited to kick off this event with our new community builder Vermont Adaptive . VMBA\, Sugarbush\, Vermont Adaptive\, and Mad River Riders will be offering group rides throughout the day. Check the schedule below and make sure to come find us in the Lincoln courtyard to sign up for the rides. \nAt the VMBA tent we will also be running our day of raffle (which will be free to enter!)\, selling memberships (which comes with a free ticket to Sugarbush and will be given on the spot!)\, and giving out high fives and info! Make sure to check in with our other partners to see what they have going on as well. \nYou can enjoy the whole day ripping laps down Sugarbush and then stick around for drinks and the raffle. Then food and beverages can be purchased Umbrella Bar (right next to our tent) Lunch Box and Rumble. \nWe hope to see you there! \nMad River Rider possible routes (we will ride one of these based on the groups ability): \nVMBA Day 10 mile / 1540 ft on Strava:\nhttp://www.strava.com/routes/2995439894870990406 \nVMBA Day to Stark Mountain Bike on Strava: http://www.strava.com/routes/2995699064847090468 \nVMBA Day to Stark Bike – Advanced on Strava:\nhttp://www.strava.com/routes/2995741111656079130 \n  \nSchedule:  \n\n10:00am VMBA Day begins at Sugarbush Resorts Lincoln Peak – Lifts start spinning\n\nMeet at the VMBA tent in the Lincoln Courtyard to sign up for group rides ( VMBA/Sugarbush DH Laps\, VT Adaptive\, and Mad River Riders)\n\n\n1:00 – 3:30pm Guided flow trail rides with the Mad River Riders.\n3:30pm guided DH rides end.\n4pm Raffle drawing in the Lincoln Peak courtyard\nAll Day (9am – 4pm):\n\nStark Mountain Bike Works located at 9 Route 17\, Waitsfield\, VT will provide parking and shuttle service to Sugarbush Resort. Cost is $10.00 per shuttle. To sign up for shuttle service go to starkmountainbikeworks.com. Shuttle rides will be running every hour. This is not a guided tour\, but you can join a VMBA/Sugarbush DH guided ride while riding the lifts.\nThere will also be $15 one up lift ticket for sale at Sugarbush.\n15% off bike demos for the day only\n\n\n\nAmbassadors on-site: Caitlin Tam\, Brittany Garland\, Morgan Easton \nRaffle Items Sponsored By:  \n\nCabot Cheese\nDarn Tough\nSugarbush Mtn Resort (Full Tune)\nVMBA\nSki Rack (Limited edition water bottle)\nLawsons\nDakine\nFox
URL:https://vmba.org/event/vmba-day-sugarbush/
LOCATION:Sugarbush Resort Lincoln Peak\, 1840 Sugarbush Access Rd\, Warren\, VT\, 05674
CATEGORIES:Festivals/Parties,Group Rides / Races
ATTACH;FMTTYPE=image/png:https://vmba.org/wp-content/uploads/2022/04/Screen-Shot-2022-08-18-at-1.54.58-PM.png
END:VEVENT
BEGIN:VEVENT
DTSTART;TZID=America/New_York:20220822T173000
DTEND;TZID=America/New_York:20220822T193000
DTSTAMP:20260424T213956
CREATED:20220627T190802Z
LAST-MODIFIED:20220627T190802Z
UID:40086-1661189400-1661196600@vmba.org
SUMMARY:Co-Ed Beginner Intermediate Group Ride
DESCRIPTION:Weekly group ride\, co-ed group ride. Intermediate No-drop pace\, option for beginners and multi-level groups depending on attendance. Contact Morgan Easton at morganic802@gmail.com for meeting spot each week and more information
URL:https://vmba.org/event/co-ed-beginner-intermediate-group-ride-2-2-2-2-2-2-2/
CATEGORIES:Group Rides / Races
END:VEVENT
BEGIN:VEVENT
DTSTART;TZID=America/New_York:20220823T180000
DTEND;TZID=America/New_York:20220823T200000
DTSTAMP:20260424T213956
CREATED:20220627T192104Z
LAST-MODIFIED:20220627T192104Z
UID:40115-1661277600-1661284800@vmba.org
SUMMARY:Advanced Group Mtb Ride - ROC
DESCRIPTION:Advanced paced group ride\, starting at the gear house. Contact Morgan at morganic802@gmail.com or give The Gear House a call for more information.
URL:https://vmba.org/event/advanced-group-mtb-ride-roc-2-2-2-2-2-2-2-2/
LOCATION:The Gear House\, 16 Pleasant St\, Randolph\, VT\, 05060\, United States
CATEGORIES:Group Rides / Races
END:VEVENT
BEGIN:VEVENT
DTSTART;TZID=America/New_York:20220825T173000
DTEND;TZID=America/New_York:20220825T190000
DTSTAMP:20260424T213956
CREATED:20220627T193404Z
LAST-MODIFIED:20220627T193404Z
UID:40145-1661448600-1661454000@vmba.org
SUMMARY:Women's Ride - ROC
DESCRIPTION:Friendly\, no-drop ride for Women and gender non-binary riders. For more info\, contact: hannahebarden@gmail.com
URL:https://vmba.org/event/womens-ride-roc-2-2-2-2-2-2-2-2/
LOCATION:North Reservoir Road\, N Reservoir Road\, Randolph\, VT\, 05060\, United States
CATEGORIES:Group Rides / Races
END:VEVENT
BEGIN:VEVENT
DTSTART;TZID=America/New_York:20220827T100000
DTEND;TZID=America/New_York:20220828T130000
DTSTAMP:20260424T213956
CREATED:20220408T144207Z
LAST-MODIFIED:20220823T205022Z
UID:36609-1661594400-1661691600@vmba.org
SUMMARY:VMBA Day - Stratton / NATS
DESCRIPTION:Join us for the 3rd stop of the VMBA Days series at Stratton Mountain(8/27) and the Northshire Area Trail System- NATS(8/28)! On Saturday we will be at Stratton Mountain Resort. VMBA and Stratton Mountain Resort will be leading 2 group rides during the day. The first one will be going out at 11:15am with Stratton staff. Then at 2:15pm VMBA ambassador and Stratton Bike park expert Tony Bailey and VMBA’s Event and Programs Coordinator Joe Gaynor will lead a ride. Routes will be chosen by the riders. \nDuring the day VMBA will be at their tent signing people up for the group rides\, selling memberships on the spot\, and signing people up for the free raffles. This is a great opportunity to pick up your membership and use your one free Stratton DH ticket. \nIf you’re interested in getting some timed laps. Stratton has set up the Kick It Up A Notch Downhill Bike Race.  Sign up HERE before Saturday so you can be added into the system. See how you stack up against your friends. \nTo finish off the day stop by the Athletic Brewing  sampling area and the Stratton Base Plate (10% off your order if you’re a member). Once you have had time to relax in the base area. We will be doing a free raffle at 3:30pm. You will need to be present to win. \nWhy not make it a full on weekend. We will be doing a group ride at the NATS network Raptor Lane. We will be meeting up around 9am and heading out shortly after to check out the new trails. \nParking: Raptor Ln\, Dorset\, VT 05251. There is limited parking in the main lot. If you see people already parking in the lower area\, please do the same. \nTrail Map: https://www.trailforks.com/region/raptor-lane-trails-50356/ \nTo sweeten the deal Stratton is offering a lodging discount at the Black Bear Lodge for the weekend. You can see the deal HERE. Then on Friday and Saturday night the Bondville Fair will be going on. A staple in Vermont since 1797\, the Bondville Fair is back for its 224rd year for fun. With 224 years of crafts\, eats\, and events\, this is not a fair to miss! Come out for Track Events\, the Quilt Hall\, the Floral Hall and more. More Details HERE. \n  \nSchedule: \n\nSaturday 8/27\n\n10am – 4pm: VMBA tent will be open and lifts are spinning.\n11:15am: Group ride with Stratton staff will be going out.\n12 – 3:30pm: Athletic Sampling\n2:15pm: VMBA Ambassador and staff group ride.\n3:30pm: Free raffle (must be present to win).\n4 – 7pm Bondville Fair\n\n\nSunday 8/28\n\n9am: group ride heads out.\n11am: group ride 2 heads out.\n\n\n\nTOPLINE: \n\nStratton Group Rides Saturday 8/27: 11:15am & 2:15pm\nAthletic Brewing Samples Saturday 8/27: 12 – 3:30pm\nFree Raffle Saturday 8/27: 3:30pm\nNATS Group Rides Sunday 8/28: 9am & 11am\n\n 
URL:https://vmba.org/event/vmba-day-stratton/
LOCATION:Stratton Resort\, 5 Village Lodge Rd\, Stratton Mountain\, VT\, 05155
CATEGORIES:Festivals/Parties,Group Rides / Races,Trail Days
ATTACH;FMTTYPE=image/jpeg:https://vmba.org/wp-content/uploads/2022/04/VMBA_2022-DH-Posters_Stratton-FB-scaled.jpg
END:VEVENT
BEGIN:VEVENT
DTSTART;TZID=America/New_York:20220828T100000
DTEND;TZID=America/New_York:20220828T153000
DTSTAMP:20260424T213956
CREATED:20220818T220412Z
LAST-MODIFIED:20220818T220412Z
UID:41429-1661680800-1661700600@vmba.org
SUMMARY:Everybody Bikes Day with Vermont Adaptive & Sports; FOTW
DESCRIPTION:Join us for a day of trail riding at Sunny Hollow! \nVermont Adaptive Ski & Sports will be there with their fleet of adaptive mountain bikes for people to test ride bikes and learn more about adaptive mountain biking! \nThere will be 30 minute test rides for adaptive equipment from 10:30am-12pm and 1pm-3pm and on a first come first serve basis!
URL:https://vmba.org/event/everybody-bikes-day-with-vermont-adaptive-fotw/
LOCATION:Sunny Hollow\, Hercules Drive\, Colchester
CATEGORIES:Group Rides / Races
ATTACH;FMTTYPE=image/jpeg:https://vmba.org/wp-content/uploads/2022/08/EE28A3B9-0B52-425B-840D-39285A4F1C54_1_105_c.jpeg
END:VEVENT
BEGIN:VEVENT
DTSTART;TZID=America/New_York:20220829T173000
DTEND;TZID=America/New_York:20220829T193000
DTSTAMP:20260424T213956
CREATED:20220627T190855Z
LAST-MODIFIED:20220627T190855Z
UID:40088-1661794200-1661801400@vmba.org
SUMMARY:Co-Ed Beginner Intermediate Group Ride
DESCRIPTION:Weekly group ride\, co-ed group ride. Intermediate No-drop pace\, option for beginners and multi-level groups depending on attendance. Contact Morgan Easton at morganic802@gmail.com for meeting spot each week and more information
URL:https://vmba.org/event/co-ed-beginner-intermediate-group-ride-2-2-2-2-2-2-2-2/
CATEGORIES:Group Rides / Races
END:VEVENT
BEGIN:VEVENT
DTSTART;TZID=America/New_York:20220830T180000
DTEND;TZID=America/New_York:20220830T200000
DTSTAMP:20260424T213956
CREATED:20220627T192129Z
LAST-MODIFIED:20220627T192129Z
UID:40117-1661882400-1661889600@vmba.org
SUMMARY:Advanced Group Mtb Ride - ROC
DESCRIPTION:Advanced paced group ride\, starting at the gear house. Contact Morgan at morganic802@gmail.com or give The Gear House a call for more information.
URL:https://vmba.org/event/advanced-group-mtb-ride-roc-2-2-2-2-2-2-2-2-2/
LOCATION:The Gear House\, 16 Pleasant St\, Randolph\, VT\, 05060\, United States
CATEGORIES:Group Rides / Races
END:VEVENT
END:VCALENDAR