BEGIN:VCALENDAR
VERSION:2.0
PRODID:-//VMBA - ECPv6.15.17.1//NONSGML v1.0//EN
CALSCALE:GREGORIAN
METHOD:PUBLISH
X-WR-CALNAME:VMBA
X-ORIGINAL-URL:https://vmba.org
X-WR-CALDESC:Events for VMBA
REFRESH-INTERVAL;VALUE=DURATION:PT1H
X-Robots-Tag:noindex
X-PUBLISHED-TTL:PT1H
BEGIN:VTIMEZONE
TZID:America/New_York
BEGIN:DAYLIGHT
TZOFFSETFROM:-0500
TZOFFSETTO:-0400
TZNAME:EDT
DTSTART:20200308T070000
END:DAYLIGHT
BEGIN:STANDARD
TZOFFSETFROM:-0400
TZOFFSETTO:-0500
TZNAME:EST
DTSTART:20201101T060000
END:STANDARD
BEGIN:DAYLIGHT
TZOFFSETFROM:-0500
TZOFFSETTO:-0400
TZNAME:EDT
DTSTART:20210314T070000
END:DAYLIGHT
BEGIN:STANDARD
TZOFFSETFROM:-0400
TZOFFSETTO:-0500
TZNAME:EST
DTSTART:20211107T060000
END:STANDARD
BEGIN:DAYLIGHT
TZOFFSETFROM:-0500
TZOFFSETTO:-0400
TZNAME:EDT
DTSTART:20220313T070000
END:DAYLIGHT
BEGIN:STANDARD
TZOFFSETFROM:-0400
TZOFFSETTO:-0500
TZNAME:EST
DTSTART:20221106T060000
END:STANDARD
END:VTIMEZONE
BEGIN:VEVENT
DTSTART;TZID=America/New_York:20210901T140000
DTEND;TZID=America/New_York:20210901T170000
DTSTAMP:20260425T140707
CREATED:20210824T031722Z
LAST-MODIFIED:20210824T031722Z
UID:31910-1630504800-1630515600@vmba.org
SUMMARY:KMBC Bike Bum Race FINAL
DESCRIPTION:2021 is here and we will have Bike Bum sponsored by Von Trapp back for the 6th annual race series at Killington Resort. The race dates are every Wednesday starting July 7th going through to Sept 1st from 2-5pm. The race will be on the blue trail middle and lower Rabbit Hole off of the Snowshed chair lift. We will be using zone4 chip timing for the race and they will be issued at the beginning of each race and need to be returned at the finish of the race. You can sign up as an individual or up to a team of 5. \nAs much fun as it is a competition\, sign up to ride solo\, or with a team of up to five people. Racers will be placed in divisions by age class and will have one timed run each week. All races will be held on beginner/intermediate trails ensuring fun for all bikers. Teams of 5 may register for $175\, individuals for $50 or register for just one race for $15. \nCLICK HERE TO SIGN UP AND PAY\nCLICK HERE TO SIGN BOTH WAIVERS\nAfter parties will be held post 5pm at a destination that will be posted pre race via KMBC facebook and instagram page\, Killington Resort event webpage\, as well as on the information sheet below (subject to change). \nJuly 7th : Snowshed Umbrella Bar\nJuly 14th: Lookout\nJuly 21st: The Clear River Tavern\nJuly 28th: Still on the Mountain\nAug 4th: Jax\nAug 11th: Charities\nAug 18th: Domenic’s Pizzeria\nAug 25th: Liquid Art\nSept 1st (finals): Snowshed Umbrella Bar \nDivisions:\nMale 10 & Under\nMale 11-14\nMale 15 – 18\nMale 19 – 29\nMale 30 – 39\nMale 40 – 49\nMale 50 – 59\nMale 60+\nFemale 10 & Under\nFemale 11-14\nFemale 15 – 18\nFemale 19 – 29\nFemale 30 – 39\nFemale 40 – 49\nFemale 50 – 59\nFemale 60+ \nThis is a fundraising event for the Killington Mountain Bike Club and all proceeds go directly towards new bike trails as well as bike trail maintenance. We greatly appreciate all of the support and we are looking forward to another Bike Bum summer!
URL:https://vmba.org/event/kmbc-bike-bum-race-final/
CATEGORIES:Group Rides / Races
END:VEVENT
BEGIN:VEVENT
DTSTART;TZID=America/New_York:20210911T100000
DTEND;TZID=America/New_York:20210911T170000
DTSTAMP:20260425T140707
CREATED:20210829T165611Z
LAST-MODIFIED:20210830T152523Z
UID:31977-1631354400-1631379600@vmba.org
SUMMARY:VMBA Day at Burke
DESCRIPTION:The weather and trees are starting to shift\, which means our favorite riding season is just about to start – fall! Join us on Sept 11 at Burke Mountain Resort for a fun-filled downhill resort day\, lifts start spinning at 10am. There will be raffles for VMBA and Burke swag happening throughout the day. Our VMBA Ambassadors will be hosting group rides throughout the day (for all levels and abilities). The first one will be heading out at 10:30am. Check in at the VMBA table for the other ride times.\n\nMake it a weekend and spend the night trailside – Burke has extended a lodging deal in the Burke Mountain Hotel.  Bike-in/out to the Burke Bike Park and surrounding Kingdom Trails complete with complimentary indoor bike storage with every reservation. Two can stay from $99/night Friday 9/10 and/or Saturday\, 9/11. You can go to their website for more details and booking.\n\nIf you have not used your FREE Burke DH ticket with your VMBA membership this is the time to do it! If you have not gotten your membership yet\, we will be selling them on the spot with the DH coupon. There will also be a chance to get a raffle ticket for our Transition Sentinel!\n\nSo join us on Saturday\, 9/11\, from 10-5pm\, for raffles\, group rides\, and a great day of downhill biking!
URL:https://vmba.org/event/vmba-day-at-burke/
LOCATION:Burke Mountain
CATEGORIES:Festivals/Parties,Group Rides / Races
ATTACH;FMTTYPE=image/jpeg:https://vmba.org/wp-content/uploads/2021/08/Burke-Bike-Park-2.jpg
END:VEVENT
BEGIN:VEVENT
DTSTART;TZID=America/New_York:20210911T110000
DTEND;TZID=America/New_York:20210911T170000
DTSTAMP:20260425T140707
CREATED:20210804T184734Z
LAST-MODIFIED:20210804T184755Z
UID:31485-1631358000-1631379600@vmba.org
SUMMARY:Vermont Youth Cycling League\, Slate Valley Trails\, Poultney
DESCRIPTION:First of four races in our fall youth mountain biking series for riders in Grades 5-12. Independent racers and teams are welcome. Please visit vtyouthcycling.org for more details about the league\, membership and race registration.
URL:https://vmba.org/event/vermont-youth-cycling-league-slate-valley-trails-poultney/
CATEGORIES:Group Rides / Races
END:VEVENT
BEGIN:VEVENT
DTSTART;TZID=America/New_York:20210918T083000
DTEND;TZID=America/New_York:20210918T160000
DTSTAMP:20260425T140707
CREATED:20210805T183451Z
LAST-MODIFIED:20210805T183451Z
UID:31509-1631953800-1631980800@vmba.org
SUMMARY:13th Annual Tour de Farms
DESCRIPTION:ACORN’s 13th annual Tour de Farms\, one of Vermont’s oldest cycling farm tours\, is returning after 2020’s COVID-induced hiatus. On Saturday\, September 18th\, riders will make eight stops along a 30-mile route and sample some of the Champlain Valley’s best food and beverages.
URL:https://vmba.org/event/13th-annual-tour-de-farms/
LOCATION:Vergennes Union High School\, 50 Monkton Rd\, Vergennes\, VT\, 05491\, United States
CATEGORIES:Group Rides / Races
ATTACH;FMTTYPE=image/jpeg:https://vmba.org/wp-content/uploads/2021/08/2019_TourdeFarms_VT_Vinegars.jpg
END:VEVENT
BEGIN:VEVENT
DTSTART;TZID=America/New_York:20210918T100000
DTEND;TZID=America/New_York:20210918T170000
DTSTAMP:20260425T140707
CREATED:20210804T184942Z
LAST-MODIFIED:20210804T184942Z
UID:31487-1631959200-1631984400@vmba.org
SUMMARY:Vermont Youth Cycling League\, Randolph Town Trails/RASTA
DESCRIPTION:Second of four races in our fall youth mountain biking series for riders in Grades 5-12. Independent racers and teams are welcome. Please visit vtyouthcycling.org for more details about the league\, membership and race registration.
URL:https://vmba.org/event/vermont-youth-cycling-league-randolph-town-trails-rasta/
CATEGORIES:Group Rides / Races
END:VEVENT
END:VCALENDAR