BEGIN:VCALENDAR
VERSION:2.0
PRODID:-//VMBA - ECPv6.15.17.1//NONSGML v1.0//EN
CALSCALE:GREGORIAN
METHOD:PUBLISH
X-WR-CALNAME:VMBA
X-ORIGINAL-URL:https://vmba.org
X-WR-CALDESC:Events for VMBA
REFRESH-INTERVAL;VALUE=DURATION:PT1H
X-Robots-Tag:noindex
X-PUBLISHED-TTL:PT1H
BEGIN:VTIMEZONE
TZID:America/New_York
BEGIN:DAYLIGHT
TZOFFSETFROM:-0500
TZOFFSETTO:-0400
TZNAME:EDT
DTSTART:20200308T070000
END:DAYLIGHT
BEGIN:STANDARD
TZOFFSETFROM:-0400
TZOFFSETTO:-0500
TZNAME:EST
DTSTART:20201101T060000
END:STANDARD
BEGIN:DAYLIGHT
TZOFFSETFROM:-0500
TZOFFSETTO:-0400
TZNAME:EDT
DTSTART:20210314T070000
END:DAYLIGHT
BEGIN:STANDARD
TZOFFSETFROM:-0400
TZOFFSETTO:-0500
TZNAME:EST
DTSTART:20211107T060000
END:STANDARD
BEGIN:DAYLIGHT
TZOFFSETFROM:-0500
TZOFFSETTO:-0400
TZNAME:EDT
DTSTART:20220313T070000
END:DAYLIGHT
BEGIN:STANDARD
TZOFFSETFROM:-0400
TZOFFSETTO:-0500
TZNAME:EST
DTSTART:20221106T060000
END:STANDARD
END:VTIMEZONE
BEGIN:VEVENT
DTSTART;TZID=America/New_York:20210513T080000
DTEND;TZID=America/New_York:20210513T170000
DTSTAMP:20260425T195726
CREATED:20210513T190428Z
LAST-MODIFIED:20210513T190428Z
UID:29332-1620892800-1620925200@vmba.org
SUMMARY:SVT Group MTN Bike Ride
DESCRIPTION:Join Slate Valley Trails for this socially distanced group mountain bike ride weekly on Wednesdays this summer. We will ride trails mostly in the SVT network\, but occasionally meet at other locations (with permission)! A great chance to learn some new loops!\nTime: 5:30 PM start. Arrive at least 5 min early. 2+ hours\n5/19/21: Endless Brook Trailhead\, Endless Brook Rd\, Poultney\, VT https://goo.gl/maps/Gpy46oJw3cP6Eq5P7\nMEETING LOCATION ROTATES. Check Online calendar Facebook Event Discussion Page for updates in advance of each outing. Extreme weather and downpours will cancel!\nDistance/Difficulty: 8-10+ mile rides. Varying pace and hill climbs and descents. Depending on group preference\, we can vary the level and distance of the ride. No drop rides.\nBring: face covering/buff\, plenty of water\, snacks\, bug spray\n*Youth 14 -18 must have a parent/guardian present\, or have submitted our Youth Participation Waiver in advance of outing. Online link coming soon.\nWe will be abiding by the most recent State of Vermont guidelines for social distancing. https://www.healthvermont.gov/covid-19\nFor current guidelines for group rides\, see: https://vmba.org/covid-19-response/\nQuestions: info@slatevalleytrails.org
URL:https://vmba.org/event/svt-group-mtn-bike-ride/
LOCATION:Endless Brook Trailhead\, Endless Brook Road\, Poultney\, VT\, United States
CATEGORIES:Group Rides / Races
ATTACH;FMTTYPE=image/jpeg:https://vmba.org/wp-content/uploads/2021/05/185037758_1669000149966827_8269606775022941711_n.jpg
END:VEVENT
BEGIN:VEVENT
DTSTART;TZID=America/New_York:20210513T173000
DTEND;TZID=America/New_York:20210513T193000
DTSTAMP:20260425T195726
CREATED:20210513T190303Z
LAST-MODIFIED:20210513T190303Z
UID:29330-1620927000-1620934200@vmba.org
SUMMARY:SVT x Analog Thursday Gravel Rides
DESCRIPTION:Our friends\, James and Candice\, owners of the amazing Analog Cycles will be leading weekly gravel rides on Thursdays this spring! Rides may include a mix of road\, dirt road\, double track and single track. Gravel bike approved. A great way to learn the gravel ride loops!\nTime: 5:30 – 7:30+ PM\nWhere:\nUnited Baptist Church-Poultney\n1500 E Main St\, Poultney\, VT 05764\, USA\nMeet at the parking area on the Green\nDistance: 10+ miles\nRide Level: Casual pace. No drop ride.\nDifficulty level: can be moderate to challenging (check with Analog for route in advance to help you plan)\nBring: charged bright lights\, a tube\, and water\nQuestions? Call Analog Cycles at: 301-456-5471.\nRain or shine\, unless there’s lightning. Extreme weather and downpours will cancel! Watch Facebook and our online Events calendar for cancellations.\n*Youth 14 -18 must have a parent/guardian present\, or have submitted our Youth Participation Waiver in advance of outing. Online link coming soon.\nWe will be abiding by the most recent State of Vermont guidelines for social distancing.\nhealthvermont.gov/covid-19.\nFor current guidelines for group rides\, see: https://vmba.org/covid-19-response/
URL:https://vmba.org/event/svt-x-analog-thursday-gravel-rides/
LOCATION:1500 E Main St\, 1500 E Main St\, Poultney\, VT\, 05764
CATEGORIES:Group Rides / Races
ATTACH;FMTTYPE=image/jpeg:https://vmba.org/wp-content/uploads/2021/05/181559157_1664472463752929_138905011794240692_n.jpg
END:VEVENT
BEGIN:VEVENT
DTSTART;TZID=America/New_York:20210518T180000
DTEND;TZID=America/New_York:20210518T190000
DTSTAMP:20260425T195726
CREATED:20210513T185737Z
LAST-MODIFIED:20210513T185737Z
UID:29328-1621360800-1621364400@vmba.org
SUMMARY:MAMBA Tuesday Night Ride
DESCRIPTION:Join MAMBA and Onion River Outdoors for a no drop\, all-inclusive ride. Meet at the trailhead\, ready to ride at 6:15.
URL:https://vmba.org/event/mamba-tuesday-night-ride/
CATEGORIES:Group Rides / Races
ATTACH;FMTTYPE=image/jpeg:https://vmba.org/wp-content/uploads/2021/05/185897340_1629773430545591_2668843878581490993_n.jpg
END:VEVENT
BEGIN:VEVENT
DTSTART;TZID=America/New_York:20210523T090000
DTEND;TZID=America/New_York:20210523T170000
DTSTAMP:20260425T195726
CREATED:20210513T184317Z
LAST-MODIFIED:20210513T184317Z
UID:29319-1621760400-1621789200@vmba.org
SUMMARY:WATA Still the 13th Gravel Grinder
DESCRIPTION:
URL:https://vmba.org/event/wata-still-the-13th-gravel-grinder/
CATEGORIES:Group Rides / Races
ATTACH;FMTTYPE=image/jpeg:https://vmba.org/wp-content/uploads/2021/05/178988317_1756213194582990_4701038963235399169_n.jpg
END:VEVENT
END:VCALENDAR