BEGIN:VCALENDAR
VERSION:2.0
PRODID:-//VMBA - ECPv6.15.17.1//NONSGML v1.0//EN
CALSCALE:GREGORIAN
METHOD:PUBLISH
X-ORIGINAL-URL:https://vmba.org
X-WR-CALDESC:Events for VMBA
REFRESH-INTERVAL;VALUE=DURATION:PT1H
X-Robots-Tag:noindex
X-PUBLISHED-TTL:PT1H
BEGIN:VTIMEZONE
TZID:America/New_York
BEGIN:DAYLIGHT
TZOFFSETFROM:-0500
TZOFFSETTO:-0400
TZNAME:EDT
DTSTART:20240310T070000
END:DAYLIGHT
BEGIN:STANDARD
TZOFFSETFROM:-0400
TZOFFSETTO:-0500
TZNAME:EST
DTSTART:20241103T060000
END:STANDARD
BEGIN:DAYLIGHT
TZOFFSETFROM:-0500
TZOFFSETTO:-0400
TZNAME:EDT
DTSTART:20250309T070000
END:DAYLIGHT
BEGIN:STANDARD
TZOFFSETFROM:-0400
TZOFFSETTO:-0500
TZNAME:EST
DTSTART:20251102T060000
END:STANDARD
BEGIN:DAYLIGHT
TZOFFSETFROM:-0500
TZOFFSETTO:-0400
TZNAME:EDT
DTSTART:20260308T070000
END:DAYLIGHT
BEGIN:STANDARD
TZOFFSETFROM:-0400
TZOFFSETTO:-0500
TZNAME:EST
DTSTART:20261101T060000
END:STANDARD
END:VTIMEZONE
BEGIN:VEVENT
DTSTART;TZID=America/New_York:20250921T100000
DTEND;TZID=America/New_York:20250921T173000
DTSTAMP:20260419T103302
CREATED:20250205T155949Z
LAST-MODIFIED:20250826T162522Z
UID:145520-1758448800-1758475800@vmba.org
SUMMARY:Season S'Ender - Presented by Lawson's Finest Liquids
DESCRIPTION:VMBA\, Lawsons\, and WAMBA are working together this year to host our third end-of-season party\, now named the Season S’Ender! As with previous years\, this event is all about celebrating the season that was and recognizing our incredible Members. \nNew for this year\, we will kick things off with a stop of the Freehub PRESENTS tour on Saturday evening at the Pintangle Theater in Woodstock. This will be a great opportunity to view this season’s best riding films in an amazing venue and get excited to hit the trail on Sunday. Lawsons will also be there with some cold and tasty beverages\, and we have some great Member Benefit lodging options\, as well as camping at Saskidena Six (S6)\, for those interested in spending the night. See below for more details. \nTo kick the morning off right on Sunday\, grab some food at the many great places in town or come by the S6 parking lot for Sexy Llama coffee and baked goodies courtesy of our friends over at Mascoma Bank. Sunday guided group rides at Aqueduct and Mt. Peg kickoff at 11 am\, and for those interested in doing it all\, Ranch Camp will be leading a Triple Crown ride that leaves from S6 and hits all the best riding spots in town. \nFollowing morning rides\, the main party at S6 gets going at 1 pm\, including group party laps & free E-bike demos from Trek (First Stop Board Barn & The Wheelhouse)\, Specialized (The Boot Pro)\, Karbon Bikes\, and Rutland City Bikes. New for this year\, we’ll have two new activities! First we will be borrowing KMBC’s timing system from the Bike Bum Race series! WAMBA and VMBA will be setting up a timed section of Avery’s Interstate! We will have a special prize for the top 3 in their categories. Then secondly we will also have a kids bike race in the base area. See below for more details! \nWhen you’re done pedalling\, pick up your event tickets from the VMBA tent\, which include free tacos from Trail Break\, one free cold beverage from Lawsons Finest Liquids or Stowe Cider\, and a raffle ticket. After a meal and a brew\, consider picking up a few more raffle tickets and bid for the items you’re most excited to win – full list below. To wrap up the day\, we’ll hear about a few season highlights from VMBA ED Nick Bennette and then pull raffle winners! \nDon’t miss your chance to join us in a full day of fun\, food\, and community\, and celebrate another amazing riding season in Vermont! \nGet Your Tickets!\nSeason S’Ender “Race” Details: \n\nRace Course: https://www.trailforks.com/route/2025-season-s-ender–race/\nThis will be a racer’s best time throughout the day.\nTiming will be open from 1 – 3 pm.\nGo to the KMBC tent in the base area to register\, sign a waiver\, and collect your chip.\nReturn your chip by 3:30 pm or will be charged $50\nThe race will be going down Avery’s Interstate. This is a blue trail with mixed tech\, flow\, and jumps.\nPlease use caution when riding since there could be other riders on course. There is always an option for another run.\nCategories and prizes to be announced soon.\n\nSeason S’Ender Kids Race: \n\nWe will be running a kids race welcome to all kids up to 20 inches.\nThis will be a tapped course in the base area and will be mostly on flat-ish grass. Optional features.\nCategories and prizes to be announced soon.\n\nLodging Partners: \n\nWoodstock Inn – VMBA Members receive 10% off best available room only booking\n506 On The River – VMBA Members receive 15% off your stay\nThe Shire – VMBA Members receive 15% off your stay\nCamping on 9/20 at S6 – $25\, with bathrooms on-site (Ticket in Eventbrite)\n\nLocal Food: \n\nTrail Break Taps + Tacos – VMBA members receive 15% Off your meal anytime Friday\, Saturday\, Sunday (Before 5pm)\nWoodstock Farmers Market – VMBA members receive 20% off your entire purchase (Single Use)\nWorthy Kitchen – VMBA members receive a free order of donuts (Single Use)\nWorthy Burger – VMBA members receive a free order of donuts (Single Use)\n\nSunday Rides: \n\nMt Peg – Intermediate and Advanced riding – 11 am\, 1.5/2 hours long (Routes coming soon)\nAqueduct – Beginner and intermediate riding – 11 am\, 1.5/2 hours long (Routes coming soon)\nSaskadena 6 – All rides leave from the VMBA tent at 1pm\, 2pm\, and 3pm\n\nFree Demos! (S6 – 1 – 4:30pm): \n\nThe Boot Pro – Specialized E-Bikes\nKarbon Bikes – Full line\nSpecialized – TBD\nRutland City Bikes\nMore to come!\n\nFood On-site: \n\nTacos from Trail Break (included with your event ticket)\nFREE Oysters from Red Can (while supplies last)\nFREE Donuts from Worthy Kitchen for the morning at S6 (while supplies last)\nMinia Tortilla chip bags (1oz) – FREE (1 bag per attendee)\nSamples of Cabot Cheese and VT Smoke and Cure\nPlink drink tablets.\n\nRaffle Items! \n\nYour choice of Rockshox Fork\, Motive Brakes\, or Axis Reverb Dropper\nCane Creek shock of your choice\nThule Rever Bike Rack\nThule Round Trip\nKarbon Azur frame\nE*Thirteen Grappler Sidekick Flux Aluminum Enduro Wheels (29 Front/Rear – XD Hub) + Grapher tires and sealant\nCrankbrothers Shoe\, Pedal\, and Socks of your choice\nFive Ten Shoe and Kit of your choice\n2026 Loam Pass\nTrash Gear Co Fender\, Mud Guard\, and Sunnies\nConcept 2 : Cardio Erg of Choice: RowErg\, BikeErg\, or SkiErg (~$1\,000 value)\nCabot: $100 Gift Card\nVelocio: $300 Gift Card\nPOC: Helmet and sunnies of your choice\nJulbo: Forest Evo Helmet and Fury sunnies\nBackslope Tools: TBD\nMola Hoods: Kit\nLeatt: MTB Enduro 3.0 Helmet & Velocity 4.0 MTB goggles\nMore to come!\n\nBase Activity Prizes provided by: Das Optics\, Julbo Eyewear\, Five Ten\, Bivo\, Thule
URL:https://vmba.org/event/season-sender-presented-by-lawsons-finest-liquids/
LOCATION:Saskadena Six Ski Area\, 247 Stage Rd\, South Pomfret\, 05067
CATEGORIES:Adaptive Demos,Festivals/Parties,Group Outing,Group Rides / Races
ATTACH;FMTTYPE=image/png:https://vmba.org/wp-content/uploads/2025/01/sip-of-sunshine-sun-400x400-1.png
ORGANIZER;CN="VMBA":MAILTO:Joe@vmba.org
END:VEVENT
END:VCALENDAR