BEGIN:VCALENDAR
VERSION:2.0
PRODID:-//VMBA - ECPv6.15.17.1//NONSGML v1.0//EN
CALSCALE:GREGORIAN
METHOD:PUBLISH
X-WR-CALNAME:VMBA
X-ORIGINAL-URL:https://vmba.org
X-WR-CALDESC:Events for VMBA
REFRESH-INTERVAL;VALUE=DURATION:PT1H
X-Robots-Tag:noindex
X-PUBLISHED-TTL:PT1H
BEGIN:VTIMEZONE
TZID:America/New_York
BEGIN:DAYLIGHT
TZOFFSETFROM:-0500
TZOFFSETTO:-0400
TZNAME:EDT
DTSTART:20240310T070000
END:DAYLIGHT
BEGIN:STANDARD
TZOFFSETFROM:-0400
TZOFFSETTO:-0500
TZNAME:EST
DTSTART:20241103T060000
END:STANDARD
BEGIN:DAYLIGHT
TZOFFSETFROM:-0500
TZOFFSETTO:-0400
TZNAME:EDT
DTSTART:20250309T070000
END:DAYLIGHT
BEGIN:STANDARD
TZOFFSETFROM:-0400
TZOFFSETTO:-0500
TZNAME:EST
DTSTART:20251102T060000
END:STANDARD
BEGIN:DAYLIGHT
TZOFFSETFROM:-0500
TZOFFSETTO:-0400
TZNAME:EDT
DTSTART:20260308T070000
END:DAYLIGHT
BEGIN:STANDARD
TZOFFSETFROM:-0400
TZOFFSETTO:-0500
TZNAME:EST
DTSTART:20261101T060000
END:STANDARD
END:VTIMEZONE
BEGIN:VEVENT
DTSTART;TZID=America/New_York:20250712T100000
DTEND;TZID=America/New_York:20250713T130000
DTSTAMP:20260419T134130
CREATED:20250127T191355Z
LAST-MODIFIED:20250711T195319Z
UID:145340-1752314400-1752411600@vmba.org
SUMMARY:VMBA Days at Burke Mtn Resort Presented by Lawsons Finest Liquid
DESCRIPTION:*Update: Saturday will go as planned and Sunday trail rides have been divided into intermedate from darling hill like planned and then advancded rides leaving from East Haven Trails. * \nThe VMBA Days series is coming back for its fourth season with some new great additions. The first and largest is that Lawsons Finest Liquids is supporting the series. We’re excited to welcome back the title sponsor from our first season! \nFor DH\, we are bringing back our ‘New to DH’ and ‘New to the Resort’ group rides. These will be led by Resort & VMBA Ambassadors. At each stop we will also have a Community Builder partner that will lead their own group rides. For ths stop we will be donating a portion of the procceds to Kingdom Trails Association. Not only do you get a chance to win the rad items below\, you will be supporting two great organizations! \nAt each stop of the series\, we will also be hosting a fun activity specific to that resort\, ranging from timed races\, dual slalom\, Strava races\, and more. After everyone gets their riding in\, Lawsons will be hosting an on-site Aprest and providing a limited amount of beverages to raffle ticket purchasers. During the Apres\, we will also pull the winners of the raffle! . \nOne more awesome addition for this year: Following Saturday at the resort\, we’ve teamed up with the local trail stewardship organization to host a trail ride day on Sunday! For our first stop at Burke\, we will be riding Kingdom Trails on Sunday the 7/13/25 \,based out of the Wilderflower Inn. These will be great opportunities to ride new single track with the local riders and trail builders. \nPlease see below for a full breakdown of the activities\, timing\, prizes\, and other rad things we have in the works for each stop. With limited space available\, make sure to secure your spot on a ride. If you can’t make this stop\, make sure to look below for our other dates. \nHost Resort: Burke Mountain Resort \nHost Trail Organization: Kingdom Trails Assoication \nDate: Burke DH – 7/12/25 & Trail Day KTA – 7/13/25 \nEventbrite Link: https://www.eventbrite.com/e/vmba-days-at-burke-mtn-presented-by-lawsons-finest-liquids-tickets-1397265341249?aff=oddtdtcreator \nSpecial: \n\nThis Saturday (7/12/25) you can redeem the VMBA 50% Off ticket for a Free Full Day! Show your VMBA App at the ticket window to redeem.\n$5 shuttle ticket (Normally $15)\n\nAddress: \n\nBurke Mountain Resort (Sherburne Lodge): 223 Sherburne Lodge Rd\, East Burke\, VT 05832\nIntermediate Ride: Kingdom Trails/ Darling Hill (Wildflower Inn): 2059 Darling Hill Rd\, Lyndonville\, VT 05851\nAdvanced Rides: 58-120 Community Bldg Rd\, East Haven\, VT 05837\n\nDH Rides(Make sure to get your Tickets!): \nNew to DH: if you’re used to riding single track and want to get more time descending. There is nothing like some downhill laps to perfect your riding. Also riding a lift is not bad at all! \nNew to Resort: This ride is for folks who have dabbled into DH already or want to try a new resort. Have the VMBA ambassadors show you around and show you their favorite trails. \nLawsons Party Lap: This ride is for everybody. Depending on the size we will break into groups that fit their riding ability. Then send it down with VMBA & Lawson’s ambassadors to the Apres and raffle pull! \nCommunity Builder Rides: \nVermont Adaptive: Please sign up and find more details HERE \nTrail Rides (Suggested – will tailer route based on who is there): \nIntermediate: 9 miles with mostly Blue trails \nAdvanced: East Haven a mix of black and blue trails. \nVendor Village: \n\nVMBA\nLawsons\nVermont Adaptive\nBurke Mtn Resort\nRim Saver\nKingdom Trails\nFive Ten\n\nRaffle Items ($5 tickets): \n\nRim Saver: Set of DH Rim Savers (29\, 27.5 and/or Mullet)\nCrankBrothers: Pedal\, Shoes\, and socks of your choice\nFive Ten: Shoes of your choice\nLoam Pass: 1 Loam Pass\nThule: Round Trip Duffle\nSkida: Collab Hat\nPOC: Joint VPD System Knee Pad\nDeity: Bar and Grips\nMotorEx: Cleaning Kit & Assorted Items\nLawsons: Prize Pack\nMixed Pack: Kryptonite\, Cabot/Darn Tough\, BIVOxVMBA Bottle etc.\nResort Prize Pack (Tickets & Merch)\n\nFree Samples (Nachos on the lift..): \n\nCabot: Cheese slices\nVermont Smoke and Cure: Mini Sticks\nMiNina Tortilla Chips: Mini Bags\nAnd More!\n\nResort Activity: Jump Jam (4- 5 pm) & Toddler Race (3pm) \nApre Activites (Prizes given out during): \n\nLive Music!\nHuffy Huck\nLimbo\nDunk Tank\n\nApre Band:Chad Hollister! (4-6 pm) \nCommunity Builder Partners: Vermont Adaptive \nAccomidations (Must be a VMBA member for the deals) \n\nBurke Mtn Resort: 20% Off your stay (Restrictions Apply – call to book)\nBurke AirB&B Rental: 10% Off your booking use link and code (On VMBA.org or VMBA App)\nThe Wildflower Inn: 25% Off accommodations on Sunday through Thursday nights\, 10% Off accommodations on Friday and Saturday nights. (Holiday weekends for both U.S. and Canadian holidays are blacked out.)\n\n2025 Season Schedule: \n\nThunder Mountain Bike Park / DRT – 8/2/2025 – 8/3/2025\nBolton Valley Resort – 8/16/2025\nStratton Mountain Bike Park – 8/23/2025\nKillington Mountain Resort – 8/30/2025\n\nIf you have any questions about the rides\, location or anything else. Please reach out to Joe Gaynor at Joe@vmba.org \nWe look forward to seeing you at one of the VMBA Days Series stops!
URL:https://vmba.org/event/vmba-days-at-burke-mtn-resort-presented-by-lawsons-finest-liquid/
LOCATION:Burke Mountain
CATEGORIES:Festivals/Parties,Group Outing,Group Rides / Races
ATTACH;FMTTYPE=image/png:https://vmba.org/wp-content/uploads/2025/01/sip-of-sunshine-sun-400x400-1.png
ORGANIZER;CN="VMBA":MAILTO:Joe@vmba.org
END:VEVENT
BEGIN:VEVENT
DTSTART;TZID=America/New_York:20250725T080000
DTEND;TZID=America/New_York:20250727T170000
DTSTAMP:20260419T134130
CREATED:20250211T155457Z
LAST-MODIFIED:20250211T155457Z
UID:145592-1753430400-1753635600@vmba.org
SUMMARY:Flow State
DESCRIPTION:Back for another year at Ascutney Trails! Check back here or go to https://flowstatemtbfestival.com/ for more updates.
URL:https://vmba.org/event/flow-state-2/
LOCATION:Ascutney Outdoors
CATEGORIES:Festivals/Parties,Group Outing,Group Rides / Races
ATTACH;FMTTYPE=image/png:https://vmba.org/wp-content/uploads/2025/02/Screenshot-2025-02-11-at-10.54.21 AM.png
ORGANIZER;CN="Ascutney Trails Association":MAILTO:info@ascutneytrails.com
END:VEVENT
END:VCALENDAR