BEGIN:VCALENDAR
VERSION:2.0
PRODID:-//VMBA - ECPv6.15.17.1//NONSGML v1.0//EN
CALSCALE:GREGORIAN
METHOD:PUBLISH
X-ORIGINAL-URL:https://vmba.org
X-WR-CALDESC:Events for VMBA
REFRESH-INTERVAL;VALUE=DURATION:PT1H
X-Robots-Tag:noindex
X-PUBLISHED-TTL:PT1H
BEGIN:VTIMEZONE
TZID:America/New_York
BEGIN:DAYLIGHT
TZOFFSETFROM:-0500
TZOFFSETTO:-0400
TZNAME:EDT
DTSTART:20240310T070000
END:DAYLIGHT
BEGIN:STANDARD
TZOFFSETFROM:-0400
TZOFFSETTO:-0500
TZNAME:EST
DTSTART:20241103T060000
END:STANDARD
BEGIN:DAYLIGHT
TZOFFSETFROM:-0500
TZOFFSETTO:-0400
TZNAME:EDT
DTSTART:20250309T070000
END:DAYLIGHT
BEGIN:STANDARD
TZOFFSETFROM:-0400
TZOFFSETTO:-0500
TZNAME:EST
DTSTART:20251102T060000
END:STANDARD
BEGIN:DAYLIGHT
TZOFFSETFROM:-0500
TZOFFSETTO:-0400
TZNAME:EDT
DTSTART:20260308T070000
END:DAYLIGHT
BEGIN:STANDARD
TZOFFSETFROM:-0400
TZOFFSETTO:-0500
TZNAME:EST
DTSTART:20261101T060000
END:STANDARD
END:VTIMEZONE
BEGIN:VEVENT
DTSTART;TZID=America/New_York:20250619T163000
DTEND;TZID=America/New_York:20250619T193000
DTSTAMP:20260419T151230
CREATED:20250528T163239Z
LAST-MODIFIED:20250528T163306Z
UID:149943-1750350600-1750361400@vmba.org
SUMMARY:Trail Sit and Sips presented by Lawson's - Gear House (ROC)
DESCRIPTION:  \nCome join VMBA\, Ridgeline Outdoor Collective\, and Lawsons to kick off the season. VMBA will be doing rides during the evening from the VMBA tent\, just come stop by and find out when the next ride is (rides will be leaving from The Gear House) . Then most importantly VMBA will be there to sell and fulfill memberships on-site. \nFor current members and people who get them on-site will be entered into a day of raffle and Lawsons will be providing beers on Lawsons (for those over 21) during our Apre at The Gear House.The Raffle will be drawn at The Gear House at 7:15 pm. \nCome out and start the season off right with bikes\, friends\, and of course your 2025 VMBA Membership! \nSchedule:  \n4-6:30: Rides\, raffle and membership sales at The Gear House \n6:30 – 7:30: Apre party at The Gear House (get a beer on Lawsons with proof of current membership). \nAddress: \nThe Gear House: 16 Pleasant St\, Randolph\, VT 05060 \nRaffle Partners: \n\nRim Saver\nBivo\nDarn Tough\nSunset Lake CBD\nSkida
URL:https://vmba.org/event/trail-sit-and-sips-presented-by-lawsons-gear-house-roc/
LOCATION:The Gear House\, 16 Pleasant St\, Randolph\, VT\, 05060\, United States
CATEGORIES:Group Outing,Group Rides / Races
ATTACH;FMTTYPE=image/png:https://vmba.org/wp-content/uploads/2025/01/sip-of-sunshine-sun-400x400-1.png
END:VEVENT
BEGIN:VEVENT
DTSTART;TZID=America/New_York:20250621T090000
DTEND;TZID=America/New_York:20250621T150000
DTSTAMP:20260419T151230
CREATED:20250610T203937Z
LAST-MODIFIED:20250610T203937Z
UID:150491-1750496400-1750518000@vmba.org
SUMMARY:2nd Annual Bike Demo Day - ATA & The Boot Pro and Sport
DESCRIPTION:We are teaming up with Specialized on Saturday\, June 21st  for our second annual FREE Specialized Bike Demo Day at Ascutney Outdoors Center. Bring the family and explore the incredible trail system at Ascutney with us. We’ll set you up on a full suspension E-Bike or traditional Mt. bike\, and show you our favorite trails. \nThis is your chance to take a spin on one of our MTB or e-MT bikes with one of our Boot Pros! The best part? It’s absolutely FREE! Save the date! All skill levels are welcome. \nLocation: Ascutney Outdoors Center\, Brownsville\, VT \nDate: Saturday\, June 21st \nTime: 9:00 am – 3:00 pm (last ride goes out at 2:30) \nGroup guided rides will leave our tent on 30 – 45 minute intervals.
URL:https://vmba.org/event/2nd-annual-bike-demo-day-ata-the-boot-pro-and-sport/
LOCATION:Ascutney Outdoors
CATEGORIES:Festivals/Parties,Group Outing
ORGANIZER;CN="The Boot Pro and Sports":MAILTO:info@thebootpro.net
END:VEVENT
BEGIN:VEVENT
DTSTART;TZID=America/New_York:20250628T090000
DTEND;TZID=America/New_York:20250628T160000
DTSTAMP:20260419T151230
CREATED:20250602T160846Z
LAST-MODIFIED:20250602T160847Z
UID:150093-1751101200-1751126400@vmba.org
SUMMARY:SVT Learn to Bike Clinic
DESCRIPTION:More Details Coming Soon
URL:https://vmba.org/event/svt-learn-to-bike-clinic/
LOCATION:Fairground Trailhead\, Slate Valley Trails
CATEGORIES:Clinics and Workshops,Festivals/Parties,Group Outing,Group Rides / Races
END:VEVENT
END:VCALENDAR