BEGIN:VCALENDAR
VERSION:2.0
PRODID:-//VMBA - ECPv6.15.17.1//NONSGML v1.0//EN
CALSCALE:GREGORIAN
METHOD:PUBLISH
X-WR-CALNAME:VMBA
X-ORIGINAL-URL:https://vmba.org
X-WR-CALDESC:Events for VMBA
REFRESH-INTERVAL;VALUE=DURATION:PT1H
X-Robots-Tag:noindex
X-PUBLISHED-TTL:PT1H
BEGIN:VTIMEZONE
TZID:America/New_York
BEGIN:DAYLIGHT
TZOFFSETFROM:-0500
TZOFFSETTO:-0400
TZNAME:EDT
DTSTART:20230312T070000
END:DAYLIGHT
BEGIN:STANDARD
TZOFFSETFROM:-0400
TZOFFSETTO:-0500
TZNAME:EST
DTSTART:20231105T060000
END:STANDARD
BEGIN:DAYLIGHT
TZOFFSETFROM:-0500
TZOFFSETTO:-0400
TZNAME:EDT
DTSTART:20240310T070000
END:DAYLIGHT
BEGIN:STANDARD
TZOFFSETFROM:-0400
TZOFFSETTO:-0500
TZNAME:EST
DTSTART:20241103T060000
END:STANDARD
BEGIN:DAYLIGHT
TZOFFSETFROM:-0500
TZOFFSETTO:-0400
TZNAME:EDT
DTSTART:20250309T070000
END:DAYLIGHT
BEGIN:STANDARD
TZOFFSETFROM:-0400
TZOFFSETTO:-0500
TZNAME:EST
DTSTART:20251102T060000
END:STANDARD
END:VTIMEZONE
BEGIN:VEVENT
DTSTART;TZID=America/New_York:20241020T100000
DTEND;TZID=America/New_York:20241020T140000
DTSTAMP:20260420T032310
CREATED:20240604T174354Z
LAST-MODIFIED:20240604T174354Z
UID:114932-1729418400-1729432800@vmba.org
SUMMARY:
DESCRIPTION:Make sure to check out  FOTWheel.Org and Fellowship of the Wheel Instagram for up to date info on the classic Halloween Spooktacular at Catamount Family Outdoor Center. \nEmail Info@FOTwheel.org with any questions.
URL:https://vmba.org/event/114932/
LOCATION:Catamount Outdoor Center\, Williston\, VT
CATEGORIES:Festivals/Parties,Group Outing,Group Rides / Races
ORGANIZER;CN="Fellowship Of the Wheel":MAILTO:info@fotwheel.org
END:VEVENT
BEGIN:VEVENT
DTSTART;TZID=America/New_York:20241026T100000
DTEND;TZID=America/New_York:20241026T140000
DTSTAMP:20260420T032310
CREATED:20241021T143649Z
LAST-MODIFIED:20241021T143649Z
UID:144419-1729936800-1729951200@vmba.org
SUMMARY:“Hunger is Scary” Benefit Gravel Ride
DESCRIPTION:Hardwick Area Food Pantry\, The Town of Hardwick\, and Riverside Cycles are hosting a benefit bike ride on October 26\, 2024 at 10AM. Cost of registration and all additional donations will go to the production of Hardwick Area Food Pantry holiday boxes to expand food access and choice in our region. \nThe ride will have two gravel route options\, a 10-mile-long traditional gravel ride and a social out-and-back Lamoille Valley Rail Trail ride. Both rides will start and end at Hazen Union School. Light snacks will be available at the start of the ride. \nThose of all ages and biking abilities are welcome! Bike-safe costumes are encouraged and may result in a small award or recognition for your Halloween-inspired creativity. The event will be held rain or shine! \nRiverside Cycles will be open at 8AM for pre-ride parts\, quick repairs\, or last-minute rentals. Join us at Riverside Cycles for post-ride socializing and mingling. BYO post-ride drinks and snacks. \nAll participants are encouraged to pre-register. Registration can be found here: www.nourishhardwick.org/ride. Day-of ride registration will be available at 8:30AM. \n\nRIVERSIDE CYCLES \n4 South Main St.\, Suite 3 Hardwick\, VT 05843 \n\nHARDWICK AREA FOOD PANTRY \nPO Box 1075\, Hardwick\, VT 05843
URL:https://vmba.org/event/hunger-is-scary-benefit-gravel-ride/
LOCATION:Hazen Union School\, 126 Hazen Union Drive\, Hardwick\, VT\, 05843\, United States
CATEGORIES:Festivals/Parties,Group Outing,Group Rides / Races
END:VEVENT
END:VCALENDAR