BEGIN:VCALENDAR
VERSION:2.0
PRODID:-//VMBA - ECPv6.15.17.1//NONSGML v1.0//EN
CALSCALE:GREGORIAN
METHOD:PUBLISH
X-WR-CALNAME:VMBA
X-ORIGINAL-URL:https://vmba.org
X-WR-CALDESC:Events for VMBA
REFRESH-INTERVAL;VALUE=DURATION:PT1H
X-Robots-Tag:noindex
X-PUBLISHED-TTL:PT1H
BEGIN:VTIMEZONE
TZID:America/New_York
BEGIN:DAYLIGHT
TZOFFSETFROM:-0500
TZOFFSETTO:-0400
TZNAME:EDT
DTSTART:20230312T070000
END:DAYLIGHT
BEGIN:STANDARD
TZOFFSETFROM:-0400
TZOFFSETTO:-0500
TZNAME:EST
DTSTART:20231105T060000
END:STANDARD
BEGIN:DAYLIGHT
TZOFFSETFROM:-0500
TZOFFSETTO:-0400
TZNAME:EDT
DTSTART:20240310T070000
END:DAYLIGHT
BEGIN:STANDARD
TZOFFSETFROM:-0400
TZOFFSETTO:-0500
TZNAME:EST
DTSTART:20241103T060000
END:STANDARD
BEGIN:DAYLIGHT
TZOFFSETFROM:-0500
TZOFFSETTO:-0400
TZNAME:EDT
DTSTART:20250309T070000
END:DAYLIGHT
BEGIN:STANDARD
TZOFFSETFROM:-0400
TZOFFSETTO:-0500
TZNAME:EST
DTSTART:20251102T060000
END:STANDARD
END:VTIMEZONE
BEGIN:VEVENT
DTSTART;TZID=America/New_York:20241005T090000
DTEND;TZID=America/New_York:20241005T180000
DTSTAMP:20260419T161912
CREATED:20240703T145240Z
LAST-MODIFIED:20240703T151952Z
UID:126310-1728118800-1728151200@vmba.org
SUMMARY:Leaf Blower Fall Classic
DESCRIPTION:Stowe Trails Partnership is thrilled to present Vermont’s favorite autumn mountain bike tradition: the 13th annual Leaf Blower Fall Classic Mountain Bike Festival! \nThis year’s Leaf Blower will be held on Saturday\, October 5th\, and will be hosted at Strawberry Hill Farm. With amazing riding for all ability levels\, awesome vendors\, homegrown food\, local libations\, and live music\, there is no better way to cap off the season than with this one-day community bike bash. \nAs always\, the marquee draw will be the rides\, tackling some of the northeast’s best terrain and affording some of Vermont’s most epic views—whether you love endurance or are new to riding\, we have a singletrack loop for you that’ll pass multiple aid stations and maximize the fun! \nAfter you’ve gotten your fill of single-track\, join us back at Strawberry Hill Farm for a variety of food trucks; some brews and beverages; live music from the popular local band\, The Deadbeats; and a vendor village full of local businesses. Your registration fee covers the rides\, vendor garden\, aid station snacks\, a post-ride beverage\, and a food truck dinner. \nThe Leaf Blower is STP’s biggest fundraiser of the year (all proceeds go toward our work to keep the trails in great shape)\, so we appreciate your participation! We have some different ticket pricing this year: \nActive STP member: $65\nNon-member: $90 \nGrab your tickets here!  \nEvent Location \nStrawberry Hill Farm\, 300 Meadow Lane\, Stowe\, VT 05672 \nEvent Schedule \nWe’ll see you on Saturday\, October 5th! This is a rain-or-shine event\, but in the event of a total monsoon that would cause ample damage to the trails\, we will refund your ticket. \nFriday Schedule \n6:00 – 8:00pm: Pre-party at Awol Stowe. More details to come! \nSaturday Schedule \n9:00am: Registration opens \n9:30am – 11:30am: Riders depart \n12:30pm – 5:00pm: Food is served \n4:00pm – 6:00pm: Live music from the Deadbeats! \nParking \nDue to limited space\, parking will not be allowed at Strawberry Hill Farm. Please plan on parking at the Springer-Miller parking lot\, Mayo Farm Field\, or the Events Field and bike commute to Strawberry Hill Farm via the Stowe Recreation Path to Meadow Lane. A bag check area will be available to store gear and bags while riding!
URL:https://vmba.org/event/leaf-blower-fall-classic-3/
LOCATION:Strawberry Hill Farm\, 300 Meadow Lane\, Stowe\, VT\, 05672\, United States
CATEGORIES:Festivals/Parties,Group Rides / Races
ATTACH;FMTTYPE=image/jpeg:https://vmba.org/wp-content/uploads/2024/07/0-1.jpg
END:VEVENT
BEGIN:VEVENT
DTSTART;TZID=America/New_York:20241006T080000
DTEND;TZID=America/New_York:20241006T170000
DTSTAMP:20260419T161912
CREATED:20240812T223647Z
LAST-MODIFIED:20240812T223647Z
UID:140493-1728201600-1728234000@vmba.org
SUMMARY:RMT Season Closer Party
DESCRIPTION:
URL:https://vmba.org/event/rmt-season-closer-party/
LOCATION:Bolton Valley Resort\, Bolton\, 05477
CATEGORIES:Festivals/Parties
END:VEVENT
BEGIN:VEVENT
DTSTART;TZID=America/New_York:20241006T100000
DTEND;TZID=America/New_York:20241006T160000
DTSTAMP:20260419T161912
CREATED:20240807T211257Z
LAST-MODIFIED:20240807T211331Z
UID:138809-1728208800-1728230400@vmba.org
SUMMARY:RMT Season Ender - Hosted by Bolton Valley
DESCRIPTION:Stay tuned for more information about Richmond Mountain Trails end of season party. It will be hosted at Bolton Valley and tickets will be $25. There will be prizes and vendors.
URL:https://vmba.org/event/rmt-season-ender-hosted-by-bolton-valley/
LOCATION:Bolton Valley Resort\, Bolton\, 05477
CATEGORIES:Festivals/Parties,Group Rides / Races
END:VEVENT
BEGIN:VEVENT
DTSTART;TZID=America/New_York:20241014T100000
DTEND;TZID=America/New_York:20241014T160000
DTSTAMP:20260419T161912
CREATED:20240927T180850Z
LAST-MODIFIED:20240927T180850Z
UID:144207-1728900000-1728921600@vmba.org
SUMMARY:Vermont Day at Stratton
DESCRIPTION:Join us on October 14th for the ultimate end of season Party in the Park! Vermont locals\, this is your chance to hit the trails while they’re in prime condition—thanks to our hardworking trail crew. Don’t miss out on the final weekend of mountain biking of the season before we prep the trails for winter hibernation. Grab your Bike Park ticket for just $8.02 + tax and celebrate another great season of biking with us. \nTicket Pickup: Tickets must be picked up at the Junior Mountain Sports School or The HUB.\nVermont License Required: A valid Vermont driver’s license or state ID is required for verification at ticket pickup. \nTicket Only: The ticket price of $8.02 plus tax covers a lift ticket to the Bike Park only. Bike and gear rentals are not included. \nOne Ticket Per Person: Each guest must purchase and pick up their individual ticket with proper identification.
URL:https://vmba.org/event/vermont-day-at-stratton/
LOCATION:Stratton Resort\, 5 Village Lodge Rd\, Stratton Mountain\, VT\, 05155
CATEGORIES:Festivals/Parties,Group Rides / Races
END:VEVENT
BEGIN:VEVENT
DTSTART;TZID=America/New_York:20241019T120000
DTEND;TZID=America/New_York:20241019T180000
DTSTAMP:20260419T161912
CREATED:20241016T002151Z
LAST-MODIFIED:20241016T002222Z
UID:144404-1729339200-1729360800@vmba.org
SUMMARY:KMBC Haunted Hillside Relay
DESCRIPTION:Join the Killington Mountain Bike Club for the 4th Annual Haunted Hillside Relay on Saturday\, October 19! \nGrab your friends and compete in teams of three in this exciting relay-style race from TBR to the Upper Base Camp loop. Prizes will be awarded for the fastest team\, best team costume\, and best individual costumes\, so bring your speed and creativity! \nThe race kicks off on Saturday\, October 19\, followed by an after-party at Base Camp to celebrate. \nRegistration Details: \n– Pre-registration: $75 per team until Sunday\, October 13. \n– Registration: $90 per team starting Monday\, October 14. \nEach team registration includes entry to both the race and the after-party. All funds raised will support the building and maintenance of trails within the KMBC network. \nDon’t miss out on this fun and festive event—sign up today and race for a great cause! \nEvent Schedule \n12:00 – 2:00: Race Registration/Check-in \n12:30 – 2:30: Relay Race \n2:30 – 6:00: After Party at Base Camp \n2:00 – 6:00: Live Music \n2:30 – 3:00: Lawn Games ft. Rubber Tire Toss \n3:00 – 5:00: BBQ\, Prizes & Raffle \n6:00 – 10:00: Haunted House @ Killington Welcome Center \nPurchase tickets here
URL:https://vmba.org/event/144404/
LOCATION:Base Camp\, 2363 US-4\, Killington\, Vermont\, 05751\, United States
CATEGORIES:Festivals/Parties,Group Rides / Races
END:VEVENT
BEGIN:VEVENT
DTSTART;TZID=America/New_York:20241020T100000
DTEND;TZID=America/New_York:20241020T140000
DTSTAMP:20260419T161912
CREATED:20240604T174354Z
LAST-MODIFIED:20240604T174354Z
UID:114932-1729418400-1729432800@vmba.org
SUMMARY:
DESCRIPTION:Make sure to check out  FOTWheel.Org and Fellowship of the Wheel Instagram for up to date info on the classic Halloween Spooktacular at Catamount Family Outdoor Center. \nEmail Info@FOTwheel.org with any questions.
URL:https://vmba.org/event/114932/
LOCATION:Catamount Outdoor Center\, Williston\, VT
CATEGORIES:Festivals/Parties,Group Outing,Group Rides / Races
ORGANIZER;CN="Fellowship Of the Wheel":MAILTO:info@fotwheel.org
END:VEVENT
BEGIN:VEVENT
DTSTART;TZID=America/New_York:20241026T080000
DTEND;TZID=America/New_York:20241026T170000
DTSTAMP:20260419T161912
CREATED:20240411T132028Z
LAST-MODIFIED:20241021T171631Z
UID:97447-1729929600-1729962000@vmba.org
SUMMARY:Leaf Leapin' Gravel Ride - Grateful Treads
DESCRIPTION:Join us Saturday 10/26 for our annual Leaf LeapGravel Grind!\nWe’ve got a 15 mile route\, with an option to tack on another ~10-15 miles. Our hand selected VT Pave` will offer options to get loose and rowdy\, or to keep it smooth and in control.\nBring your gravel bike\, your mountain bike\, whatever you want to pedal on the back roads of Montgomery – Rest assured\, rides will be at a fun pace.\nCostumes are HIGHLY encouraged!  Free espresso shots for riders in costume!\nWe’ll have a poker run set up along the way\, with a $10 buy-in. Winner takes 50%\, and 50% goes to the mountain bike club. Best hand wins!\nMeet at Cafe Oma between 10-10:30am\, (or earlier if you want to get a bite to eat!).\nRides will leave at 11am Sharp!Apres at Cafe Oma/Jay CloudSee you later this month!
URL:https://vmba.org/event/leaf-leapin-gravel-ride/
LOCATION:Jay Cloud Cyclery\, Montgomery\, VT\, United States
CATEGORIES:Festivals/Parties,Group Rides / Races
END:VEVENT
BEGIN:VEVENT
DTSTART;TZID=America/New_York:20241026T080000
DTEND;TZID=America/New_York:20241026T170000
DTSTAMP:20260419T161912
CREATED:20240809T204725Z
LAST-MODIFIED:20241007T161653Z
UID:139332-1729929600-1729962000@vmba.org
SUMMARY:FOTW Halloween Spooktacular
DESCRIPTION:Join Fellowship of the Wheel on October 26th for their annual Halloween Spooktacular at Catamount Outdoor Family Center. \nCheck out their event link for more details: \nhttps://sevendaystickets.com/events/2024-halloween-spoketaular-with-fotw-and-catamount-10-26-2024
URL:https://vmba.org/event/fotw-halloween-sooktacular/
LOCATION:Catamount Outdoor Center\, Williston\, VT
CATEGORIES:Festivals/Parties,Group Rides / Races
ORGANIZER;CN="Fellowship Of the Wheel":MAILTO:info@fotwheel.org
END:VEVENT
BEGIN:VEVENT
DTSTART;TZID=America/New_York:20241026T100000
DTEND;TZID=America/New_York:20241026T140000
DTSTAMP:20260419T161912
CREATED:20241021T143649Z
LAST-MODIFIED:20241021T143649Z
UID:144419-1729936800-1729951200@vmba.org
SUMMARY:“Hunger is Scary” Benefit Gravel Ride
DESCRIPTION:Hardwick Area Food Pantry\, The Town of Hardwick\, and Riverside Cycles are hosting a benefit bike ride on October 26\, 2024 at 10AM. Cost of registration and all additional donations will go to the production of Hardwick Area Food Pantry holiday boxes to expand food access and choice in our region. \nThe ride will have two gravel route options\, a 10-mile-long traditional gravel ride and a social out-and-back Lamoille Valley Rail Trail ride. Both rides will start and end at Hazen Union School. Light snacks will be available at the start of the ride. \nThose of all ages and biking abilities are welcome! Bike-safe costumes are encouraged and may result in a small award or recognition for your Halloween-inspired creativity. The event will be held rain or shine! \nRiverside Cycles will be open at 8AM for pre-ride parts\, quick repairs\, or last-minute rentals. Join us at Riverside Cycles for post-ride socializing and mingling. BYO post-ride drinks and snacks. \nAll participants are encouraged to pre-register. Registration can be found here: www.nourishhardwick.org/ride. Day-of ride registration will be available at 8:30AM. \n\nRIVERSIDE CYCLES \n4 South Main St.\, Suite 3 Hardwick\, VT 05843 \n\nHARDWICK AREA FOOD PANTRY \nPO Box 1075\, Hardwick\, VT 05843
URL:https://vmba.org/event/hunger-is-scary-benefit-gravel-ride/
LOCATION:Hazen Union School\, 126 Hazen Union Drive\, Hardwick\, VT\, 05843\, United States
CATEGORIES:Festivals/Parties,Group Outing,Group Rides / Races
END:VEVENT
END:VCALENDAR