BEGIN:VCALENDAR
VERSION:2.0
PRODID:-//VMBA - ECPv6.15.17.1//NONSGML v1.0//EN
CALSCALE:GREGORIAN
METHOD:PUBLISH
X-ORIGINAL-URL:https://vmba.org
X-WR-CALDESC:Events for VMBA
REFRESH-INTERVAL;VALUE=DURATION:PT1H
X-Robots-Tag:noindex
X-PUBLISHED-TTL:PT1H
BEGIN:VTIMEZONE
TZID:America/New_York
BEGIN:DAYLIGHT
TZOFFSETFROM:-0500
TZOFFSETTO:-0400
TZNAME:EDT
DTSTART:20220313T070000
END:DAYLIGHT
BEGIN:STANDARD
TZOFFSETFROM:-0400
TZOFFSETTO:-0500
TZNAME:EST
DTSTART:20221106T060000
END:STANDARD
BEGIN:DAYLIGHT
TZOFFSETFROM:-0500
TZOFFSETTO:-0400
TZNAME:EDT
DTSTART:20230312T070000
END:DAYLIGHT
BEGIN:STANDARD
TZOFFSETFROM:-0400
TZOFFSETTO:-0500
TZNAME:EST
DTSTART:20231105T060000
END:STANDARD
BEGIN:DAYLIGHT
TZOFFSETFROM:-0500
TZOFFSETTO:-0400
TZNAME:EDT
DTSTART:20240310T070000
END:DAYLIGHT
BEGIN:STANDARD
TZOFFSETFROM:-0400
TZOFFSETTO:-0500
TZNAME:EST
DTSTART:20241103T060000
END:STANDARD
END:VTIMEZONE
BEGIN:VEVENT
DTSTART;TZID=America/New_York:20230503T170000
DTEND;TZID=America/New_York:20230503T170000
DTSTAMP:20260419T191645
CREATED:20230428T143153Z
LAST-MODIFIED:20230428T143153Z
UID:48639-1683133200-1683133200@vmba.org
SUMMARY:ACBC Season Kickoff Social
DESCRIPTION:Please join us on May 3rd for our Spring Kickoff Social!\n\nWe’ll ride beforehand and then get together for food and beverages. It’s your chance to boast about recent rides and meet new members. Wheels up at 5 p.m. from Frog Hollow Bikes; meet at Marquis Theatre\, Middlebury at 6 p.m.\n\nWe’ll buy your first beer–or other beverage of choice. Food will be available for purchase (until 7:30 p.m.) from the cafe within the theatre.\n\nWe’ll have some swag to share\, as well as updates on Addison County’s trail networks and plans for the 2023 riding season.
URL:https://vmba.org/event/acbc-season-kickoff-social/
LOCATION:Middlebury Marquis Theatre\, 65 Main Street\, Middlebury\, VT\, 05753\, United States
CATEGORIES:Festivals/Parties,Group Rides / Races
END:VEVENT
BEGIN:VEVENT
DTSTART;TZID=America/New_York:20230503T170000
DTEND;TZID=America/New_York:20230503T203000
DTSTAMP:20260419T191645
CREATED:20230428T180146Z
LAST-MODIFIED:20230428T180146Z
UID:48457-1683133200-1683145800@vmba.org
SUMMARY:ACBC Season Kickoff Social
DESCRIPTION:Please join us on May 3rd for our Spring Kickoff Social! The first beer is on us! \nWe’ll ride beforehand and then get together for food and beverages. It’s your chance to boast about recent rides and meet new members. Wheels up at 5 p.m. from Frog Hollow Bikes; meet at Marquis Theatre\, Middlebury at 6 p.m. \nWe’ll buy your first beer–or other beverage of choice. Food will be available for purchase (until 7:30 p.m.) from the cafe within the theatre. \nWe’ll have some swag to share as well as updates on Addison County’s trail networks and plans for the 2023 riding season.
URL:https://vmba.org/event/acbc-season-kickoff-social-2/
LOCATION:Middlebury Marquis Theatre\, 65 Main Street\, Middlebury\, VT\, 05753\, United States
CATEGORIES:Festivals/Parties,Group Outing
ATTACH;FMTTYPE=image/jpeg:https://vmba.org/wp-content/uploads/2023/04/marquis.jpg
END:VEVENT
BEGIN:VEVENT
DTSTART;TZID=America/New_York:20230504T173000
DTEND;TZID=America/New_York:20230504T193000
DTSTAMP:20260419T191645
CREATED:20230324T144957Z
LAST-MODIFIED:20230324T144957Z
UID:45787-1683221400-1683228600@vmba.org
SUMMARY:MAMBA Spring Kick off
DESCRIPTION:You’ll have the opportunity to renew your VMBA membership\, hear about upcoming summer projects\, and enjoy food and fun with friends. Your VMBA membership enters you into a raffle for some sweet bike-related prizes.\n\nTicket price includes dinner from Woodbelly Pizza in Montpelier\, Vermont. They’ll be serving up delicious slices — with vegetarian and gluten-free options.
URL:https://vmba.org/event/mamba-spring-kick-off/
LOCATION:Montpelier Pool Shelter\, 1 Poolside Dr\, Montpelier\, VT\, 05602\, United States
CATEGORIES:Festivals/Parties
END:VEVENT
BEGIN:VEVENT
DTSTART;TZID=America/New_York:20230504T173000
DTEND;TZID=America/New_York:20230504T203000
DTSTAMP:20260419T191645
CREATED:20230428T143610Z
LAST-MODIFIED:20230428T143610Z
UID:48641-1683221400-1683232200@vmba.org
SUMMARY:FCMBC Season Kickoff
DESCRIPTION:Join the Franklin County Mountain Bike Club in “The Room” at 14th Star Brewery for a very special 2023 Season Kickoff event!\nKey Topics & Activities to Include:\n• Launch of 14th Star / FCMTBC “Handlebar Haze” IPA\n• Introduction of new FCMTBC Jersey\n• New 1+ mile Town Forest Trail Build (Professional Builder Introduction\, Plan/Timetable/ Club Participation\, Inputs for Trail Design)\n• Rail Trail Celebration Event: New section May 27th ($2k free bike raffle)\n• 2023 GoalsKey Plans & Trail Work\n• Bootlegger Bikes Updates & Winter Fat Tire Report\n• Franklin County Fall Gravel Ride FCMTBC Fundraiser\n• Election of Officers\, New Positions- Social Media\, Trail Building\, Fundraising\nQuestions? Contact Andy Crossman at (802) 582-6236!
URL:https://vmba.org/event/fcmbc-season-kickoff/
LOCATION:14th Star Bewing Company\, St. Albans\, VT\, United States
CATEGORIES:Festivals/Parties
END:VEVENT
BEGIN:VEVENT
DTSTART;TZID=America/New_York:20230505T173000
DTEND;TZID=America/New_York:20230505T203000
DTSTAMP:20260419T191645
CREATED:20230414T153107Z
LAST-MODIFIED:20230430T184726Z
UID:47475-1683307800-1683318600@vmba.org
SUMMARY:Fellowship of the Wheel Season Kick Off
DESCRIPTION:Warm weather is finally here and the Fellowship of the Wheel Annual Kickoff Party is back! Join us at Switchback Brewing Co to welcome the summer in style. \nThere will be music\, food available for purchase\, a slideshow\, games (classics like fix-a-flat and pin-the-helmet-on-the-biker)\, along with a 50/50 raffle to support the Fellowship of the Wheel. A portion of the taproom sales from the event will go directly to funding Fellowship’s mission of building a better mountain bike community in Chittenden County. \nJoin us on May 5th from 5:30 PM to 8:30 PM! FOTW Staff and Board Members will recap the awesome trail work that our trail crew and dedicated volunteers have accomplished over the past few years. We will review the recent trail survey results and share some of the exciting news as we take a look at the season ahead. Wow\, things have changed since the last kickoff party\, so we hope you can attend to hear about all the good things in the works. \nCome out and show your support for the local mountain bike community!
URL:https://vmba.org/event/fellowship-of-the-wheel-season-kick-off/
LOCATION:Switchback Brewing Company
CATEGORIES:Festivals/Parties
ATTACH;FMTTYPE=image/jpeg:https://vmba.org/wp-content/uploads/2023/04/https___cdn.evbuc_.com_images_496120629_206987963840_1_original.jpg
ORGANIZER;CN="Fellowship Of the Wheel":MAILTO:info@fotwheel.org
END:VEVENT
BEGIN:VEVENT
DTSTART;TZID=America/New_York:20230506T090000
DTEND;TZID=America/New_York:20230506T120000
DTSTAMP:20260419T191645
CREATED:20230310T142209Z
LAST-MODIFIED:20230310T142209Z
UID:45382-1683363600-1683374400@vmba.org
SUMMARY:Onion River Outdoors' Annual Bike Swap
DESCRIPTION:Find the perfect new-to-you bike\, sell that old bike that’s been taking up space in your garage all these years\, or better yet\, do both!\n\nFrom kids bikes to road bikes\, full suspension bikes\, and fat bikes\, it’s all here and waiting for you! As always\, helpful and knowledgeable staff members will be on hand to answer any questions you may have and to guide you toward the bike that is best suited for your riding.\n\nRead the details about buying and selling bikes and bike drop-off dates and times on their website at: https://www.onionriver.com/events/bike-swap/
URL:https://vmba.org/event/onion-river-outdoors-annual-bike-swap/
LOCATION:Onion River Outdoors\, 20 Langdon Street\, Montpelier\, Vermont\, 05602
CATEGORIES:Festivals/Parties
END:VEVENT
BEGIN:VEVENT
DTSTART;TZID=America/New_York:20230506T100000
DTEND;TZID=America/New_York:20230506T140000
DTSTAMP:20260419T191645
CREATED:20230306T183409Z
LAST-MODIFIED:20230306T183633Z
UID:45270-1683367200-1683381600@vmba.org
SUMMARY:Spring Sprockets & Walk-Its Fun Ride & Walk for Homeless Prevention Center.
DESCRIPTION:  \n \nHaul those bikes out of the barn… \nLace up those sneakers… \nAnd join us Saturday\, May 6th\, 2023 at Pine Hill Park for our 2nd annual Spring Sprockets & Walk-Its Fun Ride & Walk for Homeless Prevention Center. \nChoose… \n-The bike option on Pine Hill Park’s MTB trails. \n-The walk option on the Giorgetti Walking loops. \n-Or just come celebrate spring with music\, food and community. \nSocial Rides and Rambles for multiple levels. \nWalking\, Hiking\, Jogging options for you non-bikers. \nScavenger Hunt Adventure Scrambles with PRIZES. (both bikers & walkers) \nPlus outdoor Kids’ Activities\, DJ\, Food Truck\, & More. \n\n\n\n\n— REGISTER NOW – Early Bird Discount Registration Specials — \nUntil March 21st… \nAdults $15. Youth $5. Kids under 10 are free. \nAfter March 21st… \nAdults $22. Youth $10. Kids under 10 are free. \nHomeless Prevention Center is a 501(c)(3) nonprofit serving Vermont families and individuals who are homeless or at-risk. \nYour participation in this all-ages outdoor community event supports our mission of ending homelessness in Rutland County\, one family at a time.
URL:https://vmba.org/event/spring-sprockets-walk-its-fun-ride-walk-for-homeless-prevention-center/
LOCATION:Pine Hill Park\, Rutland\, VT
CATEGORIES:Festivals/Parties,Group Outing,Group Rides / Races
END:VEVENT
BEGIN:VEVENT
DTSTART;TZID=America/New_York:20230507T080000
DTEND;TZID=America/New_York:20230507T150000
DTSTAMP:20260419T191645
CREATED:20230126T185725Z
LAST-MODIFIED:20230126T185725Z
UID:44537-1683446400-1683471600@vmba.org
SUMMARY:WATA Gravel Grinder
DESCRIPTION:More info to come soon.
URL:https://vmba.org/event/wata-gravel-grinder/
LOCATION:VT
CATEGORIES:Festivals/Parties,Group Rides / Races
END:VEVENT
BEGIN:VEVENT
DTSTART;TZID=America/New_York:20230513T100000
DTEND;TZID=America/New_York:20230513T140000
DTSTAMP:20260419T191645
CREATED:20230413T182521Z
LAST-MODIFIED:20230414T165724Z
UID:47350-1683972000-1683986400@vmba.org
SUMMARY:Spring Launch
DESCRIPTION:Mud season is nearly over\, and we want to celebrate! Join and celebrate the season with Fellowship of the Wheel (FOTW)\, VMBA\, and Catamount Family Outdoor Center (COFC). A whole host of our partners will be there with goodies and treats\, stay tuned for a complete list.  \nWe will start the day off with a kids’ ride that will be focused on nature and then end with a pump track event. Adults and families are invited to join us for beginner\, intermediate\, and advanced group rides throughout the day. This will be a great way to learn the trails at Catamount or dust off the skills. \nJoin us at the vendor city in the main area\, where we’ll have demos\, swag\, and more for you to check out. Don’t forget to grab a bite to eat (optional donation) before or after your ride while supplies last. Please sign up via Event Brite to give us a head count for food.  \nAre you a VMBA Member with FOTW and COFC added to your Membership? Be sure you stop by the VMBA tent to enter a free raffle with prizes from Cabot Cheese\, VMBA\, and COFC.  \nIf you’re not a COFC Member\, you will need to purchase a day pass or add COFC to your VMBA Membership. VMBA Members can use the COFC Member Benefit for “[34] Free Fat Bike or MTB Day Pass*” \nAre you a COFC race series participant? Pick up your racer packet at our hub! Not a series participant yet? Take advantage of 20% off the Weekly Race Series entry fee at this event!\n  \nMembership/Pass Prices: \nVMBA Individual Membership with FOTW – $60 \nCatamount Outdoor Family Center add-on: $30 \nCatamount Outdoor Family Center day pass:  $10.00/adults; $5/youth (5 and under are free) \n  \nChawla Photography\n \n \n  \n  \n  \nVendor List:  \nOutdoor Gear Exchange – Demos \nSalas (through Catamount) – Demos \nSDR – Merchandise for sale \nGMCX – Group Rides and demos \nRTF – informational  \nEthan Tapper Forestry –  Ride/walk
URL:https://vmba.org/event/spring-launch/
LOCATION:Catamount Outdoor Center\, Williston\, VT
CATEGORIES:Festivals/Parties,Group Rides / Races
END:VEVENT
BEGIN:VEVENT
DTSTART;TZID=America/New_York:20230513T110000
DTEND;TZID=America/New_York:20230513T140000
DTSTAMP:20260419T191645
CREATED:20230324T161748Z
LAST-MODIFIED:20230324T161748Z
UID:45745-1683975600-1683986400@vmba.org
SUMMARY:UVMBA Member Appreciation Day
DESCRIPTION:UVMBA will be hanging out at the Nature Walk trailhead with food and drinks for anybody out riding that day.
URL:https://vmba.org/event/uvmba-member-appreciation-day/
LOCATION:Landmark/Boston-Lot Naturewalk Trailhead\, 287 Mascoma St\, Lebanon\, NH\, 03766\, United States
CATEGORIES:Festivals/Parties
END:VEVENT
BEGIN:VEVENT
DTSTART;TZID=America/New_York:20230513T160000
DTEND;TZID=America/New_York:20230513T190000
DTSTAMP:20260419T191645
CREATED:20230428T144436Z
LAST-MODIFIED:20230428T144436Z
UID:48646-1683993600-1684004400@vmba.org
SUMMARY:Slate Valley Trails Spring Social and Annual Meeting
DESCRIPTION:SVT’s Spring Social and Annual Meeting is a free community event for us all to connect and catch up on the great things happening with SVT!\n\nThere will be a cash bar and light snacks. Our board will give a brief update\, and SVT members will be eligible to vote for the 2023 board of directors. All are welcome\, but space is limited\, so please RSVP by filling out the Google form below by May 6.\n\nAgenda:\n4-4:30 Mix and Mingle\n4:30-5:30- Annual Meeting and 2023 board of directors vote\n5:30-7:00- Snacks\, drinks\, meet board of directors\, meet committee chairs\, shop SVT merchandise\, sign up for memberships\n\nRSVP Here:\nhttps://docs.google.com/…/1FAIpQLSecPsghPUL…/viewform…\nNot a member? Join or renew here:\nhttps://vmba.org/join/
URL:https://vmba.org/event/slate-valley-trails-spring-social-and-annual-meeting/
LOCATION:Fairways Restaurant and Tavern\, Poultney\, Vermont
CATEGORIES:Festivals/Parties
END:VEVENT
BEGIN:VEVENT
DTSTART;TZID=America/New_York:20230514T110000
DTEND;TZID=America/New_York:20230514T140000
DTSTAMP:20260419T191645
CREATED:20230508T162319Z
LAST-MODIFIED:20230508T162319Z
UID:49365-1684062000-1684072800@vmba.org
SUMMARY:ATA Spring Jump Jam
DESCRIPTION:Come get your rubber dirty at our Jump Jam Fundraiser event! With open riding\, a judged competition\, group rides and Barbecue\, there’s something for everyone. Don’t miss out on the fun on May 14th at Mount Ascutney in Brownsville\, VT.
URL:https://vmba.org/event/ata-spring-jump-jam/
LOCATION:Ascutney Outdoors
CATEGORIES:Festivals/Parties
ORGANIZER;CN="Ascutney Trails Association":MAILTO:info@ascutneytrails.com
END:VEVENT
BEGIN:VEVENT
DTSTART;TZID=America/New_York:20230521T140000
DTEND;TZID=America/New_York:20230521T160000
DTSTAMP:20260419T191645
CREATED:20230414T124207Z
LAST-MODIFIED:20230414T124207Z
UID:47420-1684677600-1684684800@vmba.org
SUMMARY:RMT Spring Kick Off
DESCRIPTION:Join Richmond Mountain Trails at Big Spruce to kick off Mountain Bike Season! \n\nTickets will be available via Eventbrite – check RMT’s website for details!
URL:https://vmba.org/event/rmt-spring-kick-off/
LOCATION:Big Spruce\, 39 Bridge St.\, Richmond\, VT\, 05477\, United States
CATEGORIES:Festivals/Parties
END:VEVENT
BEGIN:VEVENT
DTSTART;TZID=America/New_York:20230527T100000
DTEND;TZID=America/New_York:20230527T140000
DTSTAMP:20260419T191645
CREATED:20230414T154158Z
LAST-MODIFIED:20230414T154158Z
UID:47480-1685181600-1685196000@vmba.org
SUMMARY:Rail Trail Celebration Ride: Connecting our Communities
DESCRIPTION:Rail Trail Celebration Ride: Connecting our Communities- Registration at St. Albans Recreation \nThe Rail Trail Celebration ride is between Cambridge Junction and St. Albans City on the newly built LVRT-Lamoille Valley Rail Trail connected to the MVRT (Missisquoi Valley Rial Trail) .\nThis 30 mile ride is bi-directional and will offer two “waypoints” East Fairfield and Sheldon Junction (Bourbeau Brothers) where parking and facilities are available\, as well as pickup for rider and bike by our shuttles (see schedule).\nParticipants are encouraged to self-park at the Trailheads in Cambridge Junction or Taylor Park downtown St. Albans or at the Waypoints. We are encouraging riders to plan their ride (see the LVRT & MVRT Websites) Riders can start at different times and locations. St. Albans will have a designated sidewalk route with signage and barriers from the MVRT Trailhead to Taylor Park in Downtown St. Albans. \nEvent Registration is free. When you register -AND PARTICIPATE IN A PORTION OF THE RIDE – you will be entered into a raffle for a $2\,000 bike of your choice at Bootlegger Bikes courtesy of Haddad Subaru in St. Albans. Registration deadline to be considered for the raffle is end of business May 25\, 2023. Participants must be 16+ years old to be eligible for the raffle\, but all ages can participate in the ride. The Raffle winner will be announced at 11:45am at the Trailhead ceremony at both ends.\nShuttles pick ups are based on advance signup. A $10 all day fee is requested to cover shuttle costs. Payment can be made when you register for a shuttle service below.\nA severe weather “rain” date is set for May 28.\nWeather announcements will be available on the fcmtbc.com (Franklin Co. Mountain Bike Club) website\nSt. Albans Recreation Department is happy to help promote this great community event\, however for questions please contact Andy Crossman at 802-582-6236\n*When registering\, click all the way through to “pay on line” screen even though no payment is needed for the ride to confirm your registration. \nFor information on e-bike rentals\, bikes and services contact: \nBootlegger Bikes (Jeffersonville & St. Albans) 802-782-8747  info@bootleggers.com\nLamoillevalleybiketours.com 802-730-0161 (Johnson\, VT) Shuttle Operating for Event.\n\n  \nRail Trail Rules & Information \nVermont state-owned rail trails are a public resource. Keeping each other safe is everyone’s responsibility. Good rules of thumb include yielding to the slowest user and yielding to livestock and other animals. Trail users should respect all landowners and private property along the trail. Respect for the adjacent landowners includes accessing the trail only from these designated access points and not along private driveways\, farm crossings\, or other trail crossings that do not otherwise connect to public facilities.\nFor safety and maintenance reasons\, only non-motorized uses are permitted with the exception of snowmobiles\, motorized wheelchairs\, and maintenance vehicles. Motorbikes\, ATV’s and ORV’s are not permitted on the trail. Vermont law prohibits the operation of snowmobiles on streets and highways. E-bikes are permitted. Horses are permitted on the Trail but must travel near the shoulder whenever possible. Horse and pet owners should remove animal waste from the trail surface. Pet owners must have control of their animals at all times. \nUse caution at road crossings. Bicycles are considered vehicles by Vermont law and must follow traffic laws. Ride in a safe and controlled manner. You are ultimately responsible for operating your bicycle under all conditions.\nDuring typical summer use\, bicyclists should yield to runners\, hikers\, and walkers. All users should yield to equestrians and should announce presence when approaching. Heed the advice of equestrians when approaching or passing a horse to limit possibility of spooking the horse. Similar to summer\, in winter bicyclists should yield to users on foot\, including snowshoers. Pedestrians and snowshoers should yield to those utilizing the groomed trails that may have more difficulty stepping off trail to allow others to pass. This includes skiers yielding to dog sleds yielding to snowmobiles. All uses should operate at a reasonable speed and should slow down when engaging in passing maneuvers\, especially when passing other use types. \n\n\nImportant Info: \n\n\nALL RIDE PARTICIPANTS MUST BE INDIVIDUALLY REGISTERED.\nTHOSE WISHING TO CATCH A SHUTTLE MUST REGISTER IN ADVANCE AND PAY THE $10 FEE ONLINE. ONE PERSON MAY REGISTER FOR SEVERAL PEOPLE\, BUT ALL THOSE RIDING MUST PAY THE $10 FEE. THE SHUTTLE RIDE INCLUDES BIKE TRAILER PORTAGE. EACH SHUTTLE IS LIMITED TO 14 PEOPLE\n\n\n 
URL:https://vmba.org/event/rail-trail-celebration-ride-connecting-our-communities/
LOCATION:Bootlegger Bikes St. Albans\, 82 N. Main St.\, St. Albans\, VT\, United States
CATEGORIES:Festivals/Parties,Group Rides / Races
END:VEVENT
BEGIN:VEVENT
DTSTART;TZID=America/New_York:20230530T173000
DTEND;TZID=America/New_York:20230530T193000
DTSTAMP:20260419T191645
CREATED:20230512T150717Z
LAST-MODIFIED:20230512T150717Z
UID:49739-1685467800-1685475000@vmba.org
SUMMARY:BATS Night at Harvest Brewing
DESCRIPTION:Calling all bikers\, hikers\, and outdoor enthusiasts! Find out how you can help support (and join!) the organization that maintains the trail network on the slopes of Mount Anthony.\n\nBennington Area Trail System (BATS) will present an overview of their recent work and plans for upcoming projects\, and Nick Bennette\, Executive Director of the Vermont Mountain Bike Association\, will be on hand to talk about how his organization works with local chapters like BATS to support a full range of outdoor recreational activities. There will be plenty of time for Q&A and to enjoy Harvest Brewing’s hospitality with like-minded folks.\n\nBONUS: Meet at the fieldhouse parking lot at the former SVC campus (Everett Estate) on Mansion Drive at 4:30 PM for a group mt bike ride on some of the BATS trails.
URL:https://vmba.org/event/bats-night-at-harvest-brewing/
LOCATION:Harvest Brewing
CATEGORIES:Festivals/Parties,Group Outing
ORGANIZER;CN="Bennington Area Trail System":MAILTO:batsvt@gmail.com
END:VEVENT
END:VCALENDAR