BEGIN:VCALENDAR
VERSION:2.0
PRODID:-//VMBA - ECPv6.15.17.1//NONSGML v1.0//EN
CALSCALE:GREGORIAN
METHOD:PUBLISH
X-WR-CALNAME:VMBA
X-ORIGINAL-URL:https://vmba.org
X-WR-CALDESC:Events for VMBA
REFRESH-INTERVAL;VALUE=DURATION:PT1H
X-Robots-Tag:noindex
X-PUBLISHED-TTL:PT1H
BEGIN:VTIMEZONE
TZID:America/New_York
BEGIN:DAYLIGHT
TZOFFSETFROM:-0500
TZOFFSETTO:-0400
TZNAME:EDT
DTSTART:20220313T070000
END:DAYLIGHT
BEGIN:STANDARD
TZOFFSETFROM:-0400
TZOFFSETTO:-0500
TZNAME:EST
DTSTART:20221106T060000
END:STANDARD
BEGIN:DAYLIGHT
TZOFFSETFROM:-0500
TZOFFSETTO:-0400
TZNAME:EDT
DTSTART:20230312T070000
END:DAYLIGHT
BEGIN:STANDARD
TZOFFSETFROM:-0400
TZOFFSETTO:-0500
TZNAME:EST
DTSTART:20231105T060000
END:STANDARD
BEGIN:DAYLIGHT
TZOFFSETFROM:-0500
TZOFFSETTO:-0400
TZNAME:EDT
DTSTART:20240310T070000
END:DAYLIGHT
BEGIN:STANDARD
TZOFFSETFROM:-0400
TZOFFSETTO:-0500
TZNAME:EST
DTSTART:20241103T060000
END:STANDARD
END:VTIMEZONE
BEGIN:VEVENT
DTSTART;TZID=America/New_York:20230407T170000
DTEND;TZID=America/New_York:20230407T210000
DTSTAMP:20260419T204726
CREATED:20230324T150539Z
LAST-MODIFIED:20230324T150539Z
UID:45805-1680886800-1680901200@vmba.org
SUMMARY:Waterbury Area Trails Alliance Kickoff Party
DESCRIPTION:Join us at our annual kickoff party on April 7th at Zen Barn. We’ll bring the stoke\, beer and raffle prizes!\nThe Deal: Suggested $10 Donation for music and raffle! A portion of Big Tree Brewing proceeds go back to the trails\, too!\nSocial Hour 5:00-6:00 PM\nAnnual Meeting 6:00-7:00 PM\nRaffle 7:00-7:30 PM\nLIVE MUSIC from Mountain Grass Unit @ 8:00 PM\nMake sure you submit your nomination for our snowdog name before the party; tap the link in Bio.
URL:https://vmba.org/event/waterbury-area-trails-alliance-kickoff-party/
LOCATION:Zenbarn\, Waterbury\, Vermont
CATEGORIES:Festivals/Parties
END:VEVENT
BEGIN:VEVENT
DTSTART;TZID=America/New_York:20230412T173000
DTEND;TZID=America/New_York:20230412T200000
DTSTAMP:20260419T204726
CREATED:20230323T160949Z
LAST-MODIFIED:20230323T160949Z
UID:45683-1681320600-1681329600@vmba.org
SUMMARY:Stowe Trails Partnership Season Kick-Off Party
DESCRIPTION:Our Season Kick-Off Party is on the calendar for Wednesday\, April 12! Big thanks to The Alchemist for hosting us again this year! \nWhen: April 12\, 5:30pm – 8:00pm \nWhere: The Alchemist Brewery\, 100 Cottage Club Rd\, Stowe\, VT 05672. Big thanks to The Alchemist for hosting us again this year! \nWhat: A time to hang with your bike friends\, get excited for the season\, enjoy free libations\, eat food\, and more! We hope to see you there!
URL:https://vmba.org/event/stowe-trails-partnership-season-kick-off-party/
LOCATION:The Alchemist\, 100 Cottage Club Road\, Stowe\, VT\, 05672\, United States
CATEGORIES:Festivals/Parties
ATTACH;FMTTYPE=image/jpeg:https://vmba.org/wp-content/uploads/2023/03/329181457_599484395525276_7304955580989525463_n.jpg
END:VEVENT
BEGIN:VEVENT
DTSTART;TZID=America/New_York:20230420T193000
DTEND;TZID=America/New_York:20230420T213000
DTSTAMP:20260419T204726
CREATED:20230414T131841Z
LAST-MODIFIED:20230414T131841Z
UID:47446-1682019000-1682026200@vmba.org
SUMMARY:Bike Season Kick-Off Movie Night
DESCRIPTION:What better way to get stoked for bike season than some killer\, mountain bike films?! Two films: Riding The Rails\, and TGRs: Esperanto. Join us for a kickoff for the community. Raffles\, stoke\, and obviously some free swag. All ticket and Raffle proceeds will be going wholly to VMBA (Vermont Mountain Bike Association).\nDoors at 7:30!
URL:https://vmba.org/event/bike-season-kick-off-movie-night/
LOCATION:Outdoor Gear Exchange\, Burlington\, VT\, 05401
CATEGORIES:Festivals/Parties
END:VEVENT
BEGIN:VEVENT
DTSTART;TZID=America/New_York:20230421T160000
DTEND;TZID=America/New_York:20230421T200000
DTSTAMP:20260419T204726
CREATED:20230330T144013Z
LAST-MODIFIED:20230403T191048Z
UID:46181-1682092800-1682107200@vmba.org
SUMMARY:VMBA Days Series Kick Off
DESCRIPTION:Come out to the Zero Gravity Beer Hall to celebrate the new partnership between Zero Gravity brewery and VMBA to put on the third season of the VMBA Days Series. The series will stop at VMBA’s five DH in VT partners (Killington\, Burke\, Bolton Valley\, Stratton\, Sugarbush). The days will be filled with riding\, raffles\, timed laps\, and an after-party hosted by Zero Gravity. \nWe’re very excited about this partnership and thought the best way to celebrate it is to have a season kick-off at Zero Gravity beer hall. We’re working with Outdoor Gear Exchange to do quick tunes and assessments and providing incentives to come into their shop for a bigger tune.  Ensure you’re handing over a nice clean bike to their techs. Motorex will be providing a wash station. \nThis will be a perfect time to buy your membership for the season and hear about the App’s benefits. Hear about our wild new bike raffle and purchase tickets for $5. To top it off\, Zero Gravity will also provide beer specials and sell our new collaborative VMBA Days jersey. \nTake the chance to kick off the season on a good note. \nVMBA Day Series Stops: \nKillington Resort & VT Adaptive/KMBC 6/17/2023 – 6/18/2023 \nSugarbush Resort & Mad River Riders – 7/15/2023 \nStratton Resort & (TBD – Chapter) – 8/12/2023 to 8/13/2023 \nBolton Valley – 8/19/2023 \nBurke Mtn Resort & Kingdom Trails – 9/9/2023 to 9/10/2023
URL:https://vmba.org/event/vmba-days-series-kick-off/
LOCATION:Zero Gravity\, 716 Pine St\, Burlington\, VT\, 05401\, United States
CATEGORIES:Festivals/Parties
ATTACH;FMTTYPE=image/png:https://vmba.org/wp-content/uploads/2022/12/vmba-days-update-V2.png
ORGANIZER;CN="VMBA":MAILTO:Joe@vmba.org
END:VEVENT
BEGIN:VEVENT
DTSTART;TZID=America/New_York:20230428T143000
DTEND;TZID=America/New_York:20230430T170000
DTSTAMP:20260419T204726
CREATED:20230324T135238Z
LAST-MODIFIED:20230324T135238Z
UID:45766-1682692200-1682874000@vmba.org
SUMMARY:Pride Rides does Rasputitsa
DESCRIPTION:At the end of April Pride Rides will be joining @rasputitsadirt for their annual bike party in the NEK! A weekend of bike shenanigans with a queer twist!\nJoin them Friday at @dirtchurchvt at 2:30 so you can grab a little pre-ride drink and the event kicks off at 3pm. Ride with Pride Rides for the shakeout ride and be entertained by the fabulous @emojinightmare \nRasputitsa has a mission of cycling\, community\, and charity. Rasputitsa is more than a gravel cycling race. It’s a homegrown self-supported challenge of the mind\, body\, and soul that instills people with a connected sense of place and purpose. It’s an authentic experience that embraces: The Unknown. Change. All people. All bikes. \nVisit rasputitsadirt.com for more details on the full event.
URL:https://vmba.org/event/pride-rides-does-rasputitsa/
LOCATION:VT
CATEGORIES:Festivals/Parties,Group Rides / Races
END:VEVENT
END:VCALENDAR