BEGIN:VCALENDAR
VERSION:2.0
PRODID:-//VMBA - ECPv6.15.17.1//NONSGML v1.0//EN
CALSCALE:GREGORIAN
METHOD:PUBLISH
X-WR-CALNAME:VMBA
X-ORIGINAL-URL:https://vmba.org
X-WR-CALDESC:Events for VMBA
REFRESH-INTERVAL;VALUE=DURATION:PT1H
X-Robots-Tag:noindex
X-PUBLISHED-TTL:PT1H
BEGIN:VTIMEZONE
TZID:America/New_York
BEGIN:DAYLIGHT
TZOFFSETFROM:-0500
TZOFFSETTO:-0400
TZNAME:EDT
DTSTART:20220313T070000
END:DAYLIGHT
BEGIN:STANDARD
TZOFFSETFROM:-0400
TZOFFSETTO:-0500
TZNAME:EST
DTSTART:20221106T060000
END:STANDARD
BEGIN:DAYLIGHT
TZOFFSETFROM:-0500
TZOFFSETTO:-0400
TZNAME:EDT
DTSTART:20230312T070000
END:DAYLIGHT
BEGIN:STANDARD
TZOFFSETFROM:-0400
TZOFFSETTO:-0500
TZNAME:EST
DTSTART:20231105T060000
END:STANDARD
BEGIN:DAYLIGHT
TZOFFSETFROM:-0500
TZOFFSETTO:-0400
TZNAME:EDT
DTSTART:20240310T070000
END:DAYLIGHT
BEGIN:STANDARD
TZOFFSETFROM:-0400
TZOFFSETTO:-0500
TZNAME:EST
DTSTART:20241103T060000
END:STANDARD
END:VTIMEZONE
BEGIN:VEVENT
DTSTART;TZID=America/New_York:20230125T063000
DTEND;TZID=America/New_York:20230125T200000
DTSTAMP:20260420T014411
CREATED:20221230T160506Z
LAST-MODIFIED:20221230T160506Z
UID:44167-1674628200-1674676800@vmba.org
SUMMARY:UVMBA Annual Meeting
DESCRIPTION:This year’s meeting will be held at Trail Break in White River Junction! We’ll give an update on our accomplishments this past year and our plans for the coming year. All 2022 UVMBA members get 1 free drink! \n  \nWe will also be holding elections for the Board OF Directors. This year we are looking for candidates to fill 4 seats on the board. If you are interested in joining the board\, please email info@UVMBA.org by 1/22/2023 and be prepared to introduce yourself at the meeting. Candidates must consider themselves to be residents of the Upper Valley aanddn be current UVMBA members.
URL:https://vmba.org/event/uvmba-annual-meeting-2/
LOCATION:Trail Break\, 129 S Main Street\, White River Junction\, VT
CATEGORIES:Chapter Meetings,Festivals/Parties
END:VEVENT
BEGIN:VEVENT
DTSTART;TZID=America/New_York:20230125T173000
DTEND;TZID=America/New_York:20230125T203000
DTSTAMP:20260420T014411
CREATED:20230120T144109Z
LAST-MODIFIED:20230120T144109Z
UID:44341-1674667800-1674678600@vmba.org
SUMMARY:Winter Mountain Bike Meeting and Social - FCMTBC
DESCRIPTION:Join the FCMTBC for a Winter Mountain Bike Meeting & Social at 14th Star Brewery!\nPublic Welcome!\nLearn More about:\n• The Club’s new SnowDog Winter Groomer\n• Bootlegger Bikes Fat Tire Demo Bikes and equipment\n• Our New Night Rides Bike series\n• Choiniere’s Upcoming Shoe Ski & Fat Bike Event\n• The New Town Forest Trail\n• Potential Benefits of Civilian Conservation Corp National Pilot in St. Albans\nQuestions? Contact Andy Crossman at (802) 582-6236
URL:https://vmba.org/event/winter-mountain-bike-meeting-and-social-fcmtbc/
LOCATION:14 Star Brewery\, 133 N Main St #7\, St Albans City\, VT\, 05478\, United States
CATEGORIES:Festivals/Parties
END:VEVENT
BEGIN:VEVENT
DTSTART;TZID=America/New_York:20230127T170000
DTEND;TZID=America/New_York:20230127T200000
DTSTAMP:20260420T014411
CREATED:20230126T165102Z
LAST-MODIFIED:20230126T165102Z
UID:44509-1674838800-1674849600@vmba.org
SUMMARY:Snowshoe Romp with Onion River Outdoors
DESCRIPTION:Join Onion River Outdoors for their annual Snowshoe Romp! This year\, they will be changing locations and setting up the Romp at North Branch Trails! Park at the pool parking lot by the Montpelier Rec Fields.\n\nEnjoy a candlelit trail through the woods\, hot chocolate\, a bonfire\, and snowshoe demos from MSR\, Tubbs\, and Atlas. Bring a headlamp or flashlight. This event is FREE! All ages and abilities welcome.\nAlready have snowshoes you love? Bring your own to romp around in!
URL:https://vmba.org/event/snowshoe-romp-with-onion-river-outdoors/
LOCATION:Montpelier Pool Shelter\, 1 Poolside Dr\, Montpelier\, VT\, 05602\, United States
CATEGORIES:Festivals/Parties,Group Outing
END:VEVENT
BEGIN:VEVENT
DTSTART;TZID=America/New_York:20230128T070000
DTEND;TZID=America/New_York:20230129T160000
DTSTAMP:20260420T014411
CREATED:20230120T183856Z
LAST-MODIFIED:20230120T183856Z
UID:44385-1674889200-1675008000@vmba.org
SUMMARY:Craftsbury Marathon Ski Festival
DESCRIPTION:The Craftsbury Marathon Ski Festival returns! The classic races take place on Saturday\, January 28\, 2023 and the freestyle competitions are on Sunday\, January 29\, 2023. We are planning on running the 25k-ish loop from 2022 before it was rained out. \nwww.craftsburymarathon.com will contain all the info.
URL:https://vmba.org/event/craftsbury-marathon-ski-festival/
LOCATION:Craftsbury Outdoor Center\, Craftsbury\, VT
CATEGORIES:Festivals/Parties
END:VEVENT
BEGIN:VEVENT
DTSTART;TZID=America/New_York:20230128T090000
DTEND;TZID=America/New_York:20230128T170000
DTSTAMP:20260420T014411
CREATED:20230119T180003Z
LAST-MODIFIED:20230119T180003Z
UID:44319-1674896400-1674925200@vmba.org
SUMMARY:ACBC Fat Bike Roundup
DESCRIPTION:ACBC is hosting a great time riding fat bikes at Rikert. Sign up today and join us for the Fat Bike Round Up – Saturday\, January 28th. Fat Bikes\, Adaptive Bikes\, Like-minded riders – fun for all!! Sign up early and sign up often!!! \n  \nSign up HERE.
URL:https://vmba.org/event/acbc-fat-bike-roundup/
LOCATION:Rikert Nordic Center
CATEGORIES:Festivals/Parties,Group Rides / Races
END:VEVENT
END:VCALENDAR