BEGIN:VCALENDAR
VERSION:2.0
PRODID:-//VMBA - ECPv6.15.17.1//NONSGML v1.0//EN
CALSCALE:GREGORIAN
METHOD:PUBLISH
X-ORIGINAL-URL:https://vmba.org
X-WR-CALDESC:Events for VMBA
REFRESH-INTERVAL;VALUE=DURATION:PT1H
X-Robots-Tag:noindex
X-PUBLISHED-TTL:PT1H
BEGIN:VTIMEZONE
TZID:America/New_York
BEGIN:DAYLIGHT
TZOFFSETFROM:-0500
TZOFFSETTO:-0400
TZNAME:EDT
DTSTART:20210314T070000
END:DAYLIGHT
BEGIN:STANDARD
TZOFFSETFROM:-0400
TZOFFSETTO:-0500
TZNAME:EST
DTSTART:20211107T060000
END:STANDARD
BEGIN:DAYLIGHT
TZOFFSETFROM:-0500
TZOFFSETTO:-0400
TZNAME:EDT
DTSTART:20220313T070000
END:DAYLIGHT
BEGIN:STANDARD
TZOFFSETFROM:-0400
TZOFFSETTO:-0500
TZNAME:EST
DTSTART:20221106T060000
END:STANDARD
BEGIN:DAYLIGHT
TZOFFSETFROM:-0500
TZOFFSETTO:-0400
TZNAME:EDT
DTSTART:20230312T070000
END:DAYLIGHT
BEGIN:STANDARD
TZOFFSETFROM:-0400
TZOFFSETTO:-0500
TZNAME:EST
DTSTART:20231105T060000
END:STANDARD
END:VTIMEZONE
BEGIN:VEVENT
DTSTART;TZID=America/New_York:20221104T070000
DTEND;TZID=America/New_York:20221104T220000
DTSTAMP:20260420T050733
CREATED:20221011T200259Z
LAST-MODIFIED:20221011T200259Z
UID:43515-1667545200-1667599200@vmba.org
SUMMARY:Green Mountain Showdown
DESCRIPTION:Mountain Bike Vermont presents the 10th Annual:\nGreen Mountain Showdown – Vermont’s bike culture film fest & variety show  \nMountain Bike Vermont (MTBVT.com) has announced its 10th annual Green Mountain Showdown event will be held Friday\, November 4th\, 2022\, at Hula in Burlington\, Vermont. Presented by Julbo and Zero Gravity\, the Green Mountain Showdown event will showcase locally produced MTB video shorts\, slideshows\, and spoken word pieces dedicated to all facets of mountain bike culture. \nThis is a charity event with proceeds going to a Vermont Mountain Bike Association naming grant. \nThis year’s complete media lineup will soon be announced but here’s a lil’ sampler of our media producers:  \nHenry Miles\, Dave Trumpore\, Evan Kay\, Brice Shirbach\, Ashley Rosemeyer\, Ansel Dickey\, Skye Schillhammer\, Peter Jamison\, Marius Becker\, and so many more of our favorite humans doing incredible things on the big screen… \n“Our goal is to elevate Vermont’s status as the heart of mountain biking in the Eastern US\,” says MTBVT founder Ryan Thibault. “The Showdown is a chance to celebrate our State’s love of cycling through the media makers\, filmers\, and riding talent. Think VT farm to table… only camera to eyeballs!” \nFor more information about Green Mountain Showdown\, contact Ryan Thibault: ryan@mtbvt.com or log on to www.mtbvt.com. \nEvent Registration: https://www.eventbrite.com/e/green-mountain-showdown-2022-tickets-434510932897 \n  \n 
URL:https://vmba.org/event/green-mountain-showdown/
LOCATION:Hula\, 50 Lakeside Avenue\, Burlington\, VT\, 05401\, United States
CATEGORIES:Festivals/Parties
END:VEVENT
BEGIN:VEVENT
DTSTART;TZID=America/New_York:20221119T170000
DTEND;TZID=America/New_York:20221119T210000
DTSTAMP:20260420T050733
CREATED:20221104T173245Z
LAST-MODIFIED:20221104T173245Z
UID:43680-1668877200-1668891600@vmba.org
SUMMARY:The Big Kicker
DESCRIPTION:Sponsored by Sugarbush\, Mad River Glen and Lawson’s Finest Liquids. \nPlease join Sugarbush\, Mad River Glen\, and our Community Partners at Mt. Ellen for the kick-off the 2022 – 2023 ski and ride season. \nLive Music by The Party Crashers in the Green Mountain Lounge\, bonfire\, rail jam at the bottom of Straight Shot\, pizza and beer tasting provided by Lawson’s Finest Liquids. \nCommunity partners – High Fives\, VASS\, US Forest Service\, Mad River Riders\, Mad River Valley Backcountry Coalition\, Long Trail\, Catamount Trail Association\, Flying Ryan. \n5:00 PM Rail Jam on the bottom of Straight Shot\, participants under the age of 18 will need parent present for waiver signature. \nThis year’s Big Kicker is a benefit for Coats for Kids. Please bring clean unwanted yet usable winter jackets and donate. For your donation Sugarbush is offering discount coupons for meals at Rumble’s Bistro and Bar.
URL:https://vmba.org/event/the-big-kicker/
LOCATION:Sugarbush Resort Mt. Ellen
CATEGORIES:Festivals/Parties
END:VEVENT
END:VCALENDAR