BEGIN:VCALENDAR
VERSION:2.0
PRODID:-//VMBA - ECPv6.15.17.1//NONSGML v1.0//EN
CALSCALE:GREGORIAN
METHOD:PUBLISH
X-ORIGINAL-URL:https://vmba.org
X-WR-CALDESC:Events for VMBA
REFRESH-INTERVAL;VALUE=DURATION:PT1H
X-Robots-Tag:noindex
X-PUBLISHED-TTL:PT1H
BEGIN:VTIMEZONE
TZID:America/New_York
BEGIN:DAYLIGHT
TZOFFSETFROM:-0500
TZOFFSETTO:-0400
TZNAME:EDT
DTSTART:20210314T070000
END:DAYLIGHT
BEGIN:STANDARD
TZOFFSETFROM:-0400
TZOFFSETTO:-0500
TZNAME:EST
DTSTART:20211107T060000
END:STANDARD
BEGIN:DAYLIGHT
TZOFFSETFROM:-0500
TZOFFSETTO:-0400
TZNAME:EDT
DTSTART:20220313T070000
END:DAYLIGHT
BEGIN:STANDARD
TZOFFSETFROM:-0400
TZOFFSETTO:-0500
TZNAME:EST
DTSTART:20221106T060000
END:STANDARD
BEGIN:DAYLIGHT
TZOFFSETFROM:-0500
TZOFFSETTO:-0400
TZNAME:EDT
DTSTART:20230312T070000
END:DAYLIGHT
BEGIN:STANDARD
TZOFFSETFROM:-0400
TZOFFSETTO:-0500
TZNAME:EST
DTSTART:20231105T060000
END:STANDARD
END:VTIMEZONE
BEGIN:VEVENT
DTSTART;TZID=America/New_York:20220729T160000
DTEND;TZID=America/New_York:20220729T200000
DTSTAMP:20260420T112423
CREATED:20220712T144115Z
LAST-MODIFIED:20220725T134637Z
UID:40668-1659110400-1659124800@vmba.org
SUMMARY:Night at Bolton Valley - RMT
DESCRIPTION:Come hang with Richmond Mountain Trails at Bolton Valley for some TGIF fun!  \nLive Music and Vista Spinning Until 8 \nThe first 10 RMT members to check in at our table get a FREE lift ticket. The rest can use their VMBA ticket! Haven’t gotten your membership yet? VMBA will be on-site for you to purchase yours. \n$1 of every beer sold goes to RMT \nOutdoor Gear Exchange will be on-site with demo bikes. Make sure to try out one of the new SCOR bikes that we will be raffling off at the end of this season. Don ‘t worry\, if you win you will get a brand new one! \nVMBA will be on-site to sell membership and bike raffle tickets. \nCheck back for details on group rides.. \nSee you there!
URL:https://vmba.org/event/night-at-bolton-valley-rmt/
LOCATION:Bolton Valley Resort\, Bolton\, 05477
CATEGORIES:Festivals/Parties
ATTACH;FMTTYPE=image/png:https://vmba.org/wp-content/uploads/2022/07/PartyRMT.png
END:VEVENT
END:VCALENDAR