BEGIN:VCALENDAR
VERSION:2.0
PRODID:-//VMBA - ECPv6.15.17.1//NONSGML v1.0//EN
CALSCALE:GREGORIAN
METHOD:PUBLISH
X-WR-CALNAME:VMBA
X-ORIGINAL-URL:https://vmba.org
X-WR-CALDESC:Events for VMBA
REFRESH-INTERVAL;VALUE=DURATION:PT1H
X-Robots-Tag:noindex
X-PUBLISHED-TTL:PT1H
BEGIN:VTIMEZONE
TZID:America/New_York
BEGIN:DAYLIGHT
TZOFFSETFROM:-0500
TZOFFSETTO:-0400
TZNAME:EDT
DTSTART:20210314T070000
END:DAYLIGHT
BEGIN:STANDARD
TZOFFSETFROM:-0400
TZOFFSETTO:-0500
TZNAME:EST
DTSTART:20211107T060000
END:STANDARD
BEGIN:DAYLIGHT
TZOFFSETFROM:-0500
TZOFFSETTO:-0400
TZNAME:EDT
DTSTART:20220313T070000
END:DAYLIGHT
BEGIN:STANDARD
TZOFFSETFROM:-0400
TZOFFSETTO:-0500
TZNAME:EST
DTSTART:20221106T060000
END:STANDARD
BEGIN:DAYLIGHT
TZOFFSETFROM:-0500
TZOFFSETTO:-0400
TZNAME:EDT
DTSTART:20230312T070000
END:DAYLIGHT
BEGIN:STANDARD
TZOFFSETFROM:-0400
TZOFFSETTO:-0500
TZNAME:EST
DTSTART:20231105T060000
END:STANDARD
END:VTIMEZONE
BEGIN:VEVENT
DTSTART;TZID=America/New_York:20220213T090000
DTEND;TZID=America/New_York:20220213T140000
DTSTAMP:20260420T193102
CREATED:20220106T231856Z
LAST-MODIFIED:20220106T232225Z
UID:34141-1644742800-1644760800@vmba.org
SUMMARY:Cold Roll Rutland
DESCRIPTION:  \n[Rutland\, VT\, Jan 06\, 2022] — The creative minds behind Überwintern and Winterbike are at it again! Mountain Bike Vermont has partnered with Pine Hill Partnership in Rutland\, Vermont to offer a day of fatbike stoke on cold-rolled singletrack this Super Bowl Sunday! Join us Sunday February 13th\, 2022\, as fatbikers from around New England and New York gather in Rutland to lead a charge with Old Man Winter\, replete with group rides\, a vendor village\, and hearty brews around warm fires. \nThe event will feature a vendor village\, rides for all ages and abilities\, and groomed packed powder trails for your fatbiking pleasure. Group rides will begin at 10am at the Giorgetti Athletic Complex at 2 Oak Street Extension (the Pine Hill Trailhead) where we’ll also convene for lunch at 12:30 pm. The remote aid station (aka party central) will be located at the overlook and will feature a bonfire and our favorite mid-ride refreshers. Lunch at Giorgetti will be catered by our friends at Ranch Camp (Stowe\, VT). \n“We’re beyond excited to bring the Cold Rolled back to Pine Hill – this trail network has some of the best fatbiking in the state\, and the community rallies to maintain them all winter.” says event cofounder & Killington Valley local Nate Freund of MTBVT. “We’re stoked to bring the party to Rutland and introduce riders from around the northeast to these amazing trails!” \nThe $50 ticket price ($35 for the under 21 crowd) includes group rides\, lunch (with both carnivorous and veggie options)\, a signed original Cold Roll Rutland artist print\, as well as beverages. So air down those tires\, break out the extra layers\, and get ready to party MTBVT style.
URL:https://vmba.org/event/cold-roll-rutland/
LOCATION:Pine Hill Park\, Rutland\, VT
CATEGORIES:Festivals/Parties
ATTACH;FMTTYPE=image/jpeg:https://vmba.org/wp-content/uploads/2022/01/A-sea-of-colors-Copy.jpg
END:VEVENT
END:VCALENDAR