BEGIN:VCALENDAR
VERSION:2.0
PRODID:-//VMBA - ECPv6.15.17.1//NONSGML v1.0//EN
CALSCALE:GREGORIAN
METHOD:PUBLISH
X-WR-CALNAME:VMBA
X-ORIGINAL-URL:https://vmba.org
X-WR-CALDESC:Events for VMBA
REFRESH-INTERVAL;VALUE=DURATION:PT1H
X-Robots-Tag:noindex
X-PUBLISHED-TTL:PT1H
BEGIN:VTIMEZONE
TZID:America/New_York
BEGIN:DAYLIGHT
TZOFFSETFROM:-0500
TZOFFSETTO:-0400
TZNAME:EDT
DTSTART:20200308T070000
END:DAYLIGHT
BEGIN:STANDARD
TZOFFSETFROM:-0400
TZOFFSETTO:-0500
TZNAME:EST
DTSTART:20201101T060000
END:STANDARD
BEGIN:DAYLIGHT
TZOFFSETFROM:-0500
TZOFFSETTO:-0400
TZNAME:EDT
DTSTART:20210314T070000
END:DAYLIGHT
BEGIN:STANDARD
TZOFFSETFROM:-0400
TZOFFSETTO:-0500
TZNAME:EST
DTSTART:20211107T060000
END:STANDARD
BEGIN:DAYLIGHT
TZOFFSETFROM:-0500
TZOFFSETTO:-0400
TZNAME:EDT
DTSTART:20220313T070000
END:DAYLIGHT
BEGIN:STANDARD
TZOFFSETFROM:-0400
TZOFFSETTO:-0500
TZNAME:EST
DTSTART:20221106T060000
END:STANDARD
END:VTIMEZONE
BEGIN:VEVENT
DTSTART;TZID=America/New_York:20210730T080000
DTEND;TZID=America/New_York:20210801T160000
DTSTAMP:20260421T044646
CREATED:20210414T164336Z
LAST-MODIFIED:20210414T164336Z
UID:26872-1627632000-1627833600@vmba.org
SUMMARY:ATA/Mountain Flyer: FLOW STATE MTB Festival
DESCRIPTION:Following Vermont Governor Phil Scott’s announcement that large events can be held during summer 2021\, Mountain Flyer Magazine and Ascutney Trails are excited to announce FLOW STATE\, the Vermont Mountain Bike Festival\, July 30-August 1\, 2021.\nFLOW STATE is a three-day celebration of all things mountain biking at the Ascutney Outdoor Center in Brownsville\, Vt. Set in the heart of Ascutney Trails’ 35-mile network of singletrack\, with access to an additional 20 miles of trail on private property\, FLOW STATE will feature product demos\, guided rides and clinics as well as camping\, food trucks and beer\, live music and more.\n“Since we last hosted a mountain bike festival in 2018\, our trail network has undergone a major renovation to enhance flow and increase signage to improve route finding\,” says Erik Schutz\, president of Ascutney Trails. “We’re stoked to show the mountain bike community our world-class trails.”\n“Vermont mountain biking is the best in the East\, and the bike industry is taking note\,” says John Costello\, Mountain Flyer events coordinator. “Plus\, our ridership in the Northeast has exploded in recent years. It’s time to bring a big festival back to the Green Mountains.”\nFLOW STATE organizers are formalizing plans\, bike vendors\, food trucks and sponsors for this summer’s Vermont Mountain Bike Festival. Early festival pass sales will be available to select New England markets on May 5\, 2021. All tickets and camping passes will go on sale May 21\, 2021.\nFor more information about FLOW STATE\, visit mountainflyer.com.
URL:https://vmba.org/event/ata-mountain-flyer-flow-state-mtb-festival/
LOCATION:Ascutney Trails Association\, 400 Ski Tow Rd\, Brownsville\, VT
CATEGORIES:Festivals/Parties
ATTACH;FMTTYPE=image/jpeg:https://vmba.org/wp-content/uploads/2021/04/169917497_10158969151770390_5828810360158501198_n.jpg
ORGANIZER;CN="Ascutney Trails Association":MAILTO:info@ascutneytrails.com
END:VEVENT
BEGIN:VEVENT
DTSTART;TZID=America/New_York:20210805T150000
DTEND;TZID=America/New_York:20210805T180000
DTSTAMP:20260421T044646
CREATED:20210728T004522Z
LAST-MODIFIED:20210728T180315Z
UID:31272-1628175600-1628186400@vmba.org
SUMMARY:Burton Shopping Night
DESCRIPTION:Calling all VMBA Members! We have partnered with Burton Snowboards to offer this special deal just for members. On August 5th\, from 12pm-6pm\, come on out to the Burton HQ Flagship store to use your VMBA membership and get yourself ready for the winter.\nWe know it’s not time to hang up the bike\, but the deals are too good to pass up. VMBA Members will receive 20% off store wide of none-sale items and receive an additional 10% on sale items.\nYou will need to show your VMBA membership card to get the discount. Not a member? No worries\, we will be there selling memberships from 3pm to 6pm!\nThank you to Burton for offering this sweet deal for our members!\nBurton Event Page:\nhttps://vmbaxburtonshoppingday21.splashthat.com/
URL:https://vmba.org/event/burton-shopping-night/
LOCATION:Burton Headquarters\, VT
CATEGORIES:Festivals/Parties
ATTACH;FMTTYPE=image/png:https://vmba.org/wp-content/uploads/2021/07/221394307_4076039345784764_1304825165746238325_n.png
END:VEVENT
BEGIN:VEVENT
DTSTART;TZID=America/New_York:20210808T100000
DTEND;TZID=America/New_York:20210808T160000
DTSTAMP:20260421T044646
CREATED:20210728T012726Z
LAST-MODIFIED:20210804T202047Z
UID:31290-1628416800-1628438400@vmba.org
SUMMARY:Stratton X VMBA Day
DESCRIPTION:VMBA is heading south to catch some laps at Stratton. If you haven’t gotten a chance to use the free DH lift ticket from your membership. This is the day. \nStratton and VMBA will raffling off Stratton gift cards and doing group rides throughout the day. Just stop by the VMBA tent for info and raffle tickets. VMBA will also be selling memberships on the spot if you don’t have one and can use the free DH ticket that day. O and who can forget about our bike raffle for a Transition Sentinel! You can also get those tickets at the VMBA tent. \nGroup Ride Schedule: \n11:15 am – Take a lap with Stratton bike school instructors \n2 pm – Take a lap with Stratton’s very own Tony Bailey. \nPlease make sure to meet up at the VMBA tent to sign up before hand and be ready to depart at the time listed above. We will also be drawing GC before each ride departs. \nEnjoy the luxury of taking a lift to the top\, live music\, food and beverage\, and a chance to win! We will see you there.
URL:https://vmba.org/event/stratton-x-vmba-day/
LOCATION:Stratton Resort\, 5 Village Lodge Rd\, Stratton Mountain\, VT\, 05155
CATEGORIES:Festivals/Parties,Group Rides / Races
ATTACH;FMTTYPE=image/jpeg:https://vmba.org/wp-content/uploads/2021/07/Stratton.jpeg
END:VEVENT
END:VCALENDAR