BEGIN:VCALENDAR
VERSION:2.0
PRODID:-//VMBA - ECPv6.15.17.1//NONSGML v1.0//EN
CALSCALE:GREGORIAN
METHOD:PUBLISH
X-WR-CALNAME:VMBA
X-ORIGINAL-URL:https://vmba.org
X-WR-CALDESC:Events for VMBA
REFRESH-INTERVAL;VALUE=DURATION:PT1H
X-Robots-Tag:noindex
X-PUBLISHED-TTL:PT1H
BEGIN:VTIMEZONE
TZID:America/New_York
BEGIN:DAYLIGHT
TZOFFSETFROM:-0500
TZOFFSETTO:-0400
TZNAME:EDT
DTSTART:20200308T070000
END:DAYLIGHT
BEGIN:STANDARD
TZOFFSETFROM:-0400
TZOFFSETTO:-0500
TZNAME:EST
DTSTART:20201101T060000
END:STANDARD
BEGIN:DAYLIGHT
TZOFFSETFROM:-0500
TZOFFSETTO:-0400
TZNAME:EDT
DTSTART:20210314T070000
END:DAYLIGHT
BEGIN:STANDARD
TZOFFSETFROM:-0400
TZOFFSETTO:-0500
TZNAME:EST
DTSTART:20211107T060000
END:STANDARD
BEGIN:DAYLIGHT
TZOFFSETFROM:-0500
TZOFFSETTO:-0400
TZNAME:EDT
DTSTART:20220313T070000
END:DAYLIGHT
BEGIN:STANDARD
TZOFFSETFROM:-0400
TZOFFSETTO:-0500
TZNAME:EST
DTSTART:20221106T060000
END:STANDARD
END:VTIMEZONE
BEGIN:VEVENT
DTSTART;TZID=America/New_York:20210730T080000
DTEND;TZID=America/New_York:20210801T160000
DTSTAMP:20260421T061216
CREATED:20210414T164336Z
LAST-MODIFIED:20210414T164336Z
UID:26872-1627632000-1627833600@vmba.org
SUMMARY:ATA/Mountain Flyer: FLOW STATE MTB Festival
DESCRIPTION:Following Vermont Governor Phil Scott’s announcement that large events can be held during summer 2021\, Mountain Flyer Magazine and Ascutney Trails are excited to announce FLOW STATE\, the Vermont Mountain Bike Festival\, July 30-August 1\, 2021.\nFLOW STATE is a three-day celebration of all things mountain biking at the Ascutney Outdoor Center in Brownsville\, Vt. Set in the heart of Ascutney Trails’ 35-mile network of singletrack\, with access to an additional 20 miles of trail on private property\, FLOW STATE will feature product demos\, guided rides and clinics as well as camping\, food trucks and beer\, live music and more.\n“Since we last hosted a mountain bike festival in 2018\, our trail network has undergone a major renovation to enhance flow and increase signage to improve route finding\,” says Erik Schutz\, president of Ascutney Trails. “We’re stoked to show the mountain bike community our world-class trails.”\n“Vermont mountain biking is the best in the East\, and the bike industry is taking note\,” says John Costello\, Mountain Flyer events coordinator. “Plus\, our ridership in the Northeast has exploded in recent years. It’s time to bring a big festival back to the Green Mountains.”\nFLOW STATE organizers are formalizing plans\, bike vendors\, food trucks and sponsors for this summer’s Vermont Mountain Bike Festival. Early festival pass sales will be available to select New England markets on May 5\, 2021. All tickets and camping passes will go on sale May 21\, 2021.\nFor more information about FLOW STATE\, visit mountainflyer.com.
URL:https://vmba.org/event/ata-mountain-flyer-flow-state-mtb-festival/
LOCATION:Ascutney Trails Association\, 400 Ski Tow Rd\, Brownsville\, VT
CATEGORIES:Festivals/Parties
ATTACH;FMTTYPE=image/jpeg:https://vmba.org/wp-content/uploads/2021/04/169917497_10158969151770390_5828810360158501198_n.jpg
ORGANIZER;CN="Ascutney Trails Association":MAILTO:info@ascutneytrails.com
END:VEVENT
END:VCALENDAR