BEGIN:VCALENDAR
VERSION:2.0
PRODID:-//VMBA - ECPv6.15.17.1//NONSGML v1.0//EN
CALSCALE:GREGORIAN
METHOD:PUBLISH
X-WR-CALNAME:VMBA
X-ORIGINAL-URL:https://vmba.org
X-WR-CALDESC:Events for VMBA
REFRESH-INTERVAL;VALUE=DURATION:PT1H
X-Robots-Tag:noindex
X-PUBLISHED-TTL:PT1H
BEGIN:VTIMEZONE
TZID:America/New_York
BEGIN:DAYLIGHT
TZOFFSETFROM:-0500
TZOFFSETTO:-0400
TZNAME:EDT
DTSTART:20230312T070000
END:DAYLIGHT
BEGIN:STANDARD
TZOFFSETFROM:-0400
TZOFFSETTO:-0500
TZNAME:EST
DTSTART:20231105T060000
END:STANDARD
BEGIN:DAYLIGHT
TZOFFSETFROM:-0500
TZOFFSETTO:-0400
TZNAME:EDT
DTSTART:20240310T070000
END:DAYLIGHT
BEGIN:STANDARD
TZOFFSETFROM:-0400
TZOFFSETTO:-0500
TZNAME:EST
DTSTART:20241103T060000
END:STANDARD
BEGIN:DAYLIGHT
TZOFFSETFROM:-0500
TZOFFSETTO:-0400
TZNAME:EDT
DTSTART:20250309T070000
END:DAYLIGHT
BEGIN:STANDARD
TZOFFSETFROM:-0400
TZOFFSETTO:-0500
TZNAME:EST
DTSTART:20251102T060000
END:STANDARD
END:VTIMEZONE
BEGIN:VEVENT
DTSTART;TZID=America/New_York:20240922T080000
DTEND;TZID=America/New_York:20240922T170000
DTSTAMP:20260419T140734
CREATED:20240822T203026Z
LAST-MODIFIED:20240822T203026Z
UID:143784-1726992000-1727024400@vmba.org
SUMMARY:VMBA's Member Party!
DESCRIPTION:Join VMBA for our second Member Party at Saskadena Six! We’ll be celebrating the opening of S6’s full base area with more vendors\, community partners\, and bike demos than before! \n  \n2024’s Member Party is sponsored by Fiddlehead Brewery\, Mascoma Bank and the Richard Tom Foundation to give you the best riding and gathering experience to help close out the riding season. Trail Break will be back with their stellar tacos\, with beer from Fiddlehead Brewing on tap and dessert provided by Adidas Five Ten. \nYour ticket not only reserves your place at an event you won’t want to miss\, but includes tacos\, a beer (or cider)\, dessert\, and one free raffle ticket (worth $5!).  \nDon’t worry\, we’ll have trail snacks and beverages at all of our trailheads provided by Mi Nina Tortilla\, Kate’s Real Food\, VT Smoke and Cure\, Cabot\, Chug Water\, and Plink.  \n  \nJoin us between 8:30-11 am at Saskadena Six with your caffeine fix thanks to Sexy Llama Coffee Roasters.   \nWe have a variety of group rides for you to hop on\, including a Triple Crown challenge led by our friends at Ranch Camp (if you complete it\, we’ll throw another raffle ticket your way)\, and group rides at Mt. Peg and Aqueduct starting at 11 am. Make sure to reserve your spot today on the ride that is best for you\, as all rides have limited capacity! Our partners at Vermont Adaptive Ski and Sports will be hosting adaptive rides at Saskadena Six at 11 am as well. Please sign up with Vermont Adaptive to reserve your spot on their rides! \n  \nHead over to Saskadena Six at 1 pm to check out our vendor village and enjoy the trails at the mountain! We’ll be there with partners from Specialized\, Karbon\, and more to sling demo bikes and party laps with Ranch Camp on the hour every hour (1\, 2\, and 3 pm). Between your laps make sure to visit our vendors and chat with our partners like:  \n\nTrail Break Catering (Tacos)\nMi Nina Tortilla (Best tortilla chips)\nRanch Camp (Snacks and party time)\nMTBVT (Movies)\nSpecialized (Demos)\nKarbon Bikes (Demos)\nVermont Adaptive (Demos and rides)\nTrash Gear Co. (Vendor Tent)\nGeer Garage (Vendor Tent)\nRichard Tom Foundation (Vendor Tent)\nThule (Vendor Tent)\nPlink (Vendor Tent)\nHubnotic (Vendor Tent)\nMascoma (Vendor Tent)\nChug Water (Vendor Tent)\n5/10 (Vendor Tent)\nRim Savor (Vendor Tent)\nAnd More to Come!\n\n  \nWe will cap off the day with film showings presented by MTBVT/Green Mountain Showdown. Join us as we watch Alex Showerman’s award-winning Coming Home\, the best of Green Mountain Showdown\, and member-submitted videos. Please email joe@VMBA.org if you want to show anything. Stick around and join VMBA’s Executive Director Nick Bennette as he gives a rundown of the 2024 season\, and our raffle drawing! We’ve got some amazing prizes that you won’t want to miss (you must be present to win). All proceeds go to support the trails you love to ride. Tickets can be purchased online via Eventbrite and in person!  \nRaffle items include:  \n\nQuebec Velo De Montage – 2 Night Stay and Tickets to VBN\nKaden Clothing – 2 $250 Gift Cards\n5/10- Shoes and kit of your choice\nPNW – Carbon Bar and Stem\nJulbo – Forest evo helmet and sunnies\nCabot – $100 and $50 GC\nFiddlehead – Coole Prize Pack\nTrash Gear Co – 2 Fender Sets\nRim Savors – Rim Savor set\nVelocio – 2 $300 Gift Cards\nUpstate Elevator Supply – CBD Kit\nMavic – Deemax Enduro Wheelset \nHubnotic – Chapter merch pack\nSpecialized – Tires and riding gear\nThule – T2 Pro XTR + 2 Rail 12l Pro packs\n\n  \nIf you are looking to make a weekend out of it\, we’ll be joining Vermont Youth Cycling on September 21st for their enduro race at Mt. Peg! We’ll be hosting a movie and pizza night after the race at Woodstock’s Pentangle Arts Theatre from 4-6 pm. Consider volunteering and joining us for the evening activity. VMBA also is working with S6 to provide camping at S6 on 9/21\, just get your ticket. See below for other lodging options as well. What better way to start the member party than being in town already and a coffee from Sexy Llama outside of your tent.  \n  \nWe hope to see you there!
URL:https://vmba.org/event/vmbas-member-party/
LOCATION:Saskadena Six Ski Area\, 247 Stage Rd\, South Pomfret\, 05067
CATEGORIES:Clinics and Workshops,Festivals/Parties,Group Outing,Group Rides / Races
ATTACH;FMTTYPE=image/jpeg:https://vmba.org/wp-content/uploads/2024/04/VMBA-member-party-JEB-036-scaled.jpg
ORGANIZER;CN="Vermont Mountain Bike Association":MAILTO:Joe@vmba.org
END:VEVENT
END:VCALENDAR