BEGIN:VCALENDAR
VERSION:2.0
PRODID:-//VMBA - ECPv6.15.17.1//NONSGML v1.0//EN
CALSCALE:GREGORIAN
METHOD:PUBLISH
X-ORIGINAL-URL:https://vmba.org
X-WR-CALDESC:Events for VMBA
REFRESH-INTERVAL;VALUE=DURATION:PT1H
X-Robots-Tag:noindex
X-PUBLISHED-TTL:PT1H
BEGIN:VTIMEZONE
TZID:America/New_York
BEGIN:DAYLIGHT
TZOFFSETFROM:-0500
TZOFFSETTO:-0400
TZNAME:EDT
DTSTART:20220313T070000
END:DAYLIGHT
BEGIN:STANDARD
TZOFFSETFROM:-0400
TZOFFSETTO:-0500
TZNAME:EST
DTSTART:20221106T060000
END:STANDARD
BEGIN:DAYLIGHT
TZOFFSETFROM:-0500
TZOFFSETTO:-0400
TZNAME:EDT
DTSTART:20230312T070000
END:DAYLIGHT
BEGIN:STANDARD
TZOFFSETFROM:-0400
TZOFFSETTO:-0500
TZNAME:EST
DTSTART:20231105T060000
END:STANDARD
BEGIN:DAYLIGHT
TZOFFSETFROM:-0500
TZOFFSETTO:-0400
TZNAME:EDT
DTSTART:20240310T070000
END:DAYLIGHT
BEGIN:STANDARD
TZOFFSETFROM:-0400
TZOFFSETTO:-0500
TZNAME:EST
DTSTART:20241103T060000
END:STANDARD
END:VTIMEZONE
BEGIN:VEVENT
DTSTART;TZID=America/New_York:20230930T090000
DTEND;TZID=America/New_York:20231001T160000
DTSTAMP:20260420T074012
CREATED:20230906T140048Z
LAST-MODIFIED:20230906T140048Z
UID:71981-1696064400-1696176000@vmba.org
SUMMARY:Highland AYR Academy - Northeast Kingdom/Wildflower Inn
DESCRIPTION:The Ayr Academy at Highland Mountain Bike Park has helped thousands of adult and youth riders maximize their fun and learning at our downhill bike park in New Hampshire. We are going mobile to bring this great opportunity to locations throughout the Northeast.\nOur professional instructors create an environment that promotes safety\, fun\, & learning. Group sizes are small to allow for great attention to each participant. Three-hour sessions focus on specific skills to take your riding to the next level. \n\n\n\n\nPumping\, Cornering & Drops \nWant to flow down the trail with grace and efficiency? Tired of watching your riding friends pull away from you on the descents? This is the session for you! Let us show you how to use terrain elements to gain speed and momentum. Small changes in technique and timing will produce big gains and even bigger smiles. \nAVAILABLE TIMES: \n\nSaturday 9am – 12pm\n\n\n\n\n\nIntro & Intermediate Jumping \nOur riding trails are changing\, and opportunities for airtime are now plentiful or even required. Let’s spend time debunking myths\, learning proper techniques\, and getting solid repetitions to create new and improved habits. No plastic skate ramps here: we are showing up with a progression of MTB Hopper ramps and airbags. \nAVAILABLE TIMES: \n\nSaturday 1-4pm\nSunday 9am – 12pm\nSunday 1-4pm\n\n\n\n\n\n\n\n\n\nWHAT TO EXPECT\n\n\nA fun learning environment utilizing an established skills teaching curriculum.\nA professional instructor that creates a supportive environment of equity and respect.\nParticipants will feel inspired to connect with each other\, try new things\, and celebrate their successes.\nA La Carte sessions allow you to get more of what you want at a lower cost. Register for one session or as many as you wish. Get what you want in one day or spread it over two days. It’s all up to you!\nLow registrations may force a consolidation or cancellation of some sessions. Register early and tell your riding friends.\n\n\nWHAT TO BRING\n\n\nFully functioning mountain bike. Please go over your bike well in advance to resolve any issues.\nBike helmet and other riding gear\nFlat pedals are strongly encouraged. Although clipping in is great for efficiency and competition\, flat pedals create a better opportunity to learn proper technique and try new things safely.\nSnack\, drink\, sunscreen\, and bug spray.
URL:https://vmba.org/event/highland-ayr-academy-trapp-family-lodge-2/
LOCATION:Wildflower Inn\, 2059 Darling Hill Rd.\, Lyndonville\, 05851\, United States
CATEGORIES:Clinics and Workshops
END:VEVENT
END:VCALENDAR