BEGIN:VCALENDAR
VERSION:2.0
PRODID:-//VMBA - ECPv6.15.17.1//NONSGML v1.0//EN
CALSCALE:GREGORIAN
METHOD:PUBLISH
X-ORIGINAL-URL:https://vmba.org
X-WR-CALDESC:Events for VMBA
REFRESH-INTERVAL;VALUE=DURATION:PT1H
X-Robots-Tag:noindex
X-PUBLISHED-TTL:PT1H
BEGIN:VTIMEZONE
TZID:America/New_York
BEGIN:DAYLIGHT
TZOFFSETFROM:-0500
TZOFFSETTO:-0400
TZNAME:EDT
DTSTART:20220313T070000
END:DAYLIGHT
BEGIN:STANDARD
TZOFFSETFROM:-0400
TZOFFSETTO:-0500
TZNAME:EST
DTSTART:20221106T060000
END:STANDARD
BEGIN:DAYLIGHT
TZOFFSETFROM:-0500
TZOFFSETTO:-0400
TZNAME:EDT
DTSTART:20230312T070000
END:DAYLIGHT
BEGIN:STANDARD
TZOFFSETFROM:-0400
TZOFFSETTO:-0500
TZNAME:EST
DTSTART:20231105T060000
END:STANDARD
BEGIN:DAYLIGHT
TZOFFSETFROM:-0500
TZOFFSETTO:-0400
TZNAME:EDT
DTSTART:20240310T070000
END:DAYLIGHT
BEGIN:STANDARD
TZOFFSETFROM:-0400
TZOFFSETTO:-0500
TZNAME:EST
DTSTART:20241103T060000
END:STANDARD
END:VTIMEZONE
BEGIN:VEVENT
DTSTART;TZID=America/New_York:20230726T173000
DTEND;TZID=America/New_York:20230726T203000
DTSTAMP:20260420T123818
CREATED:20230720T164706Z
LAST-MODIFIED:20230720T164706Z
UID:55075-1690392600-1690403400@vmba.org
SUMMARY:Women/Trans/Femme/Non-Binary Intermediate MTB Skills Clinic
DESCRIPTION:Join Outdoor Gear Exchange for a 3 hour skill clinic to take your riding to the next level!\n\nCalling all mountain bikers! This clinic is taught for you\, by instructors like you! Join us for a 3 hr session bringing your mountain bike skills to the next level! We’ll practice descending\, ascending\, track stands\, rollers\, drops\, riding bridges and skinnies\, and much much more! You’ll learn to gain control in any situation to build confidence\, safety\, and fun on your bike. To participate in the class you will need:\n\n1) A mountain bike in full working order. If you have concerns\, bring your bike to the OGE service department and they’ll  inspect it for free. They also have mountain bikes available for rent.\n\n2) A helmet\n\n3) Flat pedals\n\n4) Close-toed shoes\n\n5) Water/snacks\n\nTuition is only $75.00! (Part of the proceeds go to Fellowship of the Wheel). The class will consist of about 60 minutes of field instruction and then a 90-120-minute ride to put your new skills to use.\nThey have room for eight students\, so RSVP to reserve your spot! See you on the trail!
URL:https://vmba.org/event/women-trans-femme-non-binary-intermediate-mtb-skills-clinic/
LOCATION:Saxon Hill
CATEGORIES:Clinics and Workshops
END:VEVENT
END:VCALENDAR