BEGIN:VCALENDAR
VERSION:2.0
PRODID:-//VMBA - ECPv6.15.17.1//NONSGML v1.0//EN
CALSCALE:GREGORIAN
METHOD:PUBLISH
X-WR-CALNAME:VMBA
X-ORIGINAL-URL:https://vmba.org
X-WR-CALDESC:Events for VMBA
REFRESH-INTERVAL;VALUE=DURATION:PT1H
X-Robots-Tag:noindex
X-PUBLISHED-TTL:PT1H
BEGIN:VTIMEZONE
TZID:America/New_York
BEGIN:DAYLIGHT
TZOFFSETFROM:-0500
TZOFFSETTO:-0400
TZNAME:EDT
DTSTART:20220313T070000
END:DAYLIGHT
BEGIN:STANDARD
TZOFFSETFROM:-0400
TZOFFSETTO:-0500
TZNAME:EST
DTSTART:20221106T060000
END:STANDARD
BEGIN:DAYLIGHT
TZOFFSETFROM:-0500
TZOFFSETTO:-0400
TZNAME:EDT
DTSTART:20230312T070000
END:DAYLIGHT
BEGIN:STANDARD
TZOFFSETFROM:-0400
TZOFFSETTO:-0500
TZNAME:EST
DTSTART:20231105T060000
END:STANDARD
BEGIN:DAYLIGHT
TZOFFSETFROM:-0500
TZOFFSETTO:-0400
TZNAME:EDT
DTSTART:20240310T070000
END:DAYLIGHT
BEGIN:STANDARD
TZOFFSETFROM:-0400
TZOFFSETTO:-0500
TZNAME:EST
DTSTART:20241103T060000
END:STANDARD
END:VTIMEZONE
BEGIN:VEVENT
DTSTART;TZID=America/New_York:20230405T180000
DTEND;TZID=America/New_York:20230405T200000
DTSTAMP:20260420T174542
CREATED:20230324T133729Z
LAST-MODIFIED:20230324T133729Z
UID:45761-1680717600-1680724800@vmba.org
SUMMARY:Flat & Fix Clinic with Pride Rides
DESCRIPTION:Go over the basics of flat fix and some other trail side questions you have!
URL:https://vmba.org/event/flat-fix-clinic-with-pride-rides/
LOCATION:Vermont Bicycle Shop\, 105 N Main St. #102\, Barre\, VT\, 05641\, United States
CATEGORIES:Clinics and Workshops
END:VEVENT
BEGIN:VEVENT
DTSTART;TZID=America/New_York:20230412T173000
DTEND;TZID=America/New_York:20230412T173000
DTSTAMP:20260420T174542
CREATED:20230324T134108Z
LAST-MODIFIED:20230324T134108Z
UID:45764-1681320600-1681320600@vmba.org
SUMMARY:Pride Rides Virtual Volunteer Meeting
DESCRIPTION:Lead a Ride! Get Involved! Plan Events! Join Pride Rides online for a volunteer Q & A! Learn more about how you can get involved. \nEmail prideridesVT@gmail.com for zoom details
URL:https://vmba.org/event/pride-rides-virtual-volunteer-meeting/
LOCATION:VT
CATEGORIES:Clinics and Workshops
END:VEVENT
BEGIN:VEVENT
DTSTART;TZID=America/New_York:20230418T173000
DTEND;TZID=America/New_York:20230418T190000
DTSTAMP:20260420T174542
CREATED:20230414T122758Z
LAST-MODIFIED:20230414T122758Z
UID:47411-1681839000-1681844400@vmba.org
SUMMARY:Bike Body Health Workshop
DESCRIPTION:Get ready for the season ahead with some mobility and pre/intra/post ride nutrition tips! Burlington PT and Diet Dietitian are excited to offer this event to anyone interested in bike-specific mobility and nutrition. Check out the event details and make sure to pre-register!\nRegister Here: https://www.eventbrite.com/e/join-burlington-pt-no-diet-dietitian-for-a-bike-body-health-workshop-tickets-610867008667 \nAll proceeds from this event will be donated to Fellowship of the Wheel. \n\nWe are so good (most of us?) at taking care of our bikes\, but what about our bodies?! Burlington PT will be going through an at-home mobility routine for bikers to keep your body happy. No Diet Dietitian will be chatting about all things nutrition including fueling pre-\, intra-\, and post-riding. There will be additional time at the end of the session for some Q&A. \nDress in workout attire – you WILL be moving! \nDate: Tuesday\, April 18 \nLocation: 41 Birchcliff PKWY Burlington\, VT 05401 – enter through the door facing the parking lot beside the garage door \nTime: 5:30pm-7:00pm \nCost: $20 \nQuestions? \nEmail sarah@burlingtonptvt.com with any questions.
URL:https://vmba.org/event/bike-body-health-workshop/
LOCATION:VT
CATEGORIES:Clinics and Workshops
ORGANIZER;CN="Fellowship Of the Wheel":MAILTO:info@fotwheel.org
END:VEVENT
END:VCALENDAR