BEGIN:VCALENDAR
VERSION:2.0
PRODID:-//VMBA - ECPv6.15.17.1//NONSGML v1.0//EN
CALSCALE:GREGORIAN
METHOD:PUBLISH
X-ORIGINAL-URL:https://vmba.org
X-WR-CALDESC:Events for VMBA
REFRESH-INTERVAL;VALUE=DURATION:PT1H
X-Robots-Tag:noindex
X-PUBLISHED-TTL:PT1H
BEGIN:VTIMEZONE
TZID:America/New_York
BEGIN:DAYLIGHT
TZOFFSETFROM:-0500
TZOFFSETTO:-0400
TZNAME:EDT
DTSTART:20220313T070000
END:DAYLIGHT
BEGIN:STANDARD
TZOFFSETFROM:-0400
TZOFFSETTO:-0500
TZNAME:EST
DTSTART:20221106T060000
END:STANDARD
BEGIN:DAYLIGHT
TZOFFSETFROM:-0500
TZOFFSETTO:-0400
TZNAME:EDT
DTSTART:20230312T070000
END:DAYLIGHT
BEGIN:STANDARD
TZOFFSETFROM:-0400
TZOFFSETTO:-0500
TZNAME:EST
DTSTART:20231105T060000
END:STANDARD
BEGIN:DAYLIGHT
TZOFFSETFROM:-0500
TZOFFSETTO:-0400
TZNAME:EDT
DTSTART:20240310T070000
END:DAYLIGHT
BEGIN:STANDARD
TZOFFSETFROM:-0400
TZOFFSETTO:-0500
TZNAME:EST
DTSTART:20241103T060000
END:STANDARD
END:VTIMEZONE
BEGIN:VEVENT
DTSTART;VALUE=DATE:20231009
DTEND;VALUE=DATE:20231010
DTSTAMP:20260421T181239
CREATED:20231006T160052Z
LAST-MODIFIED:20231006T160052Z
UID:79834-1696809600-1696895999@vmba.org
SUMMARY:VT Adaptive MTB - Cady Hill
DESCRIPTION:Join us for an afternoon of mountain biking! Reservations required. Equipment is available\, but limited. Reserve your spot today by emailing Sarah at north@vermontadaptive.org. \nDate : 10/09/2023 – 10/09/2023 \nTime: 10 a.m. – noon\, 1-3 p.m. OR Full Day \nLocation: Cady Hill Trails\, Stowe \nCost: Rates vary\, scholarships available
URL:https://vmba.org/event/vt-adaptive-mtb-cady-hill/
LOCATION:Cady Hill\, Mountain Road\, Stowe\, Vermont
CATEGORIES:Adaptive Demos,Group Rides / Races
END:VEVENT
BEGIN:VEVENT
DTSTART;VALUE=DATE:20231010
DTEND;VALUE=DATE:20231011
DTSTAMP:20260421T181239
CREATED:20231006T160243Z
LAST-MODIFIED:20231006T160243Z
UID:79835-1696896000-1696982399@vmba.org
SUMMARY:VT Adaptive Biking - Warren
DESCRIPTION:Join us for some biking on the bike path! Reservations required. Equipment is available\, but limited. Reserve your spot today by emailing Sarah at north@vermontadaptive.org. \nDate : 10/10/2023 – 10/10/2023 \nTime: 10 a.m. – noon \nLocation: Bike Path in Warren\, VT \nCost: Rates vary\, scholarships available
URL:https://vmba.org/event/vt-adaptive-biking-warren/
LOCATION:Warren Bike Path\, Warren\, VT
CATEGORIES:Adaptive Demos,Group Rides / Races
END:VEVENT
BEGIN:VEVENT
DTSTART;VALUE=DATE:20231018
DTEND;VALUE=DATE:20231019
DTSTAMP:20260421T181239
CREATED:20231006T160410Z
LAST-MODIFIED:20231006T160410Z
UID:79837-1697587200-1697673599@vmba.org
SUMMARY:VT Adaptive MTB - Warren
DESCRIPTION:Join us for some biking on the bike path! Reservations required. Equipment is available\, but limited. Reserve your spot today by emailing Sarah at north@vermontadaptive.org. \nDate : 10/18/2023 – 10/18/2023 \nTime: 10 a.m. – noon\, 1-3 p.m. OR Full Day \nLocation: Norm Robinson Rd.\, Warren\, VT \nCost: Rates vary\, scholarships available.
URL:https://vmba.org/event/vt-adaptive-biking-warren-2/
LOCATION:Norm Robinson Rd\, Warren\, VT
CATEGORIES:Adaptive Demos,Group Rides / Races
END:VEVENT
BEGIN:VEVENT
DTSTART;VALUE=DATE:20231019
DTEND;VALUE=DATE:20231020
DTSTAMP:20260421T181239
CREATED:20231006T160637Z
LAST-MODIFIED:20231006T160637Z
UID:79840-1697673600-1697759999@vmba.org
SUMMARY:VT Adaptive Biking - Stowe Bike Path
DESCRIPTION:Join us for some biking on the bike path! Reservations required. Equipment is available\, but limited. Reserve your spot today by emailing Sarah at north@vermontadaptive.org. \nDate : 10/19/2023 – 10/19/2023 \nTime: 10 a.m. – noon\, 1-3 p.m. OR Full Day \nLocation: Stowe Bike Path at Thompson Park\, Stowe\, VT \nCost: Rates vary\, scholarships available.
URL:https://vmba.org/event/vt-adaptive-biking-warren-2-2-2/
LOCATION:Stowe Rec Path\, Stowe\, VT
CATEGORIES:Adaptive Demos,Group Rides / Races
END:VEVENT
BEGIN:VEVENT
DTSTART;TZID=America/New_York:20231019T170000
DTEND;TZID=America/New_York:20231019T190000
DTSTAMP:20260421T181239
CREATED:20231006T160517Z
LAST-MODIFIED:20231006T160517Z
UID:79839-1697734800-1697742000@vmba.org
SUMMARY:VT Adaptive MTB - Mud Pond
DESCRIPTION:Join us for some biking on the bike path! Reservations required. Equipment is available\, but limited. Reserve your spot today by emailing Sarah at north@vermontadaptive.org. \nDate : 10/19/2023 – 10/19/2023 \nTime: 5:00 PM – 7:00 PM \nLocation: Mud Pond\, Williston VT \nCost: Rates vary\, scholarships available.
URL:https://vmba.org/event/vt-adaptive-biking-warren-2-2/
LOCATION:Mud Pond\, Mud Ppond Rd\, Williston\, VT\, 05495
CATEGORIES:Adaptive Demos,Group Rides / Races
END:VEVENT
BEGIN:VEVENT
DTSTART;TZID=America/New_York:20231024T130000
DTEND;TZID=America/New_York:20231024T150000
DTSTAMP:20260421T181239
CREATED:20231006T160755Z
LAST-MODIFIED:20231006T160755Z
UID:79844-1698152400-1698159600@vmba.org
SUMMARY:VT Adaptive Biking - Montpelier Bike Path
DESCRIPTION:Join us for some biking on the bike path! Reservations required. Equipment is available\, but limited. Reserve your spot today by emailing Sarah at north@vermontadaptive.org. \nDate : 10/24/2023 – 10/24/2023 \nTime: 1-3 p.m. \nLocation: Bike Path in Montpelier\, VT \nCost: Rates vary\, scholarships available
URL:https://vmba.org/event/vt-adaptive-biking-warren-2-2-2-2/
LOCATION:Montpelier Bike Path\, Montpelier\, VT
CATEGORIES:Adaptive Demos,Group Rides / Races
END:VEVENT
BEGIN:VEVENT
DTSTART;TZID=America/New_York:20231028T110000
DTEND;TZID=America/New_York:20231028T210000
DTSTAMP:20260421T181239
CREATED:20221230T154125Z
LAST-MODIFIED:20231025T234807Z
UID:44162-1698490800-1698526800@vmba.org
SUMMARY:VMBA Member Party
DESCRIPTION:What a wild season it’s been! From an early dry start to the wettest summer on record\, we’ve poured our hearts into our local communities and the trails we steward. To show our appreciation to all our amazing members\, volunteers\, and partners\, we’re throwing a Member Party and Season Celebration at Saskadena Six!  \nThis isn’t just any party; it’s a riding party! Starting at 11am\, we’ll kick off the day with group rides departing from the Mt. Peg & Aqueduct trailheads\, led by VMBA\, WAMBA\, WTB\, Velocio\, and Julbo. Check below and on Eventbrite for all the details.  \nAt 2pm the party begins in earnest at Saskadena Six. The trails will open back up to the general public and we’ll have free E-bike demos from Specialized and Bosch\, available alongside our Chapters’ tents next to the S6 base lodge. At 3:30pm\, VMBA will lead intermediate and advanced group rides from the base. Be sure to register for the group rides through Eventbrite. We want to make sure we have a headcount and don’t leave without you! \nAs the sunlight wanes and after everyone’s had their fill of riding\, we’ll head into the base lodge for food and fun. Starting at 4:30pm\, swing by the VMBA welcome tent to collect your food & beverage ticket. We’ve teamed up with Trail Break\, Lawsons\, and Stowe Cider to treat every VMBA member to two tacos of your choice and a complimentary adult beverage.  \nAt the VMBA welcome tent\, you can also grab your raffle tickets for the evening. We’re  giving away a RockShox fork\, a year’s supply of Cabot cheese\, Julbo sunglasses\, a VT Huts trip package to Richmond\, $300 Gift Cards to Velocio\, FiveTen shoes\, and more!  \nInside the base lodge\, we’ll also have partners from this season\, music\, and showcase some of the highlights from the past year. At 7pm\, we’ll be screening a few short films that VMBA & Lawsons helped support\, including a sizzle reel from Alex Showerman’s video “Coming Home” and full edit of Myles Trainer’s “Back to the Roots.” After these rad films\, we’ll give a  little year-in-review before we announce the latest round of Naming Grants\, Rewards Volunteer Grand Prize winner\, and the raffle drawing.  \nMake sure to secure your ticket for the event so we can plan accordingly!Tickets are limited and you must have one to attend.  Don’t miss your chance to end the season on a high note!  \nFor VMBA Members\, your ticket to our epic Member Party is on the house! Come celebrate the season with us for free (ticket still required!). If you’re not a member\, no worries – you can still join the party by becoming a VMBA Member or\, if you prefer\, you can grab a non-member ticket through Eventbrite and jump right into the fun! Tickets are $20 for adults \,$10 for kids 12 and under. \nA major shout out to our partners that will be supporting us for this fun event! We couldn’t have pulled it off without Trail Break Food\, Lawson’s\, Stowe Cider\, SRAM\, RockShox\, Mola Hoodies\, FiveTen\, Upstate Elevator\, SDR Clothing Co.\, Vermont Federal Credit Union\, Trash Co.\, Cabot\, Julbo\, and – of course – our Members! \nIf you want to make it a full weekend\, we also have several lodging deals for Members.  \nVMBA Members Lodging: \nSaskadena Six: Camp in the parking area Saturday night for just $25. Email s6info@woodstockinn.com with your full name\, contact info\, and the make & model of the vehicle. Tents are also welcome.  \n506 On The River Inn: 10% Off your reservation. Call for reservations and be sure to mention you’re a VMBA Member.
URL:https://vmba.org/event/vmba-member-party-2/
LOCATION:Saskadena Six Ski Area\, 247 Stage Rd\, South Pomfret\, 05067
CATEGORIES:Adaptive Demos,Festivals/Parties,Group Outing,Group Rides / Races
ATTACH;FMTTYPE=image/jpeg:https://vmba.org/wp-content/uploads/2022/12/D21-10-03_0828-scaled.jpg
ORGANIZER;CN="Vermont Mountain Bike Association":MAILTO:Joe@vmba.org
END:VEVENT
END:VCALENDAR